BEGIN:VCALENDAR
VERSION:2.0
PRODID:-//Gig Harbor Events - ECPv6.15.20//NONSGML v1.0//EN
CALSCALE:GREGORIAN
METHOD:PUBLISH
X-ORIGINAL-URL:https://gigharborcommunity.com
X-WR-CALDESC:Events for Gig Harbor Events
REFRESH-INTERVAL;VALUE=DURATION:PT1H
X-Robots-Tag:noindex
X-PUBLISHED-TTL:PT1H
BEGIN:VTIMEZONE
TZID:America/Los_Angeles
BEGIN:DAYLIGHT
TZOFFSETFROM:-0800
TZOFFSETTO:-0700
TZNAME:PDT
DTSTART:20250309T100000
END:DAYLIGHT
BEGIN:STANDARD
TZOFFSETFROM:-0700
TZOFFSETTO:-0800
TZNAME:PST
DTSTART:20251102T090000
END:STANDARD
BEGIN:DAYLIGHT
TZOFFSETFROM:-0800
TZOFFSETTO:-0700
TZNAME:PDT
DTSTART:20260308T100000
END:DAYLIGHT
BEGIN:STANDARD
TZOFFSETFROM:-0700
TZOFFSETTO:-0800
TZNAME:PST
DTSTART:20261101T090000
END:STANDARD
BEGIN:DAYLIGHT
TZOFFSETFROM:-0800
TZOFFSETTO:-0700
TZNAME:PDT
DTSTART:20270314T100000
END:DAYLIGHT
BEGIN:STANDARD
TZOFFSETFROM:-0700
TZOFFSETTO:-0800
TZNAME:PST
DTSTART:20271107T090000
END:STANDARD
END:VTIMEZONE
BEGIN:VEVENT
DTSTART;TZID=America/Los_Angeles:20260423T182000
DTEND;TZID=America/Los_Angeles:20260423T202000
DTSTAMP:20260420T081417
CREATED:20250704T203340Z
LAST-MODIFIED:20250704T203340Z
UID:10050902-1776968400-1776975600@gigharborcommunity.com
SUMMARY:Trek Gig Harbor - Thursday Night Gravel Ride
DESCRIPTION:Join us for a party pace gravel bike ride in the Gig Harbor area. Expect 8-15 miles and moderate elevation. Typical ride is about 1 hour 30 minutes. 35mm or wider tires recommended. Helmet required.
URL:https://gigharborcommunity.com/event/trek-gig-harbor-thursday-night-gravel-ride/2026-04-23/
LOCATION:Trek Gig Harbor\, 6820 Kimball Drive #b1\, WA\, 98335\, United States
CATEGORIES:Fitness & Wellness,Sports
END:VEVENT
BEGIN:VEVENT
DTSTART;TZID=America/Los_Angeles:20260430T182000
DTEND;TZID=America/Los_Angeles:20260430T202000
DTSTAMP:20260420T081417
CREATED:20250704T203340Z
LAST-MODIFIED:20250704T203340Z
UID:10050903-1777573200-1777580400@gigharborcommunity.com
SUMMARY:Trek Gig Harbor - Thursday Night Gravel Ride
DESCRIPTION:Join us for a party pace gravel bike ride in the Gig Harbor area. Expect 8-15 miles and moderate elevation. Typical ride is about 1 hour 30 minutes. 35mm or wider tires recommended. Helmet required.
URL:https://gigharborcommunity.com/event/trek-gig-harbor-thursday-night-gravel-ride/2026-04-30/
LOCATION:Trek Gig Harbor\, 6820 Kimball Drive #b1\, WA\, 98335\, United States
CATEGORIES:Fitness & Wellness,Sports
END:VEVENT
BEGIN:VEVENT
DTSTART;TZID=America/Los_Angeles:20260507T182000
DTEND;TZID=America/Los_Angeles:20260507T202000
DTSTAMP:20260420T081417
CREATED:20250704T203340Z
LAST-MODIFIED:20250704T203340Z
UID:10050904-1778178000-1778185200@gigharborcommunity.com
SUMMARY:Trek Gig Harbor - Thursday Night Gravel Ride
DESCRIPTION:Join us for a party pace gravel bike ride in the Gig Harbor area. Expect 8-15 miles and moderate elevation. Typical ride is about 1 hour 30 minutes. 35mm or wider tires recommended. Helmet required.
URL:https://gigharborcommunity.com/event/trek-gig-harbor-thursday-night-gravel-ride/2026-05-07/
LOCATION:Trek Gig Harbor\, 6820 Kimball Drive #b1\, WA\, 98335\, United States
CATEGORIES:Fitness & Wellness,Sports
END:VEVENT
BEGIN:VEVENT
DTSTART;TZID=America/Los_Angeles:20260514T182000
DTEND;TZID=America/Los_Angeles:20260514T202000
DTSTAMP:20260420T081417
CREATED:20250704T203340Z
LAST-MODIFIED:20250704T203340Z
UID:10050905-1778782800-1778790000@gigharborcommunity.com
SUMMARY:Trek Gig Harbor - Thursday Night Gravel Ride
DESCRIPTION:Join us for a party pace gravel bike ride in the Gig Harbor area. Expect 8-15 miles and moderate elevation. Typical ride is about 1 hour 30 minutes. 35mm or wider tires recommended. Helmet required.
URL:https://gigharborcommunity.com/event/trek-gig-harbor-thursday-night-gravel-ride/2026-05-14/
LOCATION:Trek Gig Harbor\, 6820 Kimball Drive #b1\, WA\, 98335\, United States
CATEGORIES:Fitness & Wellness,Sports
END:VEVENT
BEGIN:VEVENT
DTSTART;TZID=America/Los_Angeles:20260521T182000
DTEND;TZID=America/Los_Angeles:20260521T202000
DTSTAMP:20260420T081417
CREATED:20250704T203340Z
LAST-MODIFIED:20250704T203340Z
UID:10050906-1779387600-1779394800@gigharborcommunity.com
SUMMARY:Trek Gig Harbor - Thursday Night Gravel Ride
DESCRIPTION:Join us for a party pace gravel bike ride in the Gig Harbor area. Expect 8-15 miles and moderate elevation. Typical ride is about 1 hour 30 minutes. 35mm or wider tires recommended. Helmet required.
URL:https://gigharborcommunity.com/event/trek-gig-harbor-thursday-night-gravel-ride/2026-05-21/
LOCATION:Trek Gig Harbor\, 6820 Kimball Drive #b1\, WA\, 98335\, United States
CATEGORIES:Fitness & Wellness,Sports
END:VEVENT
BEGIN:VEVENT
DTSTART;TZID=America/Los_Angeles:20260528T182000
DTEND;TZID=America/Los_Angeles:20260528T202000
DTSTAMP:20260420T081417
CREATED:20250704T203340Z
LAST-MODIFIED:20250704T203340Z
UID:10050907-1779992400-1779999600@gigharborcommunity.com
SUMMARY:Trek Gig Harbor - Thursday Night Gravel Ride
DESCRIPTION:Join us for a party pace gravel bike ride in the Gig Harbor area. Expect 8-15 miles and moderate elevation. Typical ride is about 1 hour 30 minutes. 35mm or wider tires recommended. Helmet required.
URL:https://gigharborcommunity.com/event/trek-gig-harbor-thursday-night-gravel-ride/2026-05-28/
LOCATION:Trek Gig Harbor\, 6820 Kimball Drive #b1\, WA\, 98335\, United States
CATEGORIES:Fitness & Wellness,Sports
END:VEVENT
BEGIN:VEVENT
DTSTART;TZID=America/Los_Angeles:20260604T182000
DTEND;TZID=America/Los_Angeles:20260604T202000
DTSTAMP:20260420T081417
CREATED:20250704T203340Z
LAST-MODIFIED:20250704T203340Z
UID:10050908-1780597200-1780604400@gigharborcommunity.com
SUMMARY:Trek Gig Harbor - Thursday Night Gravel Ride
DESCRIPTION:Join us for a party pace gravel bike ride in the Gig Harbor area. Expect 8-15 miles and moderate elevation. Typical ride is about 1 hour 30 minutes. 35mm or wider tires recommended. Helmet required.
URL:https://gigharborcommunity.com/event/trek-gig-harbor-thursday-night-gravel-ride/2026-06-04/
LOCATION:Trek Gig Harbor\, 6820 Kimball Drive #b1\, WA\, 98335\, United States
CATEGORIES:Fitness & Wellness,Sports
END:VEVENT
BEGIN:VEVENT
DTSTART;TZID=America/Los_Angeles:20260611T182000
DTEND;TZID=America/Los_Angeles:20260611T202000
DTSTAMP:20260420T081417
CREATED:20250704T203340Z
LAST-MODIFIED:20250704T203340Z
UID:10050909-1781202000-1781209200@gigharborcommunity.com
SUMMARY:Trek Gig Harbor - Thursday Night Gravel Ride
DESCRIPTION:Join us for a party pace gravel bike ride in the Gig Harbor area. Expect 8-15 miles and moderate elevation. Typical ride is about 1 hour 30 minutes. 35mm or wider tires recommended. Helmet required.
URL:https://gigharborcommunity.com/event/trek-gig-harbor-thursday-night-gravel-ride/2026-06-11/
LOCATION:Trek Gig Harbor\, 6820 Kimball Drive #b1\, WA\, 98335\, United States
CATEGORIES:Fitness & Wellness,Sports
END:VEVENT
BEGIN:VEVENT
DTSTART;TZID=America/Los_Angeles:20260618T182000
DTEND;TZID=America/Los_Angeles:20260618T202000
DTSTAMP:20260420T081417
CREATED:20250704T203340Z
LAST-MODIFIED:20250704T203340Z
UID:10050910-1781806800-1781814000@gigharborcommunity.com
SUMMARY:Trek Gig Harbor - Thursday Night Gravel Ride
DESCRIPTION:Join us for a party pace gravel bike ride in the Gig Harbor area. Expect 8-15 miles and moderate elevation. Typical ride is about 1 hour 30 minutes. 35mm or wider tires recommended. Helmet required.
URL:https://gigharborcommunity.com/event/trek-gig-harbor-thursday-night-gravel-ride/2026-06-18/
LOCATION:Trek Gig Harbor\, 6820 Kimball Drive #b1\, WA\, 98335\, United States
CATEGORIES:Fitness & Wellness,Sports
END:VEVENT
BEGIN:VEVENT
DTSTART;TZID=America/Los_Angeles:20260625T182000
DTEND;TZID=America/Los_Angeles:20260625T202000
DTSTAMP:20260420T081417
CREATED:20250704T203340Z
LAST-MODIFIED:20250704T203340Z
UID:10050911-1782411600-1782418800@gigharborcommunity.com
SUMMARY:Trek Gig Harbor - Thursday Night Gravel Ride
DESCRIPTION:Join us for a party pace gravel bike ride in the Gig Harbor area. Expect 8-15 miles and moderate elevation. Typical ride is about 1 hour 30 minutes. 35mm or wider tires recommended. Helmet required.
URL:https://gigharborcommunity.com/event/trek-gig-harbor-thursday-night-gravel-ride/2026-06-25/
LOCATION:Trek Gig Harbor\, 6820 Kimball Drive #b1\, WA\, 98335\, United States
CATEGORIES:Fitness & Wellness,Sports
END:VEVENT
BEGIN:VEVENT
DTSTART;TZID=America/Los_Angeles:20260702T182000
DTEND;TZID=America/Los_Angeles:20260702T202000
DTSTAMP:20260420T081417
CREATED:20250704T203340Z
LAST-MODIFIED:20250704T203340Z
UID:10050912-1783016400-1783023600@gigharborcommunity.com
SUMMARY:Trek Gig Harbor - Thursday Night Gravel Ride
DESCRIPTION:Join us for a party pace gravel bike ride in the Gig Harbor area. Expect 8-15 miles and moderate elevation. Typical ride is about 1 hour 30 minutes. 35mm or wider tires recommended. Helmet required.
URL:https://gigharborcommunity.com/event/trek-gig-harbor-thursday-night-gravel-ride/2026-07-02/
LOCATION:Trek Gig Harbor\, 6820 Kimball Drive #b1\, WA\, 98335\, United States
CATEGORIES:Fitness & Wellness,Sports
END:VEVENT
BEGIN:VEVENT
DTSTART;TZID=America/Los_Angeles:20260709T182000
DTEND;TZID=America/Los_Angeles:20260709T202000
DTSTAMP:20260420T081417
CREATED:20250704T203340Z
LAST-MODIFIED:20250704T203340Z
UID:10050913-1783621200-1783628400@gigharborcommunity.com
SUMMARY:Trek Gig Harbor - Thursday Night Gravel Ride
DESCRIPTION:Join us for a party pace gravel bike ride in the Gig Harbor area. Expect 8-15 miles and moderate elevation. Typical ride is about 1 hour 30 minutes. 35mm or wider tires recommended. Helmet required.
URL:https://gigharborcommunity.com/event/trek-gig-harbor-thursday-night-gravel-ride/2026-07-09/
LOCATION:Trek Gig Harbor\, 6820 Kimball Drive #b1\, WA\, 98335\, United States
CATEGORIES:Fitness & Wellness,Sports
END:VEVENT
END:VCALENDAR