BEGIN:VCALENDAR
VERSION:2.0
PRODID:-//Gig Harbor Events - ECPv6.15.20//NONSGML v1.0//EN
CALSCALE:GREGORIAN
METHOD:PUBLISH
X-WR-CALNAME:Gig Harbor Events
X-ORIGINAL-URL:https://gigharborcommunity.com
X-WR-CALDESC:Events for Gig Harbor Events
REFRESH-INTERVAL;VALUE=DURATION:PT1H
X-Robots-Tag:noindex
X-PUBLISHED-TTL:PT1H
BEGIN:VTIMEZONE
TZID:America/Los_Angeles
BEGIN:DAYLIGHT
TZOFFSETFROM:-0800
TZOFFSETTO:-0700
TZNAME:PDT
DTSTART:20240310T100000
END:DAYLIGHT
BEGIN:STANDARD
TZOFFSETFROM:-0700
TZOFFSETTO:-0800
TZNAME:PST
DTSTART:20241103T090000
END:STANDARD
BEGIN:DAYLIGHT
TZOFFSETFROM:-0800
TZOFFSETTO:-0700
TZNAME:PDT
DTSTART:20250309T100000
END:DAYLIGHT
BEGIN:STANDARD
TZOFFSETFROM:-0700
TZOFFSETTO:-0800
TZNAME:PST
DTSTART:20251102T090000
END:STANDARD
BEGIN:DAYLIGHT
TZOFFSETFROM:-0800
TZOFFSETTO:-0700
TZNAME:PDT
DTSTART:20260308T100000
END:DAYLIGHT
BEGIN:STANDARD
TZOFFSETFROM:-0700
TZOFFSETTO:-0800
TZNAME:PST
DTSTART:20261101T090000
END:STANDARD
BEGIN:DAYLIGHT
TZOFFSETFROM:-0800
TZOFFSETTO:-0700
TZNAME:PDT
DTSTART:20270314T100000
END:DAYLIGHT
BEGIN:STANDARD
TZOFFSETFROM:-0700
TZOFFSETTO:-0800
TZNAME:PST
DTSTART:20271107T090000
END:STANDARD
END:VTIMEZONE
BEGIN:VEVENT
DTSTART;TZID=America/Los_Angeles:20260225T191500
DTEND;TZID=America/Los_Angeles:20260225T210000
DTSTAMP:20260420T013303
CREATED:20240630T013050Z
LAST-MODIFIED:20240704T175725Z
UID:10013331-1772046900-1772053200@gigharborcommunity.com
SUMMARY:Trivia Night at The Float
DESCRIPTION:
URL:https://gigharborcommunity.com/event/trivia-night-at-the-float/2026-02-25/
LOCATION:The Floatation Device\, 14511 Sherman Dr NW\, Gig Harbor\, WA\, 98332
CATEGORIES:Food & Drink,Trivia & Games
END:VEVENT
BEGIN:VEVENT
DTSTART;TZID=America/Los_Angeles:20260220T203000
DTEND;TZID=America/Los_Angeles:20260220T203000
DTSTAMP:20260420T013303
CREATED:20240630T013051Z
LAST-MODIFIED:20240704T175454Z
UID:10029109-1771619400-1771619400@gigharborcommunity.com
SUMMARY:Karaoke at The Float
DESCRIPTION:
URL:https://gigharborcommunity.com/event/karaoke-at-the-float/2026-02-20/
LOCATION:The Floatation Device\, 14511 Sherman Dr NW\, Gig Harbor\, WA\, 98332
CATEGORIES:Food & Drink,Karaoke
END:VEVENT
BEGIN:VEVENT
DTSTART;TZID=America/Los_Angeles:20260219T203000
DTEND;TZID=America/Los_Angeles:20260219T203000
DTSTAMP:20260420T013303
CREATED:20240630T013051Z
LAST-MODIFIED:20240704T175454Z
UID:10029108-1771533000-1771533000@gigharborcommunity.com
SUMMARY:Karaoke at The Float
DESCRIPTION:
URL:https://gigharborcommunity.com/event/karaoke-at-the-float/2026-02-19/
LOCATION:The Floatation Device\, 14511 Sherman Dr NW\, Gig Harbor\, WA\, 98332
CATEGORIES:Food & Drink,Karaoke
END:VEVENT
BEGIN:VEVENT
DTSTART;TZID=America/Los_Angeles:20260218T191500
DTEND;TZID=America/Los_Angeles:20260218T210000
DTSTAMP:20260420T013303
CREATED:20240630T013050Z
LAST-MODIFIED:20240704T175725Z
UID:10013330-1771442100-1771448400@gigharborcommunity.com
SUMMARY:Trivia Night at The Float
DESCRIPTION:
URL:https://gigharborcommunity.com/event/trivia-night-at-the-float/2026-02-18/
LOCATION:The Floatation Device\, 14511 Sherman Dr NW\, Gig Harbor\, WA\, 98332
CATEGORIES:Food & Drink,Trivia & Games
END:VEVENT
BEGIN:VEVENT
DTSTART;TZID=America/Los_Angeles:20260213T203000
DTEND;TZID=America/Los_Angeles:20260213T203000
DTSTAMP:20260420T013303
CREATED:20240630T013051Z
LAST-MODIFIED:20240704T175454Z
UID:10029107-1771014600-1771014600@gigharborcommunity.com
SUMMARY:Karaoke at The Float
DESCRIPTION:
URL:https://gigharborcommunity.com/event/karaoke-at-the-float/2026-02-13/
LOCATION:The Floatation Device\, 14511 Sherman Dr NW\, Gig Harbor\, WA\, 98332
CATEGORIES:Food & Drink,Karaoke
END:VEVENT
BEGIN:VEVENT
DTSTART;TZID=America/Los_Angeles:20260212T203000
DTEND;TZID=America/Los_Angeles:20260212T203000
DTSTAMP:20260420T013303
CREATED:20240630T013051Z
LAST-MODIFIED:20240704T175454Z
UID:10029106-1770928200-1770928200@gigharborcommunity.com
SUMMARY:Karaoke at The Float
DESCRIPTION:
URL:https://gigharborcommunity.com/event/karaoke-at-the-float/2026-02-12/
LOCATION:The Floatation Device\, 14511 Sherman Dr NW\, Gig Harbor\, WA\, 98332
CATEGORIES:Food & Drink,Karaoke
END:VEVENT
BEGIN:VEVENT
DTSTART;TZID=America/Los_Angeles:20260211T191500
DTEND;TZID=America/Los_Angeles:20260211T210000
DTSTAMP:20260420T013303
CREATED:20240630T013050Z
LAST-MODIFIED:20240704T175725Z
UID:10013329-1770837300-1770843600@gigharborcommunity.com
SUMMARY:Trivia Night at The Float
DESCRIPTION:
URL:https://gigharborcommunity.com/event/trivia-night-at-the-float/2026-02-11/
LOCATION:The Floatation Device\, 14511 Sherman Dr NW\, Gig Harbor\, WA\, 98332
CATEGORIES:Food & Drink,Trivia & Games
END:VEVENT
BEGIN:VEVENT
DTSTART;TZID=America/Los_Angeles:20260206T203000
DTEND;TZID=America/Los_Angeles:20260206T203000
DTSTAMP:20260420T013303
CREATED:20240630T013051Z
LAST-MODIFIED:20240704T175454Z
UID:10029105-1770409800-1770409800@gigharborcommunity.com
SUMMARY:Karaoke at The Float
DESCRIPTION:
URL:https://gigharborcommunity.com/event/karaoke-at-the-float/2026-02-06/
LOCATION:The Floatation Device\, 14511 Sherman Dr NW\, Gig Harbor\, WA\, 98332
CATEGORIES:Food & Drink,Karaoke
END:VEVENT
BEGIN:VEVENT
DTSTART;TZID=America/Los_Angeles:20260205T203000
DTEND;TZID=America/Los_Angeles:20260205T203000
DTSTAMP:20260420T013303
CREATED:20240630T013051Z
LAST-MODIFIED:20240704T175454Z
UID:10029104-1770323400-1770323400@gigharborcommunity.com
SUMMARY:Karaoke at The Float
DESCRIPTION:
URL:https://gigharborcommunity.com/event/karaoke-at-the-float/2026-02-05/
LOCATION:The Floatation Device\, 14511 Sherman Dr NW\, Gig Harbor\, WA\, 98332
CATEGORIES:Food & Drink,Karaoke
END:VEVENT
BEGIN:VEVENT
DTSTART;TZID=America/Los_Angeles:20260204T191500
DTEND;TZID=America/Los_Angeles:20260204T210000
DTSTAMP:20260420T013303
CREATED:20240630T013050Z
LAST-MODIFIED:20240704T175725Z
UID:10013328-1770232500-1770238800@gigharborcommunity.com
SUMMARY:Trivia Night at The Float
DESCRIPTION:
URL:https://gigharborcommunity.com/event/trivia-night-at-the-float/2026-02-04/
LOCATION:The Floatation Device\, 14511 Sherman Dr NW\, Gig Harbor\, WA\, 98332
CATEGORIES:Food & Drink,Trivia & Games
END:VEVENT
BEGIN:VEVENT
DTSTART;TZID=America/Los_Angeles:20260130T203000
DTEND;TZID=America/Los_Angeles:20260130T203000
DTSTAMP:20260420T013303
CREATED:20240630T013051Z
LAST-MODIFIED:20240704T175454Z
UID:10029103-1769805000-1769805000@gigharborcommunity.com
SUMMARY:Karaoke at The Float
DESCRIPTION:
URL:https://gigharborcommunity.com/event/karaoke-at-the-float/2026-01-30/
LOCATION:The Floatation Device\, 14511 Sherman Dr NW\, Gig Harbor\, WA\, 98332
CATEGORIES:Food & Drink,Karaoke
END:VEVENT
BEGIN:VEVENT
DTSTART;TZID=America/Los_Angeles:20260129T203000
DTEND;TZID=America/Los_Angeles:20260129T203000
DTSTAMP:20260420T013303
CREATED:20240630T013051Z
LAST-MODIFIED:20240704T175454Z
UID:10029102-1769718600-1769718600@gigharborcommunity.com
SUMMARY:Karaoke at The Float
DESCRIPTION:
URL:https://gigharborcommunity.com/event/karaoke-at-the-float/2026-01-29/
LOCATION:The Floatation Device\, 14511 Sherman Dr NW\, Gig Harbor\, WA\, 98332
CATEGORIES:Food & Drink,Karaoke
END:VEVENT
BEGIN:VEVENT
DTSTART;TZID=America/Los_Angeles:20260128T191500
DTEND;TZID=America/Los_Angeles:20260128T210000
DTSTAMP:20260420T013303
CREATED:20240630T013050Z
LAST-MODIFIED:20240704T175725Z
UID:10013327-1769627700-1769634000@gigharborcommunity.com
SUMMARY:Trivia Night at The Float
DESCRIPTION:
URL:https://gigharborcommunity.com/event/trivia-night-at-the-float/2026-01-28/
LOCATION:The Floatation Device\, 14511 Sherman Dr NW\, Gig Harbor\, WA\, 98332
CATEGORIES:Food & Drink,Trivia & Games
END:VEVENT
BEGIN:VEVENT
DTSTART;TZID=America/Los_Angeles:20260123T203000
DTEND;TZID=America/Los_Angeles:20260123T203000
DTSTAMP:20260420T013303
CREATED:20240630T013051Z
LAST-MODIFIED:20240704T175454Z
UID:10029101-1769200200-1769200200@gigharborcommunity.com
SUMMARY:Karaoke at The Float
DESCRIPTION:
URL:https://gigharborcommunity.com/event/karaoke-at-the-float/2026-01-23/
LOCATION:The Floatation Device\, 14511 Sherman Dr NW\, Gig Harbor\, WA\, 98332
CATEGORIES:Food & Drink,Karaoke
END:VEVENT
BEGIN:VEVENT
DTSTART;TZID=America/Los_Angeles:20260122T203000
DTEND;TZID=America/Los_Angeles:20260122T203000
DTSTAMP:20260420T013303
CREATED:20240630T013051Z
LAST-MODIFIED:20240704T175454Z
UID:10029100-1769113800-1769113800@gigharborcommunity.com
SUMMARY:Karaoke at The Float
DESCRIPTION:
URL:https://gigharborcommunity.com/event/karaoke-at-the-float/2026-01-22/
LOCATION:The Floatation Device\, 14511 Sherman Dr NW\, Gig Harbor\, WA\, 98332
CATEGORIES:Food & Drink,Karaoke
END:VEVENT
BEGIN:VEVENT
DTSTART;TZID=America/Los_Angeles:20260121T191500
DTEND;TZID=America/Los_Angeles:20260121T210000
DTSTAMP:20260420T013303
CREATED:20240630T013050Z
LAST-MODIFIED:20240704T175725Z
UID:10013326-1769022900-1769029200@gigharborcommunity.com
SUMMARY:Trivia Night at The Float
DESCRIPTION:
URL:https://gigharborcommunity.com/event/trivia-night-at-the-float/2026-01-21/
LOCATION:The Floatation Device\, 14511 Sherman Dr NW\, Gig Harbor\, WA\, 98332
CATEGORIES:Food & Drink,Trivia & Games
END:VEVENT
BEGIN:VEVENT
DTSTART;TZID=America/Los_Angeles:20260116T203000
DTEND;TZID=America/Los_Angeles:20260116T203000
DTSTAMP:20260420T013303
CREATED:20240630T013051Z
LAST-MODIFIED:20240704T175454Z
UID:10029099-1768595400-1768595400@gigharborcommunity.com
SUMMARY:Karaoke at The Float
DESCRIPTION:
URL:https://gigharborcommunity.com/event/karaoke-at-the-float/2026-01-16/
LOCATION:The Floatation Device\, 14511 Sherman Dr NW\, Gig Harbor\, WA\, 98332
CATEGORIES:Food & Drink,Karaoke
END:VEVENT
BEGIN:VEVENT
DTSTART;TZID=America/Los_Angeles:20260115T203000
DTEND;TZID=America/Los_Angeles:20260115T203000
DTSTAMP:20260420T013303
CREATED:20240630T013051Z
LAST-MODIFIED:20240704T175454Z
UID:10029098-1768509000-1768509000@gigharborcommunity.com
SUMMARY:Karaoke at The Float
DESCRIPTION:
URL:https://gigharborcommunity.com/event/karaoke-at-the-float/2026-01-15/
LOCATION:The Floatation Device\, 14511 Sherman Dr NW\, Gig Harbor\, WA\, 98332
CATEGORIES:Food & Drink,Karaoke
END:VEVENT
BEGIN:VEVENT
DTSTART;TZID=America/Los_Angeles:20260114T191500
DTEND;TZID=America/Los_Angeles:20260114T210000
DTSTAMP:20260420T013303
CREATED:20240630T013050Z
LAST-MODIFIED:20240704T175725Z
UID:10013325-1768418100-1768424400@gigharborcommunity.com
SUMMARY:Trivia Night at The Float
DESCRIPTION:
URL:https://gigharborcommunity.com/event/trivia-night-at-the-float/2026-01-14/
LOCATION:The Floatation Device\, 14511 Sherman Dr NW\, Gig Harbor\, WA\, 98332
CATEGORIES:Food & Drink,Trivia & Games
END:VEVENT
BEGIN:VEVENT
DTSTART;TZID=America/Los_Angeles:20260109T203000
DTEND;TZID=America/Los_Angeles:20260109T203000
DTSTAMP:20260420T013303
CREATED:20240630T013051Z
LAST-MODIFIED:20240704T175454Z
UID:10029097-1767990600-1767990600@gigharborcommunity.com
SUMMARY:Karaoke at The Float
DESCRIPTION:
URL:https://gigharborcommunity.com/event/karaoke-at-the-float/2026-01-09/
LOCATION:The Floatation Device\, 14511 Sherman Dr NW\, Gig Harbor\, WA\, 98332
CATEGORIES:Food & Drink,Karaoke
END:VEVENT
BEGIN:VEVENT
DTSTART;TZID=America/Los_Angeles:20260108T203000
DTEND;TZID=America/Los_Angeles:20260108T203000
DTSTAMP:20260420T013303
CREATED:20240630T013051Z
LAST-MODIFIED:20240704T175454Z
UID:10029096-1767904200-1767904200@gigharborcommunity.com
SUMMARY:Karaoke at The Float
DESCRIPTION:
URL:https://gigharborcommunity.com/event/karaoke-at-the-float/2026-01-08/
LOCATION:The Floatation Device\, 14511 Sherman Dr NW\, Gig Harbor\, WA\, 98332
CATEGORIES:Food & Drink,Karaoke
END:VEVENT
BEGIN:VEVENT
DTSTART;TZID=America/Los_Angeles:20260107T191500
DTEND;TZID=America/Los_Angeles:20260107T210000
DTSTAMP:20260420T013303
CREATED:20240630T013050Z
LAST-MODIFIED:20240704T175725Z
UID:10013324-1767813300-1767819600@gigharborcommunity.com
SUMMARY:Trivia Night at The Float
DESCRIPTION:
URL:https://gigharborcommunity.com/event/trivia-night-at-the-float/2026-01-07/
LOCATION:The Floatation Device\, 14511 Sherman Dr NW\, Gig Harbor\, WA\, 98332
CATEGORIES:Food & Drink,Trivia & Games
END:VEVENT
BEGIN:VEVENT
DTSTART;TZID=America/Los_Angeles:20260102T203000
DTEND;TZID=America/Los_Angeles:20260102T203000
DTSTAMP:20260420T013303
CREATED:20240630T013051Z
LAST-MODIFIED:20240704T175454Z
UID:10029095-1767385800-1767385800@gigharborcommunity.com
SUMMARY:Karaoke at The Float
DESCRIPTION:
URL:https://gigharborcommunity.com/event/karaoke-at-the-float/2026-01-02/
LOCATION:The Floatation Device\, 14511 Sherman Dr NW\, Gig Harbor\, WA\, 98332
CATEGORIES:Food & Drink,Karaoke
END:VEVENT
BEGIN:VEVENT
DTSTART;TZID=America/Los_Angeles:20260101T203000
DTEND;TZID=America/Los_Angeles:20260101T203000
DTSTAMP:20260420T013303
CREATED:20240630T013051Z
LAST-MODIFIED:20240704T175454Z
UID:10029094-1767299400-1767299400@gigharborcommunity.com
SUMMARY:Karaoke at The Float
DESCRIPTION:
URL:https://gigharborcommunity.com/event/karaoke-at-the-float/2026-01-01/
LOCATION:The Floatation Device\, 14511 Sherman Dr NW\, Gig Harbor\, WA\, 98332
CATEGORIES:Food & Drink,Karaoke
END:VEVENT
BEGIN:VEVENT
DTSTART;TZID=America/Los_Angeles:20251231T191500
DTEND;TZID=America/Los_Angeles:20251231T210000
DTSTAMP:20260420T013303
CREATED:20240630T013050Z
LAST-MODIFIED:20240704T175725Z
UID:10013323-1767208500-1767214800@gigharborcommunity.com
SUMMARY:Trivia Night at The Float
DESCRIPTION:
URL:https://gigharborcommunity.com/event/trivia-night-at-the-float/2025-12-31/
LOCATION:The Floatation Device\, 14511 Sherman Dr NW\, Gig Harbor\, WA\, 98332
CATEGORIES:Food & Drink,Trivia & Games
END:VEVENT
BEGIN:VEVENT
DTSTART;TZID=America/Los_Angeles:20251226T203000
DTEND;TZID=America/Los_Angeles:20251226T203000
DTSTAMP:20260420T013303
CREATED:20240630T013051Z
LAST-MODIFIED:20240704T175454Z
UID:10029093-1766781000-1766781000@gigharborcommunity.com
SUMMARY:Karaoke at The Float
DESCRIPTION:
URL:https://gigharborcommunity.com/event/karaoke-at-the-float/2025-12-26/
LOCATION:The Floatation Device\, 14511 Sherman Dr NW\, Gig Harbor\, WA\, 98332
CATEGORIES:Food & Drink,Karaoke
END:VEVENT
BEGIN:VEVENT
DTSTART;TZID=America/Los_Angeles:20251225T203000
DTEND;TZID=America/Los_Angeles:20251225T203000
DTSTAMP:20260420T013303
CREATED:20240630T013051Z
LAST-MODIFIED:20240704T175454Z
UID:10029092-1766694600-1766694600@gigharborcommunity.com
SUMMARY:Karaoke at The Float
DESCRIPTION:
URL:https://gigharborcommunity.com/event/karaoke-at-the-float/2025-12-25/
LOCATION:The Floatation Device\, 14511 Sherman Dr NW\, Gig Harbor\, WA\, 98332
CATEGORIES:Food & Drink,Karaoke
END:VEVENT
BEGIN:VEVENT
DTSTART;TZID=America/Los_Angeles:20251224T191500
DTEND;TZID=America/Los_Angeles:20251224T210000
DTSTAMP:20260420T013303
CREATED:20240630T013050Z
LAST-MODIFIED:20240704T175725Z
UID:10013322-1766603700-1766610000@gigharborcommunity.com
SUMMARY:Trivia Night at The Float
DESCRIPTION:
URL:https://gigharborcommunity.com/event/trivia-night-at-the-float/2025-12-24/
LOCATION:The Floatation Device\, 14511 Sherman Dr NW\, Gig Harbor\, WA\, 98332
CATEGORIES:Food & Drink,Trivia & Games
END:VEVENT
BEGIN:VEVENT
DTSTART;TZID=America/Los_Angeles:20251219T203000
DTEND;TZID=America/Los_Angeles:20251219T203000
DTSTAMP:20260420T013303
CREATED:20240630T013051Z
LAST-MODIFIED:20240704T175454Z
UID:10029091-1766176200-1766176200@gigharborcommunity.com
SUMMARY:Karaoke at The Float
DESCRIPTION:
URL:https://gigharborcommunity.com/event/karaoke-at-the-float/2025-12-19/
LOCATION:The Floatation Device\, 14511 Sherman Dr NW\, Gig Harbor\, WA\, 98332
CATEGORIES:Food & Drink,Karaoke
END:VEVENT
BEGIN:VEVENT
DTSTART;TZID=America/Los_Angeles:20251218T203000
DTEND;TZID=America/Los_Angeles:20251218T203000
DTSTAMP:20260420T013303
CREATED:20240630T013051Z
LAST-MODIFIED:20240704T175454Z
UID:10029090-1766089800-1766089800@gigharborcommunity.com
SUMMARY:Karaoke at The Float
DESCRIPTION:
URL:https://gigharborcommunity.com/event/karaoke-at-the-float/2025-12-18/
LOCATION:The Floatation Device\, 14511 Sherman Dr NW\, Gig Harbor\, WA\, 98332
CATEGORIES:Food & Drink,Karaoke
END:VEVENT
END:VCALENDAR