BEGIN:VCALENDAR
VERSION:2.0
PRODID:-//Gig Harbor Events - ECPv6.15.20//NONSGML v1.0//EN
CALSCALE:GREGORIAN
METHOD:PUBLISH
X-ORIGINAL-URL:https://gigharborcommunity.com
X-WR-CALDESC:Events for Gig Harbor Events
REFRESH-INTERVAL;VALUE=DURATION:PT1H
X-Robots-Tag:noindex
X-PUBLISHED-TTL:PT1H
BEGIN:VTIMEZONE
TZID:America/Los_Angeles
BEGIN:DAYLIGHT
TZOFFSETFROM:-0800
TZOFFSETTO:-0700
TZNAME:PDT
DTSTART:20250309T100000
END:DAYLIGHT
BEGIN:STANDARD
TZOFFSETFROM:-0700
TZOFFSETTO:-0800
TZNAME:PST
DTSTART:20251102T090000
END:STANDARD
BEGIN:DAYLIGHT
TZOFFSETFROM:-0800
TZOFFSETTO:-0700
TZNAME:PDT
DTSTART:20260308T100000
END:DAYLIGHT
BEGIN:STANDARD
TZOFFSETFROM:-0700
TZOFFSETTO:-0800
TZNAME:PST
DTSTART:20261101T090000
END:STANDARD
BEGIN:DAYLIGHT
TZOFFSETFROM:-0800
TZOFFSETTO:-0700
TZNAME:PDT
DTSTART:20270314T100000
END:DAYLIGHT
BEGIN:STANDARD
TZOFFSETFROM:-0700
TZOFFSETTO:-0800
TZNAME:PST
DTSTART:20271107T090000
END:STANDARD
END:VTIMEZONE
BEGIN:VEVENT
DTSTART;TZID=America/Los_Angeles:20260429T150000
DTEND;TZID=America/Los_Angeles:20260429T170000
DTSTAMP:20260425T063031
CREATED:20250704T161023Z
LAST-MODIFIED:20250704T161023Z
UID:10047947-1777474800-1777482000@gigharborcommunity.com
SUMMARY:Harbor Hour at Table 47
DESCRIPTION:
URL:https://gigharborcommunity.com/event/harbor-hour-at-table-47-2/2026-04-29/
LOCATION:Table 47\, 5268 Point Fosdick Dr\, Gig Harbor\, WA\, 98335
CATEGORIES:Food & Drink,Happy Hour
END:VEVENT
BEGIN:VEVENT
DTSTART;TZID=America/Los_Angeles:20260430T150000
DTEND;TZID=America/Los_Angeles:20260430T170000
DTSTAMP:20260425T063031
CREATED:20250704T161023Z
LAST-MODIFIED:20250704T161023Z
UID:10047948-1777561200-1777568400@gigharborcommunity.com
SUMMARY:Harbor Hour at Table 47
DESCRIPTION:
URL:https://gigharborcommunity.com/event/harbor-hour-at-table-47-2/2026-04-30/
LOCATION:Table 47\, 5268 Point Fosdick Dr\, Gig Harbor\, WA\, 98335
CATEGORIES:Food & Drink,Happy Hour
END:VEVENT
BEGIN:VEVENT
DTSTART;TZID=America/Los_Angeles:20260430T173000
DTEND;TZID=America/Los_Angeles:20260430T193000
DTSTAMP:20260425T063031
CREATED:20250714T033406Z
LAST-MODIFIED:20250714T033406Z
UID:10051550-1777570200-1777577400@gigharborcommunity.com
SUMMARY:Live Music on the Patio
DESCRIPTION:Settle in for dinner on the patio and let the music set the mood. Every Thursday from 5:30–7:30pm\, acoustic artist John Brake brings familiar favorites to life with smooth rhythms and laid-back soul.\nWhether you’re catching up with friends or enjoying a cozy date night\, John’s sound is the perfect backdrop for a relaxed evening.\n🐾Dogs welcome on the patio at Table 47!🐾\nAsk about our pup menu & treats!\nDon’t miss our Prime Rib Dinner special—available Thursday nights only.\nEvery Thursday (excluding July 3rd)\n5:30pm-7:30pm
URL:https://gigharborcommunity.com/event/live-music-on-the-patio/2026-04-30/
LOCATION:Table 47\, 5268 Point Fosdick Dr\, Gig Harbor\, WA\, 98335
CATEGORIES:Dogs,Food & Drink,Live Music
END:VEVENT
BEGIN:VEVENT
DTSTART;TZID=America/Los_Angeles:20260501T150000
DTEND;TZID=America/Los_Angeles:20260501T170000
DTSTAMP:20260425T063031
CREATED:20250704T161023Z
LAST-MODIFIED:20250704T161023Z
UID:10047949-1777647600-1777654800@gigharborcommunity.com
SUMMARY:Harbor Hour at Table 47
DESCRIPTION:
URL:https://gigharborcommunity.com/event/harbor-hour-at-table-47-2/2026-05-01/
LOCATION:Table 47\, 5268 Point Fosdick Dr\, Gig Harbor\, WA\, 98335
CATEGORIES:Food & Drink,Happy Hour
END:VEVENT
BEGIN:VEVENT
DTSTART;TZID=America/Los_Angeles:20260506T150000
DTEND;TZID=America/Los_Angeles:20260506T170000
DTSTAMP:20260425T063031
CREATED:20250704T161023Z
LAST-MODIFIED:20250704T161023Z
UID:10047950-1778079600-1778086800@gigharborcommunity.com
SUMMARY:Harbor Hour at Table 47
DESCRIPTION:
URL:https://gigharborcommunity.com/event/harbor-hour-at-table-47-2/2026-05-06/
LOCATION:Table 47\, 5268 Point Fosdick Dr\, Gig Harbor\, WA\, 98335
CATEGORIES:Food & Drink,Happy Hour
END:VEVENT
BEGIN:VEVENT
DTSTART;TZID=America/Los_Angeles:20260507T150000
DTEND;TZID=America/Los_Angeles:20260507T170000
DTSTAMP:20260425T063031
CREATED:20250704T161023Z
LAST-MODIFIED:20250704T161023Z
UID:10047951-1778166000-1778173200@gigharborcommunity.com
SUMMARY:Harbor Hour at Table 47
DESCRIPTION:
URL:https://gigharborcommunity.com/event/harbor-hour-at-table-47-2/2026-05-07/
LOCATION:Table 47\, 5268 Point Fosdick Dr\, Gig Harbor\, WA\, 98335
CATEGORIES:Food & Drink,Happy Hour
END:VEVENT
BEGIN:VEVENT
DTSTART;TZID=America/Los_Angeles:20260507T173000
DTEND;TZID=America/Los_Angeles:20260507T193000
DTSTAMP:20260425T063031
CREATED:20250714T033406Z
LAST-MODIFIED:20250714T033406Z
UID:10051551-1778175000-1778182200@gigharborcommunity.com
SUMMARY:Live Music on the Patio
DESCRIPTION:Settle in for dinner on the patio and let the music set the mood. Every Thursday from 5:30–7:30pm\, acoustic artist John Brake brings familiar favorites to life with smooth rhythms and laid-back soul.\nWhether you’re catching up with friends or enjoying a cozy date night\, John’s sound is the perfect backdrop for a relaxed evening.\n🐾Dogs welcome on the patio at Table 47!🐾\nAsk about our pup menu & treats!\nDon’t miss our Prime Rib Dinner special—available Thursday nights only.\nEvery Thursday (excluding July 3rd)\n5:30pm-7:30pm
URL:https://gigharborcommunity.com/event/live-music-on-the-patio/2026-05-07/
LOCATION:Table 47\, 5268 Point Fosdick Dr\, Gig Harbor\, WA\, 98335
CATEGORIES:Dogs,Food & Drink,Live Music
END:VEVENT
BEGIN:VEVENT
DTSTART;TZID=America/Los_Angeles:20260508T150000
DTEND;TZID=America/Los_Angeles:20260508T170000
DTSTAMP:20260425T063031
CREATED:20250704T161023Z
LAST-MODIFIED:20250704T161023Z
UID:10047952-1778252400-1778259600@gigharborcommunity.com
SUMMARY:Harbor Hour at Table 47
DESCRIPTION:
URL:https://gigharborcommunity.com/event/harbor-hour-at-table-47-2/2026-05-08/
LOCATION:Table 47\, 5268 Point Fosdick Dr\, Gig Harbor\, WA\, 98335
CATEGORIES:Food & Drink,Happy Hour
END:VEVENT
BEGIN:VEVENT
DTSTART;TZID=America/Los_Angeles:20260513T150000
DTEND;TZID=America/Los_Angeles:20260513T170000
DTSTAMP:20260425T063031
CREATED:20250704T161023Z
LAST-MODIFIED:20250704T161023Z
UID:10047953-1778684400-1778691600@gigharborcommunity.com
SUMMARY:Harbor Hour at Table 47
DESCRIPTION:
URL:https://gigharborcommunity.com/event/harbor-hour-at-table-47-2/2026-05-13/
LOCATION:Table 47\, 5268 Point Fosdick Dr\, Gig Harbor\, WA\, 98335
CATEGORIES:Food & Drink,Happy Hour
END:VEVENT
BEGIN:VEVENT
DTSTART;TZID=America/Los_Angeles:20260514T150000
DTEND;TZID=America/Los_Angeles:20260514T170000
DTSTAMP:20260425T063031
CREATED:20250704T161023Z
LAST-MODIFIED:20250704T161023Z
UID:10047954-1778770800-1778778000@gigharborcommunity.com
SUMMARY:Harbor Hour at Table 47
DESCRIPTION:
URL:https://gigharborcommunity.com/event/harbor-hour-at-table-47-2/2026-05-14/
LOCATION:Table 47\, 5268 Point Fosdick Dr\, Gig Harbor\, WA\, 98335
CATEGORIES:Food & Drink,Happy Hour
END:VEVENT
BEGIN:VEVENT
DTSTART;TZID=America/Los_Angeles:20260514T173000
DTEND;TZID=America/Los_Angeles:20260514T193000
DTSTAMP:20260425T063031
CREATED:20250714T033406Z
LAST-MODIFIED:20250714T033406Z
UID:10051552-1778779800-1778787000@gigharborcommunity.com
SUMMARY:Live Music on the Patio
DESCRIPTION:Settle in for dinner on the patio and let the music set the mood. Every Thursday from 5:30–7:30pm\, acoustic artist John Brake brings familiar favorites to life with smooth rhythms and laid-back soul.\nWhether you’re catching up with friends or enjoying a cozy date night\, John’s sound is the perfect backdrop for a relaxed evening.\n🐾Dogs welcome on the patio at Table 47!🐾\nAsk about our pup menu & treats!\nDon’t miss our Prime Rib Dinner special—available Thursday nights only.\nEvery Thursday (excluding July 3rd)\n5:30pm-7:30pm
URL:https://gigharborcommunity.com/event/live-music-on-the-patio/2026-05-14/
LOCATION:Table 47\, 5268 Point Fosdick Dr\, Gig Harbor\, WA\, 98335
CATEGORIES:Dogs,Food & Drink,Live Music
END:VEVENT
BEGIN:VEVENT
DTSTART;TZID=America/Los_Angeles:20260515T150000
DTEND;TZID=America/Los_Angeles:20260515T170000
DTSTAMP:20260425T063031
CREATED:20250704T161023Z
LAST-MODIFIED:20250704T161023Z
UID:10047955-1778857200-1778864400@gigharborcommunity.com
SUMMARY:Harbor Hour at Table 47
DESCRIPTION:
URL:https://gigharborcommunity.com/event/harbor-hour-at-table-47-2/2026-05-15/
LOCATION:Table 47\, 5268 Point Fosdick Dr\, Gig Harbor\, WA\, 98335
CATEGORIES:Food & Drink,Happy Hour
END:VEVENT
BEGIN:VEVENT
DTSTART;TZID=America/Los_Angeles:20260520T150000
DTEND;TZID=America/Los_Angeles:20260520T170000
DTSTAMP:20260425T063031
CREATED:20250704T161023Z
LAST-MODIFIED:20250704T161023Z
UID:10047956-1779289200-1779296400@gigharborcommunity.com
SUMMARY:Harbor Hour at Table 47
DESCRIPTION:
URL:https://gigharborcommunity.com/event/harbor-hour-at-table-47-2/2026-05-20/
LOCATION:Table 47\, 5268 Point Fosdick Dr\, Gig Harbor\, WA\, 98335
CATEGORIES:Food & Drink,Happy Hour
END:VEVENT
BEGIN:VEVENT
DTSTART;TZID=America/Los_Angeles:20260521T150000
DTEND;TZID=America/Los_Angeles:20260521T170000
DTSTAMP:20260425T063031
CREATED:20250704T161023Z
LAST-MODIFIED:20250704T161023Z
UID:10047957-1779375600-1779382800@gigharborcommunity.com
SUMMARY:Harbor Hour at Table 47
DESCRIPTION:
URL:https://gigharborcommunity.com/event/harbor-hour-at-table-47-2/2026-05-21/
LOCATION:Table 47\, 5268 Point Fosdick Dr\, Gig Harbor\, WA\, 98335
CATEGORIES:Food & Drink,Happy Hour
END:VEVENT
BEGIN:VEVENT
DTSTART;TZID=America/Los_Angeles:20260521T173000
DTEND;TZID=America/Los_Angeles:20260521T193000
DTSTAMP:20260425T063031
CREATED:20250714T033406Z
LAST-MODIFIED:20250714T033406Z
UID:10051553-1779384600-1779391800@gigharborcommunity.com
SUMMARY:Live Music on the Patio
DESCRIPTION:Settle in for dinner on the patio and let the music set the mood. Every Thursday from 5:30–7:30pm\, acoustic artist John Brake brings familiar favorites to life with smooth rhythms and laid-back soul.\nWhether you’re catching up with friends or enjoying a cozy date night\, John’s sound is the perfect backdrop for a relaxed evening.\n🐾Dogs welcome on the patio at Table 47!🐾\nAsk about our pup menu & treats!\nDon’t miss our Prime Rib Dinner special—available Thursday nights only.\nEvery Thursday (excluding July 3rd)\n5:30pm-7:30pm
URL:https://gigharborcommunity.com/event/live-music-on-the-patio/2026-05-21/
LOCATION:Table 47\, 5268 Point Fosdick Dr\, Gig Harbor\, WA\, 98335
CATEGORIES:Dogs,Food & Drink,Live Music
END:VEVENT
BEGIN:VEVENT
DTSTART;TZID=America/Los_Angeles:20260522T150000
DTEND;TZID=America/Los_Angeles:20260522T170000
DTSTAMP:20260425T063031
CREATED:20250704T161023Z
LAST-MODIFIED:20250704T161023Z
UID:10047958-1779462000-1779469200@gigharborcommunity.com
SUMMARY:Harbor Hour at Table 47
DESCRIPTION:
URL:https://gigharborcommunity.com/event/harbor-hour-at-table-47-2/2026-05-22/
LOCATION:Table 47\, 5268 Point Fosdick Dr\, Gig Harbor\, WA\, 98335
CATEGORIES:Food & Drink,Happy Hour
END:VEVENT
BEGIN:VEVENT
DTSTART;TZID=America/Los_Angeles:20260527T150000
DTEND;TZID=America/Los_Angeles:20260527T170000
DTSTAMP:20260425T063031
CREATED:20250704T161023Z
LAST-MODIFIED:20250704T161023Z
UID:10047959-1779894000-1779901200@gigharborcommunity.com
SUMMARY:Harbor Hour at Table 47
DESCRIPTION:
URL:https://gigharborcommunity.com/event/harbor-hour-at-table-47-2/2026-05-27/
LOCATION:Table 47\, 5268 Point Fosdick Dr\, Gig Harbor\, WA\, 98335
CATEGORIES:Food & Drink,Happy Hour
END:VEVENT
BEGIN:VEVENT
DTSTART;TZID=America/Los_Angeles:20260528T150000
DTEND;TZID=America/Los_Angeles:20260528T170000
DTSTAMP:20260425T063031
CREATED:20250704T161023Z
LAST-MODIFIED:20250704T161023Z
UID:10047960-1779980400-1779987600@gigharborcommunity.com
SUMMARY:Harbor Hour at Table 47
DESCRIPTION:
URL:https://gigharborcommunity.com/event/harbor-hour-at-table-47-2/2026-05-28/
LOCATION:Table 47\, 5268 Point Fosdick Dr\, Gig Harbor\, WA\, 98335
CATEGORIES:Food & Drink,Happy Hour
END:VEVENT
BEGIN:VEVENT
DTSTART;TZID=America/Los_Angeles:20260528T173000
DTEND;TZID=America/Los_Angeles:20260528T193000
DTSTAMP:20260425T063031
CREATED:20250714T033406Z
LAST-MODIFIED:20250714T033406Z
UID:10051554-1779989400-1779996600@gigharborcommunity.com
SUMMARY:Live Music on the Patio
DESCRIPTION:Settle in for dinner on the patio and let the music set the mood. Every Thursday from 5:30–7:30pm\, acoustic artist John Brake brings familiar favorites to life with smooth rhythms and laid-back soul.\nWhether you’re catching up with friends or enjoying a cozy date night\, John’s sound is the perfect backdrop for a relaxed evening.\n🐾Dogs welcome on the patio at Table 47!🐾\nAsk about our pup menu & treats!\nDon’t miss our Prime Rib Dinner special—available Thursday nights only.\nEvery Thursday (excluding July 3rd)\n5:30pm-7:30pm
URL:https://gigharborcommunity.com/event/live-music-on-the-patio/2026-05-28/
LOCATION:Table 47\, 5268 Point Fosdick Dr\, Gig Harbor\, WA\, 98335
CATEGORIES:Dogs,Food & Drink,Live Music
END:VEVENT
BEGIN:VEVENT
DTSTART;TZID=America/Los_Angeles:20260529T150000
DTEND;TZID=America/Los_Angeles:20260529T170000
DTSTAMP:20260425T063031
CREATED:20250704T161023Z
LAST-MODIFIED:20250704T161023Z
UID:10047961-1780066800-1780074000@gigharborcommunity.com
SUMMARY:Harbor Hour at Table 47
DESCRIPTION:
URL:https://gigharborcommunity.com/event/harbor-hour-at-table-47-2/2026-05-29/
LOCATION:Table 47\, 5268 Point Fosdick Dr\, Gig Harbor\, WA\, 98335
CATEGORIES:Food & Drink,Happy Hour
END:VEVENT
BEGIN:VEVENT
DTSTART;TZID=America/Los_Angeles:20260603T150000
DTEND;TZID=America/Los_Angeles:20260603T170000
DTSTAMP:20260425T063031
CREATED:20250704T161023Z
LAST-MODIFIED:20250704T161023Z
UID:10047962-1780498800-1780506000@gigharborcommunity.com
SUMMARY:Harbor Hour at Table 47
DESCRIPTION:
URL:https://gigharborcommunity.com/event/harbor-hour-at-table-47-2/2026-06-03/
LOCATION:Table 47\, 5268 Point Fosdick Dr\, Gig Harbor\, WA\, 98335
CATEGORIES:Food & Drink,Happy Hour
END:VEVENT
BEGIN:VEVENT
DTSTART;TZID=America/Los_Angeles:20260604T150000
DTEND;TZID=America/Los_Angeles:20260604T170000
DTSTAMP:20260425T063031
CREATED:20250704T161023Z
LAST-MODIFIED:20250704T161023Z
UID:10047963-1780585200-1780592400@gigharborcommunity.com
SUMMARY:Harbor Hour at Table 47
DESCRIPTION:
URL:https://gigharborcommunity.com/event/harbor-hour-at-table-47-2/2026-06-04/
LOCATION:Table 47\, 5268 Point Fosdick Dr\, Gig Harbor\, WA\, 98335
CATEGORIES:Food & Drink,Happy Hour
END:VEVENT
BEGIN:VEVENT
DTSTART;TZID=America/Los_Angeles:20260604T173000
DTEND;TZID=America/Los_Angeles:20260604T193000
DTSTAMP:20260425T063031
CREATED:20250714T033406Z
LAST-MODIFIED:20250714T033406Z
UID:10051555-1780594200-1780601400@gigharborcommunity.com
SUMMARY:Live Music on the Patio
DESCRIPTION:Settle in for dinner on the patio and let the music set the mood. Every Thursday from 5:30–7:30pm\, acoustic artist John Brake brings familiar favorites to life with smooth rhythms and laid-back soul.\nWhether you’re catching up with friends or enjoying a cozy date night\, John’s sound is the perfect backdrop for a relaxed evening.\n🐾Dogs welcome on the patio at Table 47!🐾\nAsk about our pup menu & treats!\nDon’t miss our Prime Rib Dinner special—available Thursday nights only.\nEvery Thursday (excluding July 3rd)\n5:30pm-7:30pm
URL:https://gigharborcommunity.com/event/live-music-on-the-patio/2026-06-04/
LOCATION:Table 47\, 5268 Point Fosdick Dr\, Gig Harbor\, WA\, 98335
CATEGORIES:Dogs,Food & Drink,Live Music
END:VEVENT
BEGIN:VEVENT
DTSTART;TZID=America/Los_Angeles:20260605T150000
DTEND;TZID=America/Los_Angeles:20260605T170000
DTSTAMP:20260425T063031
CREATED:20250704T161023Z
LAST-MODIFIED:20250704T161023Z
UID:10047964-1780671600-1780678800@gigharborcommunity.com
SUMMARY:Harbor Hour at Table 47
DESCRIPTION:
URL:https://gigharborcommunity.com/event/harbor-hour-at-table-47-2/2026-06-05/
LOCATION:Table 47\, 5268 Point Fosdick Dr\, Gig Harbor\, WA\, 98335
CATEGORIES:Food & Drink,Happy Hour
END:VEVENT
BEGIN:VEVENT
DTSTART;TZID=America/Los_Angeles:20260610T150000
DTEND;TZID=America/Los_Angeles:20260610T170000
DTSTAMP:20260425T063031
CREATED:20250704T161023Z
LAST-MODIFIED:20250704T161023Z
UID:10047965-1781103600-1781110800@gigharborcommunity.com
SUMMARY:Harbor Hour at Table 47
DESCRIPTION:
URL:https://gigharborcommunity.com/event/harbor-hour-at-table-47-2/2026-06-10/
LOCATION:Table 47\, 5268 Point Fosdick Dr\, Gig Harbor\, WA\, 98335
CATEGORIES:Food & Drink,Happy Hour
END:VEVENT
BEGIN:VEVENT
DTSTART;TZID=America/Los_Angeles:20260611T150000
DTEND;TZID=America/Los_Angeles:20260611T170000
DTSTAMP:20260425T063031
CREATED:20250704T161023Z
LAST-MODIFIED:20250704T161023Z
UID:10047966-1781190000-1781197200@gigharborcommunity.com
SUMMARY:Harbor Hour at Table 47
DESCRIPTION:
URL:https://gigharborcommunity.com/event/harbor-hour-at-table-47-2/2026-06-11/
LOCATION:Table 47\, 5268 Point Fosdick Dr\, Gig Harbor\, WA\, 98335
CATEGORIES:Food & Drink,Happy Hour
END:VEVENT
BEGIN:VEVENT
DTSTART;TZID=America/Los_Angeles:20260611T173000
DTEND;TZID=America/Los_Angeles:20260611T193000
DTSTAMP:20260425T063031
CREATED:20250714T033406Z
LAST-MODIFIED:20250714T033406Z
UID:10051556-1781199000-1781206200@gigharborcommunity.com
SUMMARY:Live Music on the Patio
DESCRIPTION:Settle in for dinner on the patio and let the music set the mood. Every Thursday from 5:30–7:30pm\, acoustic artist John Brake brings familiar favorites to life with smooth rhythms and laid-back soul.\nWhether you’re catching up with friends or enjoying a cozy date night\, John’s sound is the perfect backdrop for a relaxed evening.\n🐾Dogs welcome on the patio at Table 47!🐾\nAsk about our pup menu & treats!\nDon’t miss our Prime Rib Dinner special—available Thursday nights only.\nEvery Thursday (excluding July 3rd)\n5:30pm-7:30pm
URL:https://gigharborcommunity.com/event/live-music-on-the-patio/2026-06-11/
LOCATION:Table 47\, 5268 Point Fosdick Dr\, Gig Harbor\, WA\, 98335
CATEGORIES:Dogs,Food & Drink,Live Music
END:VEVENT
BEGIN:VEVENT
DTSTART;TZID=America/Los_Angeles:20260612T150000
DTEND;TZID=America/Los_Angeles:20260612T170000
DTSTAMP:20260425T063031
CREATED:20250704T161023Z
LAST-MODIFIED:20250704T161023Z
UID:10047967-1781276400-1781283600@gigharborcommunity.com
SUMMARY:Harbor Hour at Table 47
DESCRIPTION:
URL:https://gigharborcommunity.com/event/harbor-hour-at-table-47-2/2026-06-12/
LOCATION:Table 47\, 5268 Point Fosdick Dr\, Gig Harbor\, WA\, 98335
CATEGORIES:Food & Drink,Happy Hour
END:VEVENT
BEGIN:VEVENT
DTSTART;TZID=America/Los_Angeles:20260617T150000
DTEND;TZID=America/Los_Angeles:20260617T170000
DTSTAMP:20260425T063031
CREATED:20250704T161023Z
LAST-MODIFIED:20250704T161023Z
UID:10047968-1781708400-1781715600@gigharborcommunity.com
SUMMARY:Harbor Hour at Table 47
DESCRIPTION:
URL:https://gigharborcommunity.com/event/harbor-hour-at-table-47-2/2026-06-17/
LOCATION:Table 47\, 5268 Point Fosdick Dr\, Gig Harbor\, WA\, 98335
CATEGORIES:Food & Drink,Happy Hour
END:VEVENT
BEGIN:VEVENT
DTSTART;TZID=America/Los_Angeles:20260618T150000
DTEND;TZID=America/Los_Angeles:20260618T170000
DTSTAMP:20260425T063031
CREATED:20250704T161023Z
LAST-MODIFIED:20250704T161023Z
UID:10047969-1781794800-1781802000@gigharborcommunity.com
SUMMARY:Harbor Hour at Table 47
DESCRIPTION:
URL:https://gigharborcommunity.com/event/harbor-hour-at-table-47-2/2026-06-18/
LOCATION:Table 47\, 5268 Point Fosdick Dr\, Gig Harbor\, WA\, 98335
CATEGORIES:Food & Drink,Happy Hour
END:VEVENT
END:VCALENDAR