BEGIN:VCALENDAR
VERSION:2.0
PRODID:-//Gig Harbor Events - ECPv6.15.20//NONSGML v1.0//EN
CALSCALE:GREGORIAN
METHOD:PUBLISH
X-WR-CALNAME:Gig Harbor Events
X-ORIGINAL-URL:https://gigharborcommunity.com
X-WR-CALDESC:Events for Gig Harbor Events
REFRESH-INTERVAL;VALUE=DURATION:PT1H
X-Robots-Tag:noindex
X-PUBLISHED-TTL:PT1H
BEGIN:VTIMEZONE
TZID:America/Los_Angeles
BEGIN:DAYLIGHT
TZOFFSETFROM:-0800
TZOFFSETTO:-0700
TZNAME:PDT
DTSTART:20250309T100000
END:DAYLIGHT
BEGIN:STANDARD
TZOFFSETFROM:-0700
TZOFFSETTO:-0800
TZNAME:PST
DTSTART:20251102T090000
END:STANDARD
BEGIN:DAYLIGHT
TZOFFSETFROM:-0800
TZOFFSETTO:-0700
TZNAME:PDT
DTSTART:20260308T100000
END:DAYLIGHT
BEGIN:STANDARD
TZOFFSETFROM:-0700
TZOFFSETTO:-0800
TZNAME:PST
DTSTART:20261101T090000
END:STANDARD
BEGIN:DAYLIGHT
TZOFFSETFROM:-0800
TZOFFSETTO:-0700
TZNAME:PDT
DTSTART:20270314T100000
END:DAYLIGHT
BEGIN:STANDARD
TZOFFSETFROM:-0700
TZOFFSETTO:-0800
TZNAME:PST
DTSTART:20271107T090000
END:STANDARD
END:VTIMEZONE
BEGIN:VEVENT
DTSTART;TZID=America/Los_Angeles:20260621T110000
DTEND;TZID=America/Los_Angeles:20260621T210000
DTSTAMP:20260425T084432
CREATED:20250704T151924Z
LAST-MODIFIED:20250704T153037Z
UID:10043407-1782039600-1782075600@gigharborcommunity.com
SUMMARY:Happy Hour All Day! at Puerto Vallarta
DESCRIPTION:
URL:https://gigharborcommunity.com/event/happy-hour-all-day-at-puerto-vallarta-2/2026-06-21/
LOCATION:Puerto Vallarta Family Mexican Restaurant\, 4225 Harborview Drive\, Gig Harbor\, WA\, 98332
CATEGORIES:Discount Days,Food & Drink,Happy Hour
END:VEVENT
BEGIN:VEVENT
DTSTART;TZID=America/Los_Angeles:20260622T150000
DTEND;TZID=America/Los_Angeles:20260622T180000
DTSTAMP:20260425T084432
CREATED:20250704T155120Z
LAST-MODIFIED:20250704T155120Z
UID:10045593-1782140400-1782151200@gigharborcommunity.com
SUMMARY:Happy Hour at PV
DESCRIPTION:
URL:https://gigharborcommunity.com/event/happy-hour-at-pv/2026-06-22/
LOCATION:Puerto Vallarta Family Mexican Restaurant\, 4225 Harborview Drive\, Gig Harbor\, WA\, 98332
CATEGORIES:Food & Drink,Happy Hour
END:VEVENT
BEGIN:VEVENT
DTSTART;TZID=America/Los_Angeles:20260623T150000
DTEND;TZID=America/Los_Angeles:20260623T180000
DTSTAMP:20260425T084432
CREATED:20250704T155120Z
LAST-MODIFIED:20250704T155120Z
UID:10045594-1782226800-1782237600@gigharborcommunity.com
SUMMARY:Happy Hour at PV
DESCRIPTION:
URL:https://gigharborcommunity.com/event/happy-hour-at-pv/2026-06-23/
LOCATION:Puerto Vallarta Family Mexican Restaurant\, 4225 Harborview Drive\, Gig Harbor\, WA\, 98332
CATEGORIES:Food & Drink,Happy Hour
END:VEVENT
BEGIN:VEVENT
DTSTART;TZID=America/Los_Angeles:20260624T150000
DTEND;TZID=America/Los_Angeles:20260624T180000
DTSTAMP:20260425T084432
CREATED:20250704T155120Z
LAST-MODIFIED:20250704T155120Z
UID:10045595-1782313200-1782324000@gigharborcommunity.com
SUMMARY:Happy Hour at PV
DESCRIPTION:
URL:https://gigharborcommunity.com/event/happy-hour-at-pv/2026-06-24/
LOCATION:Puerto Vallarta Family Mexican Restaurant\, 4225 Harborview Drive\, Gig Harbor\, WA\, 98332
CATEGORIES:Food & Drink,Happy Hour
END:VEVENT
BEGIN:VEVENT
DTSTART;TZID=America/Los_Angeles:20260625T150000
DTEND;TZID=America/Los_Angeles:20260625T180000
DTSTAMP:20260425T084432
CREATED:20250704T155120Z
LAST-MODIFIED:20250704T155120Z
UID:10045596-1782399600-1782410400@gigharborcommunity.com
SUMMARY:Happy Hour at PV
DESCRIPTION:
URL:https://gigharborcommunity.com/event/happy-hour-at-pv/2026-06-25/
LOCATION:Puerto Vallarta Family Mexican Restaurant\, 4225 Harborview Drive\, Gig Harbor\, WA\, 98332
CATEGORIES:Food & Drink,Happy Hour
END:VEVENT
BEGIN:VEVENT
DTSTART;TZID=America/Los_Angeles:20260626T150000
DTEND;TZID=America/Los_Angeles:20260626T180000
DTSTAMP:20260425T084432
CREATED:20250704T155120Z
LAST-MODIFIED:20250704T155120Z
UID:10045597-1782486000-1782496800@gigharborcommunity.com
SUMMARY:Happy Hour at PV
DESCRIPTION:
URL:https://gigharborcommunity.com/event/happy-hour-at-pv/2026-06-26/
LOCATION:Puerto Vallarta Family Mexican Restaurant\, 4225 Harborview Drive\, Gig Harbor\, WA\, 98332
CATEGORIES:Food & Drink,Happy Hour
END:VEVENT
BEGIN:VEVENT
DTSTART;TZID=America/Los_Angeles:20260628T110000
DTEND;TZID=America/Los_Angeles:20260628T210000
DTSTAMP:20260425T084432
CREATED:20250704T151924Z
LAST-MODIFIED:20250704T153037Z
UID:10043408-1782644400-1782680400@gigharborcommunity.com
SUMMARY:Happy Hour All Day! at Puerto Vallarta
DESCRIPTION:
URL:https://gigharborcommunity.com/event/happy-hour-all-day-at-puerto-vallarta-2/2026-06-28/
LOCATION:Puerto Vallarta Family Mexican Restaurant\, 4225 Harborview Drive\, Gig Harbor\, WA\, 98332
CATEGORIES:Discount Days,Food & Drink,Happy Hour
END:VEVENT
BEGIN:VEVENT
DTSTART;TZID=America/Los_Angeles:20260629T150000
DTEND;TZID=America/Los_Angeles:20260629T180000
DTSTAMP:20260425T084432
CREATED:20250704T155120Z
LAST-MODIFIED:20250704T155120Z
UID:10045598-1782745200-1782756000@gigharborcommunity.com
SUMMARY:Happy Hour at PV
DESCRIPTION:
URL:https://gigharborcommunity.com/event/happy-hour-at-pv/2026-06-29/
LOCATION:Puerto Vallarta Family Mexican Restaurant\, 4225 Harborview Drive\, Gig Harbor\, WA\, 98332
CATEGORIES:Food & Drink,Happy Hour
END:VEVENT
BEGIN:VEVENT
DTSTART;TZID=America/Los_Angeles:20260630T150000
DTEND;TZID=America/Los_Angeles:20260630T180000
DTSTAMP:20260425T084432
CREATED:20250704T155120Z
LAST-MODIFIED:20250704T155120Z
UID:10045599-1782831600-1782842400@gigharborcommunity.com
SUMMARY:Happy Hour at PV
DESCRIPTION:
URL:https://gigharborcommunity.com/event/happy-hour-at-pv/2026-06-30/
LOCATION:Puerto Vallarta Family Mexican Restaurant\, 4225 Harborview Drive\, Gig Harbor\, WA\, 98332
CATEGORIES:Food & Drink,Happy Hour
END:VEVENT
BEGIN:VEVENT
DTSTART;TZID=America/Los_Angeles:20260701T150000
DTEND;TZID=America/Los_Angeles:20260701T180000
DTSTAMP:20260425T084432
CREATED:20250704T155120Z
LAST-MODIFIED:20250704T155120Z
UID:10045600-1782918000-1782928800@gigharborcommunity.com
SUMMARY:Happy Hour at PV
DESCRIPTION:
URL:https://gigharborcommunity.com/event/happy-hour-at-pv/2026-07-01/
LOCATION:Puerto Vallarta Family Mexican Restaurant\, 4225 Harborview Drive\, Gig Harbor\, WA\, 98332
CATEGORIES:Food & Drink,Happy Hour
END:VEVENT
BEGIN:VEVENT
DTSTART;TZID=America/Los_Angeles:20260702T150000
DTEND;TZID=America/Los_Angeles:20260702T180000
DTSTAMP:20260425T084432
CREATED:20250704T155120Z
LAST-MODIFIED:20250704T155120Z
UID:10045601-1783004400-1783015200@gigharborcommunity.com
SUMMARY:Happy Hour at PV
DESCRIPTION:
URL:https://gigharborcommunity.com/event/happy-hour-at-pv/2026-07-02/
LOCATION:Puerto Vallarta Family Mexican Restaurant\, 4225 Harborview Drive\, Gig Harbor\, WA\, 98332
CATEGORIES:Food & Drink,Happy Hour
END:VEVENT
BEGIN:VEVENT
DTSTART;TZID=America/Los_Angeles:20260703T150000
DTEND;TZID=America/Los_Angeles:20260703T180000
DTSTAMP:20260425T084432
CREATED:20250704T155120Z
LAST-MODIFIED:20250704T155120Z
UID:10045602-1783090800-1783101600@gigharborcommunity.com
SUMMARY:Happy Hour at PV
DESCRIPTION:
URL:https://gigharborcommunity.com/event/happy-hour-at-pv/2026-07-03/
LOCATION:Puerto Vallarta Family Mexican Restaurant\, 4225 Harborview Drive\, Gig Harbor\, WA\, 98332
CATEGORIES:Food & Drink,Happy Hour
END:VEVENT
BEGIN:VEVENT
DTSTART;TZID=America/Los_Angeles:20260705T110000
DTEND;TZID=America/Los_Angeles:20260705T210000
DTSTAMP:20260425T084432
CREATED:20250704T151924Z
LAST-MODIFIED:20250704T153037Z
UID:10043409-1783249200-1783285200@gigharborcommunity.com
SUMMARY:Happy Hour All Day! at Puerto Vallarta
DESCRIPTION:
URL:https://gigharborcommunity.com/event/happy-hour-all-day-at-puerto-vallarta-2/2026-07-05/
LOCATION:Puerto Vallarta Family Mexican Restaurant\, 4225 Harborview Drive\, Gig Harbor\, WA\, 98332
CATEGORIES:Discount Days,Food & Drink,Happy Hour
END:VEVENT
BEGIN:VEVENT
DTSTART;TZID=America/Los_Angeles:20260706T150000
DTEND;TZID=America/Los_Angeles:20260706T180000
DTSTAMP:20260425T084432
CREATED:20250704T155120Z
LAST-MODIFIED:20250704T155120Z
UID:10045603-1783350000-1783360800@gigharborcommunity.com
SUMMARY:Happy Hour at PV
DESCRIPTION:
URL:https://gigharborcommunity.com/event/happy-hour-at-pv/2026-07-06/
LOCATION:Puerto Vallarta Family Mexican Restaurant\, 4225 Harborview Drive\, Gig Harbor\, WA\, 98332
CATEGORIES:Food & Drink,Happy Hour
END:VEVENT
BEGIN:VEVENT
DTSTART;TZID=America/Los_Angeles:20260707T150000
DTEND;TZID=America/Los_Angeles:20260707T180000
DTSTAMP:20260425T084432
CREATED:20250704T155120Z
LAST-MODIFIED:20250704T155120Z
UID:10045604-1783436400-1783447200@gigharborcommunity.com
SUMMARY:Happy Hour at PV
DESCRIPTION:
URL:https://gigharborcommunity.com/event/happy-hour-at-pv/2026-07-07/
LOCATION:Puerto Vallarta Family Mexican Restaurant\, 4225 Harborview Drive\, Gig Harbor\, WA\, 98332
CATEGORIES:Food & Drink,Happy Hour
END:VEVENT
END:VCALENDAR