BEGIN:VCALENDAR
VERSION:2.0
PRODID:-//Gig Harbor Events - ECPv6.15.20//NONSGML v1.0//EN
CALSCALE:GREGORIAN
METHOD:PUBLISH
X-WR-CALNAME:Gig Harbor Events
X-ORIGINAL-URL:https://gigharborcommunity.com
X-WR-CALDESC:Events for Gig Harbor Events
REFRESH-INTERVAL;VALUE=DURATION:PT1H
X-Robots-Tag:noindex
X-PUBLISHED-TTL:PT1H
BEGIN:VTIMEZONE
TZID:America/Los_Angeles
BEGIN:DAYLIGHT
TZOFFSETFROM:-0800
TZOFFSETTO:-0700
TZNAME:PDT
DTSTART:20250309T100000
END:DAYLIGHT
BEGIN:STANDARD
TZOFFSETFROM:-0700
TZOFFSETTO:-0800
TZNAME:PST
DTSTART:20251102T090000
END:STANDARD
BEGIN:DAYLIGHT
TZOFFSETFROM:-0800
TZOFFSETTO:-0700
TZNAME:PDT
DTSTART:20260308T100000
END:DAYLIGHT
BEGIN:STANDARD
TZOFFSETFROM:-0700
TZOFFSETTO:-0800
TZNAME:PST
DTSTART:20261101T090000
END:STANDARD
BEGIN:DAYLIGHT
TZOFFSETFROM:-0800
TZOFFSETTO:-0700
TZNAME:PDT
DTSTART:20270314T100000
END:DAYLIGHT
BEGIN:STANDARD
TZOFFSETFROM:-0700
TZOFFSETTO:-0800
TZNAME:PST
DTSTART:20271107T090000
END:STANDARD
END:VTIMEZONE
BEGIN:VEVENT
DTSTART;TZID=America/Los_Angeles:20260423T180000
DTEND;TZID=America/Los_Angeles:20260423T200000
DTSTAMP:20260423T012137
CREATED:20260330T033554Z
LAST-MODIFIED:20260330T033554Z
UID:10055149-1776967200-1776974400@gigharborcommunity.com
SUMMARY:Artvana Sip & Paint art class at Ocean5 in Gig Harbor April 2026
DESCRIPTION:Paint & Sip at Ocean5 on Thursdays with Artvana at this Gig Harbor hot spot\, for a fun\, creative night out!
URL:https://gigharborcommunity.com/event/artvana-sip-paint-art-class-at-ocean5-in-gig-harbor-april-2026-2/
LOCATION:Ocean 5\, 5268 Point Fosdick Dr\, Gig Harbor\, WA\, 98335
CATEGORIES:Arts & Crafts,Food & Drink
END:VEVENT
BEGIN:VEVENT
DTSTART;TZID=America/Los_Angeles:20260501T180000
DTEND;TZID=America/Los_Angeles:20260501T200000
DTSTAMP:20260423T012137
CREATED:20260420T022217Z
LAST-MODIFIED:20260420T022217Z
UID:10055249-1777658400-1777665600@gigharborcommunity.com
SUMMARY:Paint Your Partner Date Night
DESCRIPTION:You’ve been seeing the posts… the hilarious paintings… the ridiculous results… and now it’s YOUR turn! \nArtvana is bringing a ONE-NIGHT-ONLY “Paint Your Partner” event to Ocean5 in Gig Harbor on May 1st!
URL:https://gigharborcommunity.com/event/paint-your-partner-date-night/
LOCATION:Ocean 5\, 5268 Point Fosdick Dr\, Gig Harbor\, WA\, 98335
CATEGORIES:Arts & Crafts,Food & Drink
END:VEVENT
BEGIN:VEVENT
DTSTART;TZID=America/Los_Angeles:20260510T170000
DTEND;TZID=America/Los_Angeles:20260510T190000
DTSTAMP:20260423T012137
CREATED:20260420T022653Z
LAST-MODIFIED:20260420T022653Z
UID:10055251-1778432400-1778439600@gigharborcommunity.com
SUMMARY:Mother's Day Dueling Pianos
DESCRIPTION:Celebrate Mother’s Day at Ocean5 with Jeff & Rhiannon’s high-energy\, dueling pianos show—laughs\, sing-alongs & fun for all ages!\nJoin Ocean5 for a high-energy\, all-request show with the nationally loved duo\, Jeff and Rhiannon! Expect sing-alongs\, laughs\, and non-stop entertainment from classics to today’s top hits. Fun for all ages—bring your favorite songs and get ready to be part of the action!\nAn unforgettable Mother’s Day night your family will talk about for years!
URL:https://gigharborcommunity.com/event/mothers-day-dueling-pianos/
LOCATION:Ocean 5\, 5268 Point Fosdick Dr\, Gig Harbor\, WA\, 98335
CATEGORIES:Kids & Family,Live Performances
END:VEVENT
END:VCALENDAR