BEGIN:VCALENDAR
VERSION:2.0
PRODID:-//Gig Harbor Events - ECPv6.15.20//NONSGML v1.0//EN
CALSCALE:GREGORIAN
METHOD:PUBLISH
X-WR-CALNAME:Gig Harbor Events
X-ORIGINAL-URL:https://gigharborcommunity.com
X-WR-CALDESC:Events for Gig Harbor Events
REFRESH-INTERVAL;VALUE=DURATION:PT1H
X-Robots-Tag:noindex
X-PUBLISHED-TTL:PT1H
BEGIN:VTIMEZONE
TZID:America/Los_Angeles
BEGIN:DAYLIGHT
TZOFFSETFROM:-0800
TZOFFSETTO:-0700
TZNAME:PDT
DTSTART:20230312T100000
END:DAYLIGHT
BEGIN:STANDARD
TZOFFSETFROM:-0700
TZOFFSETTO:-0800
TZNAME:PST
DTSTART:20231105T090000
END:STANDARD
BEGIN:DAYLIGHT
TZOFFSETFROM:-0800
TZOFFSETTO:-0700
TZNAME:PDT
DTSTART:20240310T100000
END:DAYLIGHT
BEGIN:STANDARD
TZOFFSETFROM:-0700
TZOFFSETTO:-0800
TZNAME:PST
DTSTART:20241103T090000
END:STANDARD
BEGIN:DAYLIGHT
TZOFFSETFROM:-0800
TZOFFSETTO:-0700
TZNAME:PDT
DTSTART:20250309T100000
END:DAYLIGHT
BEGIN:STANDARD
TZOFFSETFROM:-0700
TZOFFSETTO:-0800
TZNAME:PST
DTSTART:20251102T090000
END:STANDARD
BEGIN:DAYLIGHT
TZOFFSETFROM:-0800
TZOFFSETTO:-0700
TZNAME:PDT
DTSTART:20260308T100000
END:DAYLIGHT
BEGIN:STANDARD
TZOFFSETFROM:-0700
TZOFFSETTO:-0800
TZNAME:PST
DTSTART:20261101T090000
END:STANDARD
BEGIN:DAYLIGHT
TZOFFSETFROM:-0800
TZOFFSETTO:-0700
TZNAME:PDT
DTSTART:20270314T100000
END:DAYLIGHT
BEGIN:STANDARD
TZOFFSETFROM:-0700
TZOFFSETTO:-0800
TZNAME:PST
DTSTART:20271107T090000
END:STANDARD
END:VTIMEZONE
BEGIN:VEVENT
DTSTART;TZID=America/Los_Angeles:20260116T180000
DTEND;TZID=America/Los_Angeles:20260116T203000
DTSTAMP:20260425T074937
CREATED:20260105T044640Z
LAST-MODIFIED:20260105T044640Z
UID:10054760-1768586400-1768595400@gigharborcommunity.com
SUMMARY:Ladies Night: Paint\, Sip\, Snack & Relax
DESCRIPTION:Gather up your friends or join us and make new ones! Choose your favorite piece of pottery from hundreds of pieces\, and we will help you get started. Let the surroundings inspire you\, or talk to our staff and try out a variety of techniques! Stamps\, stencils\, and idea books are also available. (You can even sketch out your design in pen before you paint and the pen will disappear in the kiln!) All ages welcome. $30+tax includes a delicious spread of small bites along with a glass of house red or white wine\, bubbly\, hard cider\, beer\, (or a 16 oz. non-alcoholic beverage of your choice.) Pottery is sold separately. Pieces will be ready 9 days after the event. Let your creativity flow and come have some fun with us!\nPLEASE NOTE: This is a very popular event and we do sell out ahead of time. You must preregister to attend! Thank you!
URL:https://gigharborcommunity.com/event/ladies-night-paint-sip-snack-relax/
LOCATION:Java & Clay Cafe\, 3210 Harborview Dr\, Gig Harbor\, WA\, 98335\, United States
CATEGORIES:Arts & Crafts,Food & Drink,Kids & Family
END:VEVENT
BEGIN:VEVENT
DTSTART;TZID=America/Los_Angeles:20250718T180000
DTEND;TZID=America/Los_Angeles:20250718T203000
DTSTAMP:20260425T074937
CREATED:20250714T040308Z
LAST-MODIFIED:20250714T040308Z
UID:10051625-1752861600-1752870600@gigharborcommunity.com
SUMMARY:Ladies Night Out
DESCRIPTION:✨ Ladies Night at the Studio! ✨\nGrab your gals and join us for an unforgettable evening of pottery painting\, a gorgeous charcuterie spread\, and crafted summer drinks — both alcoholic and nonalcoholic 🍷🧀🍹\nWe’ll have prizes\, good vibes\, and plenty of time to unwind and get creative.\nBecause let’s be honest — you deserve a night out 💁‍♀️🎨💕
URL:https://gigharborcommunity.com/event/ladies-night-out-8/
LOCATION:Java & Clay Cafe\, 3210 Harborview Dr\, Gig Harbor\, WA\, 98335\, United States
CATEGORIES:Arts & Crafts,Food & Drink
END:VEVENT
BEGIN:VEVENT
DTSTART;TZID=America/Los_Angeles:20250620T180000
DTEND;TZID=America/Los_Angeles:20250620T203000
DTSTAMP:20260425T074937
CREATED:20250601T221136Z
LAST-MODIFIED:20250601T221136Z
UID:10043303-1750442400-1750451400@gigharborcommunity.com
SUMMARY:Ladies Night Out
DESCRIPTION:If you have a friend celebrating a June birthday\, are looking for a special way to bond with your sister or mom\, or perhaps you and the girls are in search of something beyond dinner and drinks for your monthly night out\, we’ve got the perfect idea for you! This Mother’s Day\, or any day you want to celebrate the important women in your life\, Java & Clay Cafe invites you to join us for a unique ladies’ night experience. Picture yourself surrounded by the warmth of good company\, indulging in a beautifully arranged grazing table\, and enjoying a selection of beer\, wine\, cider\, and hand-crafted coffees. It’s the perfect setting to relax\, celebrate\, and make lasting memories!\nFor just $30 per person\, you’ll receive your first beverage (alcoholic or non-alcoholic)\, delicious bites\, entry to win exciting prizes\, and exclusive late-night studio access with personalized one-on-one instruction from our friendly staff. Pottery is sold separately\, with a wide range of options available at various price points—hundreds of pieces to choose from.\nWe can’t wait to see you there!
URL:https://gigharborcommunity.com/event/ladies-night-out-7/
LOCATION:Java & Clay Cafe\, 3210 Harborview Dr\, Gig Harbor\, WA\, 98335\, United States
CATEGORIES:Arts & Crafts,Food & Drink
END:VEVENT
BEGIN:VEVENT
DTSTART;TZID=America/Los_Angeles:20250516T180000
DTEND;TZID=America/Los_Angeles:20250516T203000
DTSTAMP:20260425T074937
CREATED:20250512T140922Z
LAST-MODIFIED:20250512T140922Z
UID:10043183-1747418400-1747427400@gigharborcommunity.com
SUMMARY:Ladies Night Out
DESCRIPTION:If you have a friend celebrating a May birthday\, are looking for a special way to bond with your sister or mom\, or perhaps you and the girls are in search of something beyond dinner and drinks for your monthly night out\, we’ve got the perfect idea for you! This Mother’s Day\, or any day you want to celebrate the important women in your life\, Java & Clay Cafe invites you to join us for a unique ladies’ night experience. Picture yourself surrounded by the warmth of good company\, indulging in a beautifully arranged grazing table\, and enjoying a selection of beer\, wine\, cider\, and hand-crafted coffees. It’s the perfect setting to relax\, celebrate\, and make lasting memories!\n\nFor just $30 per person\, you’ll receive your first beverage (alcoholic or non-alcoholic)\, delicious bites\, entry to win exciting prizes\, and exclusive late-night studio access with personalized one-on-one instruction from our friendly staff. Pottery is sold separately\, with a wide range of options available at various price points—hundreds of pieces to choose from.\n\nWe can’t wait to see you there!
URL:https://gigharborcommunity.com/event/ladies-night-out-6/
LOCATION:Java & Clay Cafe\, 3210 Harborview Dr\, Gig Harbor\, WA\, 98335\, United States
CATEGORIES:Arts & Crafts,Food & Drink
END:VEVENT
BEGIN:VEVENT
DTSTART;TZID=America/Los_Angeles:20250321T180000
DTEND;TZID=America/Los_Angeles:20250321T200000
DTSTAMP:20260425T074937
CREATED:20250303T053616Z
LAST-MODIFIED:20250303T053616Z
UID:10039065-1742580000-1742587200@gigharborcommunity.com
SUMMARY:Ladies Night Out
DESCRIPTION:If you have a friend celebrating a March birthday\, or you’re seeking a delightful way to bond with your sister or mom\, or maybe you and the girls have been searching for something other than dinner and drinks for your monthly night out\, look no further! At Java & Clay Cafe\, we invite you to join us for a unique ladies night experience. Picture yourself surrounded by the warmth of good company\, indulging in a beautifully arranged grazing table\, and savoring our selection of beer\, wine\, cider\, and hand-crafted coffees.As you unleash your inner artist with our painting techniques\, you’ll not only create a masterpiece but also forge unforgettable memories. This is the perfect opportunity to step outside your comfort zone and embrace a night of creativity and camaraderie.\n$30 includes your first beverage\, unlimited tasty bites and entry to win one of our giveaways. Pottery is sold separately.\nSign up today
URL:https://gigharborcommunity.com/event/ladies-night-out-5/
LOCATION:Java & Clay Cafe\, 3210 Harborview Dr\, Gig Harbor\, WA\, 98335\, United States
CATEGORIES:Arts & Crafts,Food & Drink
END:VEVENT
BEGIN:VEVENT
DTSTART;TZID=America/Los_Angeles:20250124T180000
DTEND;TZID=America/Los_Angeles:20250124T203000
DTSTAMP:20260425T074937
CREATED:20250113T045157Z
LAST-MODIFIED:20250113T045157Z
UID:10038392-1737741600-1737750600@gigharborcommunity.com
SUMMARY:Ladies Night Out
DESCRIPTION:If you have a friend celebrating a January birthday\, or you’re seeking a delightful way to bond with your sister or mom\, or maybe you and the girls have been searching for something other than dinner and drinks for your monthly night out\, look no further! At Java & Clay Cafe\, we invite you to join us for a unique ladies night experience. Picture yourself surrounded by the warmth of good company\, indulging in a beautifully arranged grazing table\, and savoring our selection of beer\, wine\, cider\, and hand-crafted coffees.\nAs you unleash your inner artist with our painting techniques\, you’ll not only create a masterpiece but also forge unforgettable memories. This is the perfect opportunity to step outside your comfort zone and embrace a night of creativity and camaraderie.\n\n$30 includes your first beverage\, unlimited tasty bites and entry to win one of our giveaways. Pottery is sold separately.\n\nSign up today!
URL:https://gigharborcommunity.com/event/ladies-night-out-4/
LOCATION:Java & Clay Cafe\, 3210 Harborview Dr\, Gig Harbor\, WA\, 98335\, United States
CATEGORIES:Arts & Crafts,Food & Drink
END:VEVENT
BEGIN:VEVENT
DTSTART;TZID=America/Los_Angeles:20241220T180000
DTEND;TZID=America/Los_Angeles:20241220T203000
DTSTAMP:20260425T074937
CREATED:20241216T053919Z
LAST-MODIFIED:20241216T053919Z
UID:10037714-1734717600-1734726600@gigharborcommunity.com
SUMMARY:Ladies Night Out
DESCRIPTION:Gather up your friends or join us and make new ones! Choose your favorite piece of pottery from hundreds of pieces\, and we will help you get started. Let the surroundings inspire you or talk to our staff and try out a variety of techniques! Stamps\, stencils\, and idea books are also available. (You can even sketch out your design in pen before you paint\, and the pen will disappear in the kiln!) All ages welcome. $30+tax includes a delicious spread of small bites along with a glass of house red or white wine (or a 16 oz. non-alcoholic beverage of your choice.) Pottery is sold separately. Pieces will be ready 9 days after the event. Let your creativity flow and come have some fun with us!\nPLEASE NOTE: This is a very popular event\, and we do sell out ahead of time. You must preregister to attend! Thank you!
URL:https://gigharborcommunity.com/event/ladies-night-out-3/
LOCATION:Java & Clay Cafe\, 3210 Harborview Dr\, Gig Harbor\, WA\, 98335\, United States
CATEGORIES:Arts & Crafts,Kids & Family
END:VEVENT
BEGIN:VEVENT
DTSTART;TZID=America/Los_Angeles:20241122T180000
DTEND;TZID=America/Los_Angeles:20241122T203000
DTSTAMP:20260425T074937
CREATED:20241104T041209Z
LAST-MODIFIED:20241104T041209Z
UID:10035420-1732298400-1732307400@gigharborcommunity.com
SUMMARY:Ladies Night Out
DESCRIPTION:Gather up your friends or join us and make new ones! Choose your favorite piece of pottery from hundreds of pieces\, and we will help you get started. Let the surroundings inspire you\, or talk to our staff and try out a variety of techniques! Stamps\, stencils\, and idea books are also available. (You can even sketch out your design in pen before you paint and the pen will disappear in the kiln!) All ages welcome. $30+tax includes a delicious spread of small bites along with a glass of house red or white wine (or a 16 oz. non-alcoholic beverage of your choice.) Pottery is sold separately. Pieces will be ready 9 days after the event. Let your creativity flow and come have some fun with us! \nPLEASE NOTE: This is a very popular event and we do sell out ahead of time. You must pre-register to attend! Thank you!
URL:https://gigharborcommunity.com/event/ladies-night-out-2/
LOCATION:Java & Clay Cafe\, 3210 Harborview Dr\, Gig Harbor\, WA\, 98335\, United States
CATEGORIES:Arts & Crafts,Kids & Family
END:VEVENT
BEGIN:VEVENT
DTSTART;TZID=America/Los_Angeles:20241018T180000
DTEND;TZID=America/Los_Angeles:20241018T203000
DTSTAMP:20260425T074937
CREATED:20241014T032524Z
LAST-MODIFIED:20241014T032548Z
UID:10033698-1729274400-1729283400@gigharborcommunity.com
SUMMARY:Ladies Night Out
DESCRIPTION:Gather up your friends or join us and make new ones! Choose your favorite piece of pottery from hundreds of pieces\, and we will help you get started. Let the surroundings inspire you\, or talk to our staff and try out a variety of techniques! Stamps\, stencils\, and idea books are also available. (You can even sketch out your design in pen before you paint and the pen will disappear in the kiln!) All ages welcome. $30+tax includes a delicious spread of small bites along with a glass of house red or white wine (or a 16 oz. non-alcoholic beverage of your choice.) Pottery is sold separately. Pieces will be ready 9 days after the event. Let your creativity flow and come have some fun with us!
URL:https://gigharborcommunity.com/event/ladies-night-out/
LOCATION:Java & Clay Cafe\, 3210 Harborview Dr\, Gig Harbor\, WA\, 98335\, United States
CATEGORIES:Arts & Crafts,Kids & Family
END:VEVENT
END:VCALENDAR