BEGIN:VCALENDAR
VERSION:2.0
PRODID:-//Gig Harbor Events - ECPv6.15.20//NONSGML v1.0//EN
CALSCALE:GREGORIAN
METHOD:PUBLISH
X-WR-CALNAME:Gig Harbor Events
X-ORIGINAL-URL:https://gigharborcommunity.com
X-WR-CALDESC:Events for Gig Harbor Events
REFRESH-INTERVAL;VALUE=DURATION:PT1H
X-Robots-Tag:noindex
X-PUBLISHED-TTL:PT1H
BEGIN:VTIMEZONE
TZID:America/Los_Angeles
BEGIN:DAYLIGHT
TZOFFSETFROM:-0800
TZOFFSETTO:-0700
TZNAME:PDT
DTSTART:20230312T100000
END:DAYLIGHT
BEGIN:STANDARD
TZOFFSETFROM:-0700
TZOFFSETTO:-0800
TZNAME:PST
DTSTART:20231105T090000
END:STANDARD
BEGIN:DAYLIGHT
TZOFFSETFROM:-0800
TZOFFSETTO:-0700
TZNAME:PDT
DTSTART:20240310T100000
END:DAYLIGHT
BEGIN:STANDARD
TZOFFSETFROM:-0700
TZOFFSETTO:-0800
TZNAME:PST
DTSTART:20241103T090000
END:STANDARD
BEGIN:DAYLIGHT
TZOFFSETFROM:-0800
TZOFFSETTO:-0700
TZNAME:PDT
DTSTART:20250309T100000
END:DAYLIGHT
BEGIN:STANDARD
TZOFFSETFROM:-0700
TZOFFSETTO:-0800
TZNAME:PST
DTSTART:20251102T090000
END:STANDARD
END:VTIMEZONE
BEGIN:VEVENT
DTSTART;TZID=America/Los_Angeles:20241225T000000
DTEND;TZID=America/Los_Angeles:20241225T235900
DTSTAMP:20260423T042052
CREATED:20241223T045655Z
LAST-MODIFIED:20241223T045655Z
UID:10037726-1735084800-1735171140@gigharborcommunity.com
SUMMARY:Harbor Holiday Lights Contest
DESCRIPTION:The Harbor Holiday Lights Contest in Gig Harbor is an annual community event where local homes compete for the best holiday decorations. Participants decorate their houses\, and community members are invited to drive through a planned route to admire the displays and vote for their favorite. The event is designed to spread holiday cheer while maintaining respect for private property and ensuring a safe and enjoyable experience for everyone. \nVoting is open and continues through December 25th! Get the routes by visiting event link below.
URL:https://gigharborcommunity.com/event/harbor-holiday-lights-contest-3/
LOCATION:Greater Gig Harbor Area
CATEGORIES:Holidays,Kids & Family
ATTACH;FMTTYPE=image/png:https://gigharborcommunity.com/wp-content/uploads/2024/12/gigharborcontests.png
END:VEVENT
BEGIN:VEVENT
DTSTART;TZID=America/Los_Angeles:20241224T000000
DTEND;TZID=America/Los_Angeles:20241224T235900
DTSTAMP:20260423T042052
CREATED:20241223T045625Z
LAST-MODIFIED:20241223T045625Z
UID:10037725-1734998400-1735084740@gigharborcommunity.com
SUMMARY:Harbor Holiday Lights Contest
DESCRIPTION:The Harbor Holiday Lights Contest in Gig Harbor is an annual community event where local homes compete for the best holiday decorations. Participants decorate their houses\, and community members are invited to drive through a planned route to admire the displays and vote for their favorite. The event is designed to spread holiday cheer while maintaining respect for private property and ensuring a safe and enjoyable experience for everyone. \nVoting is open and continues through December 25th! Get the routes by visiting event link below.
URL:https://gigharborcommunity.com/event/harbor-holiday-lights-contest-2/
LOCATION:Greater Gig Harbor Area
CATEGORIES:Holidays,Kids & Family
ATTACH;FMTTYPE=image/png:https://gigharborcommunity.com/wp-content/uploads/2024/12/gigharborcontests.png
END:VEVENT
BEGIN:VEVENT
DTSTART;TZID=America/Los_Angeles:20241223T000000
DTEND;TZID=America/Los_Angeles:20241223T235900
DTSTAMP:20260423T042052
CREATED:20241223T045556Z
LAST-MODIFIED:20241223T045556Z
UID:10037724-1734912000-1734998340@gigharborcommunity.com
SUMMARY:Harbor Holiday Lights Contest
DESCRIPTION:The Harbor Holiday Lights Contest in Gig Harbor is an annual community event where local homes compete for the best holiday decorations. Participants decorate their houses\, and community members are invited to drive through a planned route to admire the displays and vote for their favorite. The event is designed to spread holiday cheer while maintaining respect for private property and ensuring a safe and enjoyable experience for everyone. \nVoting is open and continues through December 25th! Get the routes by visiting event link below.
URL:https://gigharborcommunity.com/event/harbor-holiday-lights-contest/
LOCATION:Greater Gig Harbor Area
CATEGORIES:Holidays,Kids & Family
ATTACH;FMTTYPE=image/png:https://gigharborcommunity.com/wp-content/uploads/2024/12/gigharborcontests.png
END:VEVENT
BEGIN:VEVENT
DTSTART;TZID=America/Los_Angeles:20240922T100000
DTEND;TZID=America/Los_Angeles:20240922T170000
DTSTAMP:20260423T042052
CREATED:20240723T203350Z
LAST-MODIFIED:20240916T011358Z
UID:10033100-1726999200-1727024400@gigharborcommunity.com
SUMMARY:Open Studio Tour
DESCRIPTION:Free Self Guided Tour\n44 Artists\n25 Studios
URL:https://gigharborcommunity.com/event/open-studio-tour-2/2024-09-22/
LOCATION:Greater Gig Harbor Area
CATEGORIES:Arts & Crafts,Outdoor Events & Festivals
ATTACH;FMTTYPE=image/png:https://gigharborcommunity.com/wp-content/uploads/2024/07/gh-events-rectangle-logos-800-x-300-px.png
END:VEVENT
BEGIN:VEVENT
DTSTART;TZID=America/Los_Angeles:20240921T100000
DTEND;TZID=America/Los_Angeles:20240921T170000
DTSTAMP:20260423T042052
CREATED:20240723T203350Z
LAST-MODIFIED:20240916T011358Z
UID:10033099-1726912800-1726938000@gigharborcommunity.com
SUMMARY:Open Studio Tour
DESCRIPTION:Free Self Guided Tour\n44 Artists\n25 Studios
URL:https://gigharborcommunity.com/event/open-studio-tour-2/2024-09-21/
LOCATION:Greater Gig Harbor Area
CATEGORIES:Arts & Crafts,Outdoor Events & Festivals
ATTACH;FMTTYPE=image/png:https://gigharborcommunity.com/wp-content/uploads/2024/07/gh-events-rectangle-logos-800-x-300-px.png
END:VEVENT
BEGIN:VEVENT
DTSTART;TZID=America/Los_Angeles:20240920T100000
DTEND;TZID=America/Los_Angeles:20240920T170000
DTSTAMP:20260423T042052
CREATED:20240723T203350Z
LAST-MODIFIED:20240916T011358Z
UID:10032390-1726826400-1726851600@gigharborcommunity.com
SUMMARY:Open Studio Tour
DESCRIPTION:Free Self Guided Tour\n44 Artists\n25 Studios
URL:https://gigharborcommunity.com/event/open-studio-tour-2/2024-09-20/
LOCATION:Greater Gig Harbor Area
CATEGORIES:Arts & Crafts,Outdoor Events & Festivals
ATTACH;FMTTYPE=image/png:https://gigharborcommunity.com/wp-content/uploads/2024/07/gh-events-rectangle-logos-800-x-300-px.png
END:VEVENT
BEGIN:VEVENT
DTSTART;TZID=America/Los_Angeles:20240721T100000
DTEND;TZID=America/Los_Angeles:20240721T170000
DTSTAMP:20260423T042052
CREATED:20240722T024039Z
LAST-MODIFIED:20240722T024417Z
UID:10032389-1721556000-1721581200@gigharborcommunity.com
SUMMARY:Open Studio Tour
DESCRIPTION:Free Self Guided Tour\n44 Artists\n25 Studios
URL:https://gigharborcommunity.com/event/open-studio-tour/2024-07-21/
LOCATION:Greater Gig Harbor Area
CATEGORIES:Arts & Crafts,Outdoor Events & Festivals
ATTACH;FMTTYPE=image/png:https://gigharborcommunity.com/wp-content/uploads/2024/07/gh-events-rectangle-logos-800-x-300-px.png
END:VEVENT
BEGIN:VEVENT
DTSTART;TZID=America/Los_Angeles:20240630T110000
DTEND;TZID=America/Los_Angeles:20240630T150000
DTSTAMP:20260423T042052
CREATED:20240628T222516Z
LAST-MODIFIED:20240704T180837Z
UID:10003040-1719745200-1719759600@gigharborcommunity.com
SUMMARY:Gig Harbor Garden Tour
DESCRIPTION:
URL:https://gigharborcommunity.com/event/gig-harbor-garden-tour-2/
LOCATION:Greater Gig Harbor Area
CATEGORIES:Outdoor Events & Festivals
ATTACH;FMTTYPE=image/webp:https://gigharborcommunity.com/wp-content/uploads/2024/06/gh-garden-tour-logo.webp
END:VEVENT
BEGIN:VEVENT
DTSTART;TZID=America/Los_Angeles:20240629T100000
DTEND;TZID=America/Los_Angeles:20240629T170000
DTSTAMP:20260423T042052
CREATED:20240625T222515Z
LAST-MODIFIED:20240704T180901Z
UID:10003039-1719655200-1719680400@gigharborcommunity.com
SUMMARY:Gig Harbor Garden Tour
DESCRIPTION:
URL:https://gigharborcommunity.com/event/gig-harbor-garden-tour/
LOCATION:Greater Gig Harbor Area
CATEGORIES:Outdoor Events & Festivals
ATTACH;FMTTYPE=image/webp:https://gigharborcommunity.com/wp-content/uploads/2024/06/gh-garden-tour-logo.webp
END:VEVENT
END:VCALENDAR