BEGIN:VCALENDAR
VERSION:2.0
PRODID:-//Gig Harbor Events - ECPv6.15.20//NONSGML v1.0//EN
CALSCALE:GREGORIAN
METHOD:PUBLISH
X-WR-CALNAME:Gig Harbor Events
X-ORIGINAL-URL:https://gigharborcommunity.com
X-WR-CALDESC:Events for Gig Harbor Events
REFRESH-INTERVAL;VALUE=DURATION:PT1H
X-Robots-Tag:noindex
X-PUBLISHED-TTL:PT1H
BEGIN:VTIMEZONE
TZID:America/Los_Angeles
BEGIN:DAYLIGHT
TZOFFSETFROM:-0800
TZOFFSETTO:-0700
TZNAME:PDT
DTSTART:20230312T100000
END:DAYLIGHT
BEGIN:STANDARD
TZOFFSETFROM:-0700
TZOFFSETTO:-0800
TZNAME:PST
DTSTART:20231105T090000
END:STANDARD
BEGIN:DAYLIGHT
TZOFFSETFROM:-0800
TZOFFSETTO:-0700
TZNAME:PDT
DTSTART:20240310T100000
END:DAYLIGHT
BEGIN:STANDARD
TZOFFSETFROM:-0700
TZOFFSETTO:-0800
TZNAME:PST
DTSTART:20241103T090000
END:STANDARD
BEGIN:DAYLIGHT
TZOFFSETFROM:-0800
TZOFFSETTO:-0700
TZNAME:PDT
DTSTART:20250309T100000
END:DAYLIGHT
BEGIN:STANDARD
TZOFFSETFROM:-0700
TZOFFSETTO:-0800
TZNAME:PST
DTSTART:20251102T090000
END:STANDARD
END:VTIMEZONE
BEGIN:VEVENT
DTSTART;TZID=America/Los_Angeles:20241211T190000
DTEND;TZID=America/Los_Angeles:20241211T203000
DTSTAMP:20260423T100205
CREATED:20241209T061448Z
LAST-MODIFIED:20241209T061448Z
UID:10037156-1733943600-1733949000@gigharborcommunity.com
SUMMARY:GMS: Jingle & Mingle - A Holiday Experience
DESCRIPTION:Come join the community at Goodman Middle School for their inaugural Jingle & Mingle – A Holiday Experience! Enjoy free hot cocoa and cookies and hear the talented Goodman Middle School students as they perform\, including the GMS Jazz Band\, Drama Class\, Intermediate Band\, Choir\, and Advanced Band!
URL:https://gigharborcommunity.com/event/gms-jingle-mingle-a-holiday-experience/
LOCATION:Goodman Middle School\, 3701 38th Avenue NW\, Gig Harbor\, WA\, 98335\, United States
CATEGORIES:Food & Drink,Holidays,Kids & Family,Live Music
END:VEVENT
END:VCALENDAR