BEGIN:VCALENDAR
VERSION:2.0
PRODID:-//Gig Harbor Events - ECPv6.15.20//NONSGML v1.0//EN
CALSCALE:GREGORIAN
METHOD:PUBLISH
X-WR-CALNAME:Gig Harbor Events
X-ORIGINAL-URL:https://gigharborcommunity.com
X-WR-CALDESC:Events for Gig Harbor Events
REFRESH-INTERVAL;VALUE=DURATION:PT1H
X-Robots-Tag:noindex
X-PUBLISHED-TTL:PT1H
BEGIN:VTIMEZONE
TZID:America/Los_Angeles
BEGIN:DAYLIGHT
TZOFFSETFROM:-0800
TZOFFSETTO:-0700
TZNAME:PDT
DTSTART:20240310T100000
END:DAYLIGHT
BEGIN:STANDARD
TZOFFSETFROM:-0700
TZOFFSETTO:-0800
TZNAME:PST
DTSTART:20241103T090000
END:STANDARD
BEGIN:DAYLIGHT
TZOFFSETFROM:-0800
TZOFFSETTO:-0700
TZNAME:PDT
DTSTART:20250309T100000
END:DAYLIGHT
BEGIN:STANDARD
TZOFFSETFROM:-0700
TZOFFSETTO:-0800
TZNAME:PST
DTSTART:20251102T090000
END:STANDARD
BEGIN:DAYLIGHT
TZOFFSETFROM:-0800
TZOFFSETTO:-0700
TZNAME:PDT
DTSTART:20260308T100000
END:DAYLIGHT
BEGIN:STANDARD
TZOFFSETFROM:-0700
TZOFFSETTO:-0800
TZNAME:PST
DTSTART:20261101T090000
END:STANDARD
END:VTIMEZONE
BEGIN:VEVENT
DTSTART;TZID=America/Los_Angeles:20250913T100000
DTEND;TZID=America/Los_Angeles:20250913T130000
DTSTAMP:20260423T042119
CREATED:20250825T043856Z
LAST-MODIFIED:20250825T044013Z
UID:10052489-1757757600-1757768400@gigharborcommunity.com
SUMMARY:2nd Annual Key Peninsula Civic Center Benefit Car Show
DESCRIPTION:Rev up for the 2nd Annual Key Peninsula Civic Center Benefit Car Show! Last year\, we raised $5\,000+let’s go even bigger!
URL:https://gigharborcommunity.com/event/2nd-annual-key-peninsula-civic-center-benefit-car-show/
LOCATION:Gig Harbor Civic Center Field\, 3510 Grandview St\, Gig Harbor\, WA\, 98335\, United States
CATEGORIES:Cars,Fundraisers
END:VEVENT
BEGIN:VEVENT
DTSTART;TZID=America/Los_Angeles:20250719T120000
DTEND;TZID=America/Los_Angeles:20250719T170000
DTSTAMP:20260423T042119
CREATED:20250714T040124Z
LAST-MODIFIED:20250714T040124Z
UID:10051624-1752926400-1752944400@gigharborcommunity.com
SUMMARY:Raq The Harbor
DESCRIPTION:OVERFLOW PARKING MAP: https://www.raqtheharborhafla.com/parking-map \nParking right in front of the Green is limited\, but there are a plethora of parking lots a block over\, on Kimball Dr.\nTime to refresh your costume closet with an epic Belly Dancer Swap Meet with “starving artist” vending fees: $10 for each 12 x 12 swap meet space! Join us for drumming and dancing\, too! \nSwap meet registration closes July 14 at 5:00pm! \nSunshine Boy needs my time more than ever\, so Raq the Harbor is evolving into something that doesn’t take months of prep\, with the emphasis on gathering\, reunion with friends\, and celebrating. 🙂
URL:https://gigharborcommunity.com/event/raq-the-harbor/
LOCATION:Gig Harbor Civic Center Field\, 3510 Grandview St\, Gig Harbor\, WA\, 98335\, United States
CATEGORIES:Dancing,Kids & Family,Live Music,Outdoor Events & Festivals
END:VEVENT
BEGIN:VEVENT
DTSTART;TZID=America/Los_Angeles:20250510T100000
DTEND;TZID=America/Los_Angeles:20250510T150000
DTSTAMP:20260423T042119
CREATED:20250331T152052Z
LAST-MODIFIED:20250331T152104Z
UID:10042980-1746871200-1746889200@gigharborcommunity.com
SUMMARY:Local Makers Spring Market & Festival
DESCRIPTION:A one day\, FREE event for the whole family!Plan to STAY ~ PLAY ~ EAT ~ SHOP TOGETHERGig Harbor Civic Center GreenMay 10\, 2025 10am – 3pm\nWe are thrilled to continue to create an event that offers entertainment and activities for all ages\, making it an enticing destination to have quality time together and celebrate Mother’s Day.\nWhat to Expect:\n~ Local Makers and Mini Makers (youth) Market for shopping handmade items\n~ Live entertainment from local musicians\, student performances\, and aerial performances by local students\n~ Workshops on-site for guests to be hands-on\n~ Food and drink to fuel your play\n~ Interactive art installment created by a local artist\n~ Kids Corner: Crafts\, create\, play & explore zone\n~ Additional participants include student artists\, related small businesses and community organizations
URL:https://gigharborcommunity.com/event/local-makers-spring-market-festival/
LOCATION:Gig Harbor Civic Center Field\, 3510 Grandview St\, Gig Harbor\, WA\, 98335\, United States
CATEGORIES:Arts & Crafts,Food & Drink,Kids & Family,Live Music,Live Performances,Markets & Pop Ups,Outdoor Events & Festivals
END:VEVENT
END:VCALENDAR