BEGIN:VCALENDAR
VERSION:2.0
PRODID:-//Gig Harbor Events - ECPv6.15.20//NONSGML v1.0//EN
CALSCALE:GREGORIAN
METHOD:PUBLISH
X-ORIGINAL-URL:https://gigharborcommunity.com
X-WR-CALDESC:Events for Gig Harbor Events
REFRESH-INTERVAL;VALUE=DURATION:PT1H
X-Robots-Tag:noindex
X-PUBLISHED-TTL:PT1H
BEGIN:VTIMEZONE
TZID:America/Los_Angeles
BEGIN:DAYLIGHT
TZOFFSETFROM:-0800
TZOFFSETTO:-0700
TZNAME:PDT
DTSTART:20230312T100000
END:DAYLIGHT
BEGIN:STANDARD
TZOFFSETFROM:-0700
TZOFFSETTO:-0800
TZNAME:PST
DTSTART:20231105T090000
END:STANDARD
BEGIN:DAYLIGHT
TZOFFSETFROM:-0800
TZOFFSETTO:-0700
TZNAME:PDT
DTSTART:20240310T100000
END:DAYLIGHT
BEGIN:STANDARD
TZOFFSETFROM:-0700
TZOFFSETTO:-0800
TZNAME:PST
DTSTART:20241103T090000
END:STANDARD
BEGIN:DAYLIGHT
TZOFFSETFROM:-0800
TZOFFSETTO:-0700
TZNAME:PDT
DTSTART:20250309T100000
END:DAYLIGHT
BEGIN:STANDARD
TZOFFSETFROM:-0700
TZOFFSETTO:-0800
TZNAME:PST
DTSTART:20251102T090000
END:STANDARD
END:VTIMEZONE
BEGIN:VEVENT
DTSTART;TZID=America/Los_Angeles:20240930T150000
DTEND;TZID=America/Los_Angeles:20240930T200000
DTSTAMP:20260425T032231
CREATED:20240630T013054Z
LAST-MODIFIED:20240704T180727Z
UID:10016166-1727708400-1727726400@gigharborcommunity.com
SUMMARY:Mug Club Monday at GH Brewing
DESCRIPTION:$1 off first pour (not wine)
URL:https://gigharborcommunity.com/event/mug-club-monday-at-gh-brewing/2024-09-30/
LOCATION:Evergreen State Brewing Co.\, 3155 Harborview Dr\, Gig Harbor\, WA\, 98335
CATEGORIES:Discount Days,Food & Drink
END:VEVENT
BEGIN:VEVENT
DTSTART;TZID=America/Los_Angeles:20240925T150000
DTEND;TZID=America/Los_Angeles:20240925T200000
DTSTAMP:20260425T032231
CREATED:20240630T013209Z
LAST-MODIFIED:20240704T180050Z
UID:10015385-1727276400-1727294400@gigharborcommunity.com
SUMMARY:Wine Wednesday  at GH Brewing
DESCRIPTION:$6 pours
URL:https://gigharborcommunity.com/event/wine-wednesday-at-gh-brewing/2024-09-25/
LOCATION:Evergreen State Brewing Co.\, 3155 Harborview Dr\, Gig Harbor\, WA\, 98335
CATEGORIES:Discount Days,Food & Drink
END:VEVENT
BEGIN:VEVENT
DTSTART;TZID=America/Los_Angeles:20240924T150000
DTEND;TZID=America/Los_Angeles:20240924T200000
DTSTAMP:20260425T032231
CREATED:20240630T013209Z
LAST-MODIFIED:20240704T180714Z
UID:10029471-1727190000-1727208000@gigharborcommunity.com
SUMMARY:Teacher Tuesday  at GH Brewing
DESCRIPTION:20% for teachers
URL:https://gigharborcommunity.com/event/teacher-tuesday-at-gh-brewing/2024-09-24/
LOCATION:Evergreen State Brewing Co.\, 3155 Harborview Dr\, Gig Harbor\, WA\, 98335
CATEGORIES:Discount Days,Food & Drink
END:VEVENT
BEGIN:VEVENT
DTSTART;TZID=America/Los_Angeles:20240923T150000
DTEND;TZID=America/Los_Angeles:20240923T200000
DTSTAMP:20260425T032231
CREATED:20240630T013054Z
LAST-MODIFIED:20240704T180727Z
UID:10016165-1727103600-1727121600@gigharborcommunity.com
SUMMARY:Mug Club Monday at GH Brewing
DESCRIPTION:$1 off first pour (not wine)
URL:https://gigharborcommunity.com/event/mug-club-monday-at-gh-brewing/2024-09-23/
LOCATION:Evergreen State Brewing Co.\, 3155 Harborview Dr\, Gig Harbor\, WA\, 98335
CATEGORIES:Discount Days,Food & Drink
END:VEVENT
BEGIN:VEVENT
DTSTART;TZID=America/Los_Angeles:20240918T150000
DTEND;TZID=America/Los_Angeles:20240918T200000
DTSTAMP:20260425T032231
CREATED:20240630T013209Z
LAST-MODIFIED:20240704T180050Z
UID:10015384-1726671600-1726689600@gigharborcommunity.com
SUMMARY:Wine Wednesday  at GH Brewing
DESCRIPTION:$6 pours
URL:https://gigharborcommunity.com/event/wine-wednesday-at-gh-brewing/2024-09-18/
LOCATION:Evergreen State Brewing Co.\, 3155 Harborview Dr\, Gig Harbor\, WA\, 98335
CATEGORIES:Discount Days,Food & Drink
END:VEVENT
BEGIN:VEVENT
DTSTART;TZID=America/Los_Angeles:20240917T173000
DTEND;TZID=America/Los_Angeles:20240917T193000
DTSTAMP:20260425T032231
CREATED:20240915T231026Z
LAST-MODIFIED:20240915T231300Z
UID:10032562-1726594200-1726601400@gigharborcommunity.com
SUMMARY:Fall Pumpkin Paint
DESCRIPTION:Come to Gig Harbor Brewing Co. for this fun fall pumpkin paint! $30 per person cash\, Venmo\, PayPal\, cash app or Zelle. Includes all art supplies and instruction. Please come early with cash or pre pay to reserve a spot. Visit the event link for pre pay details. Gig Harbor Brewing Co. has an awesome selection of beverages available for purchase at the taproom. Order yummy meals from the Trolly or bring any delicious snacks of your choice! See you there!
URL:https://gigharborcommunity.com/event/fall-pumpkin-paint/
LOCATION:Evergreen State Brewing Co.\, 3155 Harborview Dr\, Gig Harbor\, WA\, 98335
CATEGORIES:Arts & Crafts,Food & Drink
END:VEVENT
BEGIN:VEVENT
DTSTART;TZID=America/Los_Angeles:20240917T150000
DTEND;TZID=America/Los_Angeles:20240917T200000
DTSTAMP:20260425T032231
CREATED:20240630T013209Z
LAST-MODIFIED:20240704T180714Z
UID:10029470-1726585200-1726603200@gigharborcommunity.com
SUMMARY:Teacher Tuesday  at GH Brewing
DESCRIPTION:20% for teachers
URL:https://gigharborcommunity.com/event/teacher-tuesday-at-gh-brewing/2024-09-17/
LOCATION:Evergreen State Brewing Co.\, 3155 Harborview Dr\, Gig Harbor\, WA\, 98335
CATEGORIES:Discount Days,Food & Drink
END:VEVENT
BEGIN:VEVENT
DTSTART;TZID=America/Los_Angeles:20240916T150000
DTEND;TZID=America/Los_Angeles:20240916T200000
DTSTAMP:20260425T032231
CREATED:20240630T013054Z
LAST-MODIFIED:20240704T180727Z
UID:10016164-1726498800-1726516800@gigharborcommunity.com
SUMMARY:Mug Club Monday at GH Brewing
DESCRIPTION:$1 off first pour (not wine)
URL:https://gigharborcommunity.com/event/mug-club-monday-at-gh-brewing/2024-09-16/
LOCATION:Evergreen State Brewing Co.\, 3155 Harborview Dr\, Gig Harbor\, WA\, 98335
CATEGORIES:Discount Days,Food & Drink
END:VEVENT
BEGIN:VEVENT
DTSTART;TZID=America/Los_Angeles:20240911T150000
DTEND;TZID=America/Los_Angeles:20240911T200000
DTSTAMP:20260425T032231
CREATED:20240630T013209Z
LAST-MODIFIED:20240704T180050Z
UID:10015383-1726066800-1726084800@gigharborcommunity.com
SUMMARY:Wine Wednesday  at GH Brewing
DESCRIPTION:$6 pours
URL:https://gigharborcommunity.com/event/wine-wednesday-at-gh-brewing/2024-09-11/
LOCATION:Evergreen State Brewing Co.\, 3155 Harborview Dr\, Gig Harbor\, WA\, 98335
CATEGORIES:Discount Days,Food & Drink
END:VEVENT
BEGIN:VEVENT
DTSTART;TZID=America/Los_Angeles:20240910T150000
DTEND;TZID=America/Los_Angeles:20240910T200000
DTSTAMP:20260425T032231
CREATED:20240630T013209Z
LAST-MODIFIED:20240704T180714Z
UID:10029469-1725980400-1725998400@gigharborcommunity.com
SUMMARY:Teacher Tuesday  at GH Brewing
DESCRIPTION:20% for teachers
URL:https://gigharborcommunity.com/event/teacher-tuesday-at-gh-brewing/2024-09-10/
LOCATION:Evergreen State Brewing Co.\, 3155 Harborview Dr\, Gig Harbor\, WA\, 98335
CATEGORIES:Discount Days,Food & Drink
END:VEVENT
BEGIN:VEVENT
DTSTART;TZID=America/Los_Angeles:20240909T150000
DTEND;TZID=America/Los_Angeles:20240909T200000
DTSTAMP:20260425T032231
CREATED:20240630T013054Z
LAST-MODIFIED:20240704T180727Z
UID:10016163-1725894000-1725912000@gigharborcommunity.com
SUMMARY:Mug Club Monday at GH Brewing
DESCRIPTION:$1 off first pour (not wine)
URL:https://gigharborcommunity.com/event/mug-club-monday-at-gh-brewing/2024-09-09/
LOCATION:Evergreen State Brewing Co.\, 3155 Harborview Dr\, Gig Harbor\, WA\, 98335
CATEGORIES:Discount Days,Food & Drink
END:VEVENT
BEGIN:VEVENT
DTSTART;TZID=America/Los_Angeles:20240904T150000
DTEND;TZID=America/Los_Angeles:20240904T200000
DTSTAMP:20260425T032231
CREATED:20240630T013209Z
LAST-MODIFIED:20240704T180050Z
UID:10015382-1725462000-1725480000@gigharborcommunity.com
SUMMARY:Wine Wednesday  at GH Brewing
DESCRIPTION:$6 pours
URL:https://gigharborcommunity.com/event/wine-wednesday-at-gh-brewing/2024-09-04/
LOCATION:Evergreen State Brewing Co.\, 3155 Harborview Dr\, Gig Harbor\, WA\, 98335
CATEGORIES:Discount Days,Food & Drink
END:VEVENT
BEGIN:VEVENT
DTSTART;TZID=America/Los_Angeles:20240903T150000
DTEND;TZID=America/Los_Angeles:20240903T200000
DTSTAMP:20260425T032231
CREATED:20240630T013209Z
LAST-MODIFIED:20240704T180714Z
UID:10029468-1725375600-1725393600@gigharborcommunity.com
SUMMARY:Teacher Tuesday  at GH Brewing
DESCRIPTION:20% for teachers
URL:https://gigharborcommunity.com/event/teacher-tuesday-at-gh-brewing/2024-09-03/
LOCATION:Evergreen State Brewing Co.\, 3155 Harborview Dr\, Gig Harbor\, WA\, 98335
CATEGORIES:Discount Days,Food & Drink
END:VEVENT
BEGIN:VEVENT
DTSTART;TZID=America/Los_Angeles:20240902T150000
DTEND;TZID=America/Los_Angeles:20240902T200000
DTSTAMP:20260425T032231
CREATED:20240630T013054Z
LAST-MODIFIED:20240704T180727Z
UID:10016162-1725289200-1725307200@gigharborcommunity.com
SUMMARY:Mug Club Monday at GH Brewing
DESCRIPTION:$1 off first pour (not wine)
URL:https://gigharborcommunity.com/event/mug-club-monday-at-gh-brewing/2024-09-02/
LOCATION:Evergreen State Brewing Co.\, 3155 Harborview Dr\, Gig Harbor\, WA\, 98335
CATEGORIES:Discount Days,Food & Drink
END:VEVENT
BEGIN:VEVENT
DTSTART;TZID=America/Los_Angeles:20240828T150000
DTEND;TZID=America/Los_Angeles:20240828T200000
DTSTAMP:20260425T032231
CREATED:20240630T013209Z
LAST-MODIFIED:20240704T180050Z
UID:10015381-1724857200-1724875200@gigharborcommunity.com
SUMMARY:Wine Wednesday  at GH Brewing
DESCRIPTION:$6 pours
URL:https://gigharborcommunity.com/event/wine-wednesday-at-gh-brewing/2024-08-28/
LOCATION:Evergreen State Brewing Co.\, 3155 Harborview Dr\, Gig Harbor\, WA\, 98335
CATEGORIES:Discount Days,Food & Drink
END:VEVENT
BEGIN:VEVENT
DTSTART;TZID=America/Los_Angeles:20240827T150000
DTEND;TZID=America/Los_Angeles:20240827T200000
DTSTAMP:20260425T032231
CREATED:20240630T013209Z
LAST-MODIFIED:20240704T180714Z
UID:10029467-1724770800-1724788800@gigharborcommunity.com
SUMMARY:Teacher Tuesday  at GH Brewing
DESCRIPTION:20% for teachers
URL:https://gigharborcommunity.com/event/teacher-tuesday-at-gh-brewing/2024-08-27/
LOCATION:Evergreen State Brewing Co.\, 3155 Harborview Dr\, Gig Harbor\, WA\, 98335
CATEGORIES:Discount Days,Food & Drink
END:VEVENT
BEGIN:VEVENT
DTSTART;TZID=America/Los_Angeles:20240826T150000
DTEND;TZID=America/Los_Angeles:20240826T200000
DTSTAMP:20260425T032231
CREATED:20240630T013054Z
LAST-MODIFIED:20240704T180727Z
UID:10016161-1724684400-1724702400@gigharborcommunity.com
SUMMARY:Mug Club Monday at GH Brewing
DESCRIPTION:$1 off first pour (not wine)
URL:https://gigharborcommunity.com/event/mug-club-monday-at-gh-brewing/2024-08-26/
LOCATION:Evergreen State Brewing Co.\, 3155 Harborview Dr\, Gig Harbor\, WA\, 98335
CATEGORIES:Discount Days,Food & Drink
END:VEVENT
BEGIN:VEVENT
DTSTART;TZID=America/Los_Angeles:20240821T150000
DTEND;TZID=America/Los_Angeles:20240821T200000
DTSTAMP:20260425T032231
CREATED:20240630T013209Z
LAST-MODIFIED:20240704T180050Z
UID:10015380-1724252400-1724270400@gigharborcommunity.com
SUMMARY:Wine Wednesday  at GH Brewing
DESCRIPTION:$6 pours
URL:https://gigharborcommunity.com/event/wine-wednesday-at-gh-brewing/2024-08-21/
LOCATION:Evergreen State Brewing Co.\, 3155 Harborview Dr\, Gig Harbor\, WA\, 98335
CATEGORIES:Discount Days,Food & Drink
END:VEVENT
BEGIN:VEVENT
DTSTART;TZID=America/Los_Angeles:20240820T150000
DTEND;TZID=America/Los_Angeles:20240820T200000
DTSTAMP:20260425T032231
CREATED:20240630T013209Z
LAST-MODIFIED:20240704T180714Z
UID:10029466-1724166000-1724184000@gigharborcommunity.com
SUMMARY:Teacher Tuesday  at GH Brewing
DESCRIPTION:20% for teachers
URL:https://gigharborcommunity.com/event/teacher-tuesday-at-gh-brewing/2024-08-20/
LOCATION:Evergreen State Brewing Co.\, 3155 Harborview Dr\, Gig Harbor\, WA\, 98335
CATEGORIES:Discount Days,Food & Drink
END:VEVENT
BEGIN:VEVENT
DTSTART;TZID=America/Los_Angeles:20240819T150000
DTEND;TZID=America/Los_Angeles:20240819T200000
DTSTAMP:20260425T032231
CREATED:20240630T013054Z
LAST-MODIFIED:20240704T180727Z
UID:10016160-1724079600-1724097600@gigharborcommunity.com
SUMMARY:Mug Club Monday at GH Brewing
DESCRIPTION:$1 off first pour (not wine)
URL:https://gigharborcommunity.com/event/mug-club-monday-at-gh-brewing/2024-08-19/
LOCATION:Evergreen State Brewing Co.\, 3155 Harborview Dr\, Gig Harbor\, WA\, 98335
CATEGORIES:Discount Days,Food & Drink
END:VEVENT
BEGIN:VEVENT
DTSTART;TZID=America/Los_Angeles:20240814T150000
DTEND;TZID=America/Los_Angeles:20240814T200000
DTSTAMP:20260425T032231
CREATED:20240630T013209Z
LAST-MODIFIED:20240704T180050Z
UID:10015379-1723647600-1723665600@gigharborcommunity.com
SUMMARY:Wine Wednesday  at GH Brewing
DESCRIPTION:$6 pours
URL:https://gigharborcommunity.com/event/wine-wednesday-at-gh-brewing/2024-08-14/
LOCATION:Evergreen State Brewing Co.\, 3155 Harborview Dr\, Gig Harbor\, WA\, 98335
CATEGORIES:Discount Days,Food & Drink
END:VEVENT
BEGIN:VEVENT
DTSTART;TZID=America/Los_Angeles:20240813T150000
DTEND;TZID=America/Los_Angeles:20240813T200000
DTSTAMP:20260425T032231
CREATED:20240630T013209Z
LAST-MODIFIED:20240704T180714Z
UID:10029465-1723561200-1723579200@gigharborcommunity.com
SUMMARY:Teacher Tuesday  at GH Brewing
DESCRIPTION:20% for teachers
URL:https://gigharborcommunity.com/event/teacher-tuesday-at-gh-brewing/2024-08-13/
LOCATION:Evergreen State Brewing Co.\, 3155 Harborview Dr\, Gig Harbor\, WA\, 98335
CATEGORIES:Discount Days,Food & Drink
END:VEVENT
BEGIN:VEVENT
DTSTART;TZID=America/Los_Angeles:20240812T150000
DTEND;TZID=America/Los_Angeles:20240812T200000
DTSTAMP:20260425T032231
CREATED:20240630T013054Z
LAST-MODIFIED:20240704T180727Z
UID:10016159-1723474800-1723492800@gigharborcommunity.com
SUMMARY:Mug Club Monday at GH Brewing
DESCRIPTION:$1 off first pour (not wine)
URL:https://gigharborcommunity.com/event/mug-club-monday-at-gh-brewing/2024-08-12/
LOCATION:Evergreen State Brewing Co.\, 3155 Harborview Dr\, Gig Harbor\, WA\, 98335
CATEGORIES:Discount Days,Food & Drink
END:VEVENT
BEGIN:VEVENT
DTSTART;TZID=America/Los_Angeles:20240807T150000
DTEND;TZID=America/Los_Angeles:20240807T200000
DTSTAMP:20260425T032231
CREATED:20240630T013209Z
LAST-MODIFIED:20240704T180050Z
UID:10015378-1723042800-1723060800@gigharborcommunity.com
SUMMARY:Wine Wednesday  at GH Brewing
DESCRIPTION:$6 pours
URL:https://gigharborcommunity.com/event/wine-wednesday-at-gh-brewing/2024-08-07/
LOCATION:Evergreen State Brewing Co.\, 3155 Harborview Dr\, Gig Harbor\, WA\, 98335
CATEGORIES:Discount Days,Food & Drink
END:VEVENT
BEGIN:VEVENT
DTSTART;TZID=America/Los_Angeles:20240806T150000
DTEND;TZID=America/Los_Angeles:20240806T200000
DTSTAMP:20260425T032231
CREATED:20240630T013209Z
LAST-MODIFIED:20240704T180714Z
UID:10029464-1722956400-1722974400@gigharborcommunity.com
SUMMARY:Teacher Tuesday  at GH Brewing
DESCRIPTION:20% for teachers
URL:https://gigharborcommunity.com/event/teacher-tuesday-at-gh-brewing/2024-08-06/
LOCATION:Evergreen State Brewing Co.\, 3155 Harborview Dr\, Gig Harbor\, WA\, 98335
CATEGORIES:Discount Days,Food & Drink
END:VEVENT
BEGIN:VEVENT
DTSTART;TZID=America/Los_Angeles:20240805T150000
DTEND;TZID=America/Los_Angeles:20240805T200000
DTSTAMP:20260425T032231
CREATED:20240630T013054Z
LAST-MODIFIED:20240704T180727Z
UID:10016158-1722870000-1722888000@gigharborcommunity.com
SUMMARY:Mug Club Monday at GH Brewing
DESCRIPTION:$1 off first pour (not wine)
URL:https://gigharborcommunity.com/event/mug-club-monday-at-gh-brewing/2024-08-05/
LOCATION:Evergreen State Brewing Co.\, 3155 Harborview Dr\, Gig Harbor\, WA\, 98335
CATEGORIES:Discount Days,Food & Drink
END:VEVENT
BEGIN:VEVENT
DTSTART;TZID=America/Los_Angeles:20240731T150000
DTEND;TZID=America/Los_Angeles:20240731T200000
DTSTAMP:20260425T032231
CREATED:20240630T013209Z
LAST-MODIFIED:20240704T180050Z
UID:10015377-1722438000-1722456000@gigharborcommunity.com
SUMMARY:Wine Wednesday  at GH Brewing
DESCRIPTION:$6 pours
URL:https://gigharborcommunity.com/event/wine-wednesday-at-gh-brewing/2024-07-31/
LOCATION:Evergreen State Brewing Co.\, 3155 Harborview Dr\, Gig Harbor\, WA\, 98335
CATEGORIES:Discount Days,Food & Drink
END:VEVENT
BEGIN:VEVENT
DTSTART;TZID=America/Los_Angeles:20240730T150000
DTEND;TZID=America/Los_Angeles:20240730T200000
DTSTAMP:20260425T032231
CREATED:20240630T013209Z
LAST-MODIFIED:20240704T180714Z
UID:10029463-1722351600-1722369600@gigharborcommunity.com
SUMMARY:Teacher Tuesday  at GH Brewing
DESCRIPTION:20% for teachers
URL:https://gigharborcommunity.com/event/teacher-tuesday-at-gh-brewing/2024-07-30/
LOCATION:Evergreen State Brewing Co.\, 3155 Harborview Dr\, Gig Harbor\, WA\, 98335
CATEGORIES:Discount Days,Food & Drink
END:VEVENT
BEGIN:VEVENT
DTSTART;TZID=America/Los_Angeles:20240729T150000
DTEND;TZID=America/Los_Angeles:20240729T200000
DTSTAMP:20260425T032231
CREATED:20240630T013054Z
LAST-MODIFIED:20240704T180727Z
UID:10016157-1722265200-1722283200@gigharborcommunity.com
SUMMARY:Mug Club Monday at GH Brewing
DESCRIPTION:$1 off first pour (not wine)
URL:https://gigharborcommunity.com/event/mug-club-monday-at-gh-brewing/2024-07-29/
LOCATION:Evergreen State Brewing Co.\, 3155 Harborview Dr\, Gig Harbor\, WA\, 98335
CATEGORIES:Discount Days,Food & Drink
END:VEVENT
BEGIN:VEVENT
DTSTART;TZID=America/Los_Angeles:20240724T150000
DTEND;TZID=America/Los_Angeles:20240724T200000
DTSTAMP:20260425T032231
CREATED:20240630T013209Z
LAST-MODIFIED:20240704T180050Z
UID:10015376-1721833200-1721851200@gigharborcommunity.com
SUMMARY:Wine Wednesday  at GH Brewing
DESCRIPTION:$6 pours
URL:https://gigharborcommunity.com/event/wine-wednesday-at-gh-brewing/2024-07-24/
LOCATION:Evergreen State Brewing Co.\, 3155 Harborview Dr\, Gig Harbor\, WA\, 98335
CATEGORIES:Discount Days,Food & Drink
END:VEVENT
END:VCALENDAR