BEGIN:VCALENDAR
VERSION:2.0
PRODID:-//Gig Harbor Events - ECPv6.15.20//NONSGML v1.0//EN
CALSCALE:GREGORIAN
METHOD:PUBLISH
X-WR-CALNAME:Gig Harbor Events
X-ORIGINAL-URL:https://gigharborcommunity.com
X-WR-CALDESC:Events for Gig Harbor Events
REFRESH-INTERVAL;VALUE=DURATION:PT1H
X-Robots-Tag:noindex
X-PUBLISHED-TTL:PT1H
BEGIN:VTIMEZONE
TZID:America/Los_Angeles
BEGIN:DAYLIGHT
TZOFFSETFROM:-0800
TZOFFSETTO:-0700
TZNAME:PDT
DTSTART:20250309T100000
END:DAYLIGHT
BEGIN:STANDARD
TZOFFSETFROM:-0700
TZOFFSETTO:-0800
TZNAME:PST
DTSTART:20251102T090000
END:STANDARD
BEGIN:DAYLIGHT
TZOFFSETFROM:-0800
TZOFFSETTO:-0700
TZNAME:PDT
DTSTART:20260308T100000
END:DAYLIGHT
BEGIN:STANDARD
TZOFFSETFROM:-0700
TZOFFSETTO:-0800
TZNAME:PST
DTSTART:20261101T090000
END:STANDARD
BEGIN:DAYLIGHT
TZOFFSETFROM:-0800
TZOFFSETTO:-0700
TZNAME:PDT
DTSTART:20270314T100000
END:DAYLIGHT
BEGIN:STANDARD
TZOFFSETFROM:-0700
TZOFFSETTO:-0800
TZNAME:PST
DTSTART:20271107T090000
END:STANDARD
END:VTIMEZONE
BEGIN:VEVENT
DTSTART;TZID=America/Los_Angeles:20260420T153000
DTEND;TZID=America/Los_Angeles:20260420T183000
DTSTAMP:20260420T082904
CREATED:20250704T155504Z
LAST-MODIFIED:20250704T155504Z
UID:10045851-1776699000-1776709800@gigharborcommunity.com
SUMMARY:Happy Hour at Anthony's
DESCRIPTION:
URL:https://gigharborcommunity.com/event/happy-hour-at-anthonys-2/2026-04-20/
LOCATION:Anthony’s at Gig Harbor\, 8827 N. Harborview Drive\, Gig Harbor\, WA\, 98332
CATEGORIES:Food & Drink,Happy Hour
END:VEVENT
BEGIN:VEVENT
DTSTART;TZID=America/Los_Angeles:20260421T153000
DTEND;TZID=America/Los_Angeles:20260421T183000
DTSTAMP:20260420T082904
CREATED:20250704T155504Z
LAST-MODIFIED:20250704T155504Z
UID:10045852-1776785400-1776796200@gigharborcommunity.com
SUMMARY:Happy Hour at Anthony's
DESCRIPTION:
URL:https://gigharborcommunity.com/event/happy-hour-at-anthonys-2/2026-04-21/
LOCATION:Anthony’s at Gig Harbor\, 8827 N. Harborview Drive\, Gig Harbor\, WA\, 98332
CATEGORIES:Food & Drink,Happy Hour
END:VEVENT
BEGIN:VEVENT
DTSTART;TZID=America/Los_Angeles:20260422T153000
DTEND;TZID=America/Los_Angeles:20260422T183000
DTSTAMP:20260420T082904
CREATED:20250704T155504Z
LAST-MODIFIED:20250704T155504Z
UID:10045853-1776871800-1776882600@gigharborcommunity.com
SUMMARY:Happy Hour at Anthony's
DESCRIPTION:
URL:https://gigharborcommunity.com/event/happy-hour-at-anthonys-2/2026-04-22/
LOCATION:Anthony’s at Gig Harbor\, 8827 N. Harborview Drive\, Gig Harbor\, WA\, 98332
CATEGORIES:Food & Drink,Happy Hour
END:VEVENT
BEGIN:VEVENT
DTSTART;TZID=America/Los_Angeles:20260423T153000
DTEND;TZID=America/Los_Angeles:20260423T183000
DTSTAMP:20260420T082904
CREATED:20250704T155504Z
LAST-MODIFIED:20250704T155504Z
UID:10045854-1776958200-1776969000@gigharborcommunity.com
SUMMARY:Happy Hour at Anthony's
DESCRIPTION:
URL:https://gigharborcommunity.com/event/happy-hour-at-anthonys-2/2026-04-23/
LOCATION:Anthony’s at Gig Harbor\, 8827 N. Harborview Drive\, Gig Harbor\, WA\, 98332
CATEGORIES:Food & Drink,Happy Hour
END:VEVENT
BEGIN:VEVENT
DTSTART;TZID=America/Los_Angeles:20260424T153000
DTEND;TZID=America/Los_Angeles:20260424T183000
DTSTAMP:20260420T082904
CREATED:20250704T155504Z
LAST-MODIFIED:20250704T155504Z
UID:10045855-1777044600-1777055400@gigharborcommunity.com
SUMMARY:Happy Hour at Anthony's
DESCRIPTION:
URL:https://gigharborcommunity.com/event/happy-hour-at-anthonys-2/2026-04-24/
LOCATION:Anthony’s at Gig Harbor\, 8827 N. Harborview Drive\, Gig Harbor\, WA\, 98332
CATEGORIES:Food & Drink,Happy Hour
END:VEVENT
BEGIN:VEVENT
DTSTART;TZID=America/Los_Angeles:20260425T153000
DTEND;TZID=America/Los_Angeles:20260425T183000
DTSTAMP:20260420T082904
CREATED:20250704T155504Z
LAST-MODIFIED:20250704T155504Z
UID:10045856-1777131000-1777141800@gigharborcommunity.com
SUMMARY:Happy Hour at Anthony's
DESCRIPTION:
URL:https://gigharborcommunity.com/event/happy-hour-at-anthonys-2/2026-04-25/
LOCATION:Anthony’s at Gig Harbor\, 8827 N. Harborview Drive\, Gig Harbor\, WA\, 98332
CATEGORIES:Food & Drink,Happy Hour
END:VEVENT
BEGIN:VEVENT
DTSTART;TZID=America/Los_Angeles:20260427T153000
DTEND;TZID=America/Los_Angeles:20260427T183000
DTSTAMP:20260420T082904
CREATED:20250704T155504Z
LAST-MODIFIED:20250704T155504Z
UID:10045857-1777303800-1777314600@gigharborcommunity.com
SUMMARY:Happy Hour at Anthony's
DESCRIPTION:
URL:https://gigharborcommunity.com/event/happy-hour-at-anthonys-2/2026-04-27/
LOCATION:Anthony’s at Gig Harbor\, 8827 N. Harborview Drive\, Gig Harbor\, WA\, 98332
CATEGORIES:Food & Drink,Happy Hour
END:VEVENT
BEGIN:VEVENT
DTSTART;TZID=America/Los_Angeles:20260428T153000
DTEND;TZID=America/Los_Angeles:20260428T183000
DTSTAMP:20260420T082904
CREATED:20250704T155504Z
LAST-MODIFIED:20250704T155504Z
UID:10045858-1777390200-1777401000@gigharborcommunity.com
SUMMARY:Happy Hour at Anthony's
DESCRIPTION:
URL:https://gigharborcommunity.com/event/happy-hour-at-anthonys-2/2026-04-28/
LOCATION:Anthony’s at Gig Harbor\, 8827 N. Harborview Drive\, Gig Harbor\, WA\, 98332
CATEGORIES:Food & Drink,Happy Hour
END:VEVENT
BEGIN:VEVENT
DTSTART;TZID=America/Los_Angeles:20260429T153000
DTEND;TZID=America/Los_Angeles:20260429T183000
DTSTAMP:20260420T082904
CREATED:20250704T155504Z
LAST-MODIFIED:20250704T155504Z
UID:10045859-1777476600-1777487400@gigharborcommunity.com
SUMMARY:Happy Hour at Anthony's
DESCRIPTION:
URL:https://gigharborcommunity.com/event/happy-hour-at-anthonys-2/2026-04-29/
LOCATION:Anthony’s at Gig Harbor\, 8827 N. Harborview Drive\, Gig Harbor\, WA\, 98332
CATEGORIES:Food & Drink,Happy Hour
END:VEVENT
BEGIN:VEVENT
DTSTART;TZID=America/Los_Angeles:20260430T153000
DTEND;TZID=America/Los_Angeles:20260430T183000
DTSTAMP:20260420T082904
CREATED:20250704T155504Z
LAST-MODIFIED:20250704T155504Z
UID:10045860-1777563000-1777573800@gigharborcommunity.com
SUMMARY:Happy Hour at Anthony's
DESCRIPTION:
URL:https://gigharborcommunity.com/event/happy-hour-at-anthonys-2/2026-04-30/
LOCATION:Anthony’s at Gig Harbor\, 8827 N. Harborview Drive\, Gig Harbor\, WA\, 98332
CATEGORIES:Food & Drink,Happy Hour
END:VEVENT
BEGIN:VEVENT
DTSTART;TZID=America/Los_Angeles:20260501T153000
DTEND;TZID=America/Los_Angeles:20260501T183000
DTSTAMP:20260420T082904
CREATED:20250704T155504Z
LAST-MODIFIED:20250704T155504Z
UID:10045861-1777649400-1777660200@gigharborcommunity.com
SUMMARY:Happy Hour at Anthony's
DESCRIPTION:
URL:https://gigharborcommunity.com/event/happy-hour-at-anthonys-2/2026-05-01/
LOCATION:Anthony’s at Gig Harbor\, 8827 N. Harborview Drive\, Gig Harbor\, WA\, 98332
CATEGORIES:Food & Drink,Happy Hour
END:VEVENT
BEGIN:VEVENT
DTSTART;TZID=America/Los_Angeles:20260502T153000
DTEND;TZID=America/Los_Angeles:20260502T183000
DTSTAMP:20260420T082904
CREATED:20250704T155504Z
LAST-MODIFIED:20250704T155504Z
UID:10045862-1777735800-1777746600@gigharborcommunity.com
SUMMARY:Happy Hour at Anthony's
DESCRIPTION:
URL:https://gigharborcommunity.com/event/happy-hour-at-anthonys-2/2026-05-02/
LOCATION:Anthony’s at Gig Harbor\, 8827 N. Harborview Drive\, Gig Harbor\, WA\, 98332
CATEGORIES:Food & Drink,Happy Hour
END:VEVENT
BEGIN:VEVENT
DTSTART;TZID=America/Los_Angeles:20260504T153000
DTEND;TZID=America/Los_Angeles:20260504T183000
DTSTAMP:20260420T082904
CREATED:20250704T155504Z
LAST-MODIFIED:20250704T155504Z
UID:10045863-1777908600-1777919400@gigharborcommunity.com
SUMMARY:Happy Hour at Anthony's
DESCRIPTION:
URL:https://gigharborcommunity.com/event/happy-hour-at-anthonys-2/2026-05-04/
LOCATION:Anthony’s at Gig Harbor\, 8827 N. Harborview Drive\, Gig Harbor\, WA\, 98332
CATEGORIES:Food & Drink,Happy Hour
END:VEVENT
BEGIN:VEVENT
DTSTART;TZID=America/Los_Angeles:20260505T153000
DTEND;TZID=America/Los_Angeles:20260505T183000
DTSTAMP:20260420T082904
CREATED:20250704T155504Z
LAST-MODIFIED:20250704T155504Z
UID:10045864-1777995000-1778005800@gigharborcommunity.com
SUMMARY:Happy Hour at Anthony's
DESCRIPTION:
URL:https://gigharborcommunity.com/event/happy-hour-at-anthonys-2/2026-05-05/
LOCATION:Anthony’s at Gig Harbor\, 8827 N. Harborview Drive\, Gig Harbor\, WA\, 98332
CATEGORIES:Food & Drink,Happy Hour
END:VEVENT
BEGIN:VEVENT
DTSTART;TZID=America/Los_Angeles:20260506T153000
DTEND;TZID=America/Los_Angeles:20260506T183000
DTSTAMP:20260420T082904
CREATED:20250704T155504Z
LAST-MODIFIED:20250704T155504Z
UID:10045865-1778081400-1778092200@gigharborcommunity.com
SUMMARY:Happy Hour at Anthony's
DESCRIPTION:
URL:https://gigharborcommunity.com/event/happy-hour-at-anthonys-2/2026-05-06/
LOCATION:Anthony’s at Gig Harbor\, 8827 N. Harborview Drive\, Gig Harbor\, WA\, 98332
CATEGORIES:Food & Drink,Happy Hour
END:VEVENT
BEGIN:VEVENT
DTSTART;TZID=America/Los_Angeles:20260507T153000
DTEND;TZID=America/Los_Angeles:20260507T183000
DTSTAMP:20260420T082904
CREATED:20250704T155504Z
LAST-MODIFIED:20250704T155504Z
UID:10045866-1778167800-1778178600@gigharborcommunity.com
SUMMARY:Happy Hour at Anthony's
DESCRIPTION:
URL:https://gigharborcommunity.com/event/happy-hour-at-anthonys-2/2026-05-07/
LOCATION:Anthony’s at Gig Harbor\, 8827 N. Harborview Drive\, Gig Harbor\, WA\, 98332
CATEGORIES:Food & Drink,Happy Hour
END:VEVENT
BEGIN:VEVENT
DTSTART;TZID=America/Los_Angeles:20260508T153000
DTEND;TZID=America/Los_Angeles:20260508T183000
DTSTAMP:20260420T082904
CREATED:20250704T155504Z
LAST-MODIFIED:20250704T155504Z
UID:10045867-1778254200-1778265000@gigharborcommunity.com
SUMMARY:Happy Hour at Anthony's
DESCRIPTION:
URL:https://gigharborcommunity.com/event/happy-hour-at-anthonys-2/2026-05-08/
LOCATION:Anthony’s at Gig Harbor\, 8827 N. Harborview Drive\, Gig Harbor\, WA\, 98332
CATEGORIES:Food & Drink,Happy Hour
END:VEVENT
BEGIN:VEVENT
DTSTART;TZID=America/Los_Angeles:20260509T153000
DTEND;TZID=America/Los_Angeles:20260509T183000
DTSTAMP:20260420T082904
CREATED:20250704T155504Z
LAST-MODIFIED:20250704T155504Z
UID:10045868-1778340600-1778351400@gigharborcommunity.com
SUMMARY:Happy Hour at Anthony's
DESCRIPTION:
URL:https://gigharborcommunity.com/event/happy-hour-at-anthonys-2/2026-05-09/
LOCATION:Anthony’s at Gig Harbor\, 8827 N. Harborview Drive\, Gig Harbor\, WA\, 98332
CATEGORIES:Food & Drink,Happy Hour
END:VEVENT
BEGIN:VEVENT
DTSTART;TZID=America/Los_Angeles:20260511T153000
DTEND;TZID=America/Los_Angeles:20260511T183000
DTSTAMP:20260420T082904
CREATED:20250704T155504Z
LAST-MODIFIED:20250704T155504Z
UID:10045869-1778513400-1778524200@gigharborcommunity.com
SUMMARY:Happy Hour at Anthony's
DESCRIPTION:
URL:https://gigharborcommunity.com/event/happy-hour-at-anthonys-2/2026-05-11/
LOCATION:Anthony’s at Gig Harbor\, 8827 N. Harborview Drive\, Gig Harbor\, WA\, 98332
CATEGORIES:Food & Drink,Happy Hour
END:VEVENT
BEGIN:VEVENT
DTSTART;TZID=America/Los_Angeles:20260512T153000
DTEND;TZID=America/Los_Angeles:20260512T183000
DTSTAMP:20260420T082904
CREATED:20250704T155504Z
LAST-MODIFIED:20250704T155504Z
UID:10045870-1778599800-1778610600@gigharborcommunity.com
SUMMARY:Happy Hour at Anthony's
DESCRIPTION:
URL:https://gigharborcommunity.com/event/happy-hour-at-anthonys-2/2026-05-12/
LOCATION:Anthony’s at Gig Harbor\, 8827 N. Harborview Drive\, Gig Harbor\, WA\, 98332
CATEGORIES:Food & Drink,Happy Hour
END:VEVENT
BEGIN:VEVENT
DTSTART;TZID=America/Los_Angeles:20260513T153000
DTEND;TZID=America/Los_Angeles:20260513T183000
DTSTAMP:20260420T082904
CREATED:20250704T155504Z
LAST-MODIFIED:20250704T155504Z
UID:10045871-1778686200-1778697000@gigharborcommunity.com
SUMMARY:Happy Hour at Anthony's
DESCRIPTION:
URL:https://gigharborcommunity.com/event/happy-hour-at-anthonys-2/2026-05-13/
LOCATION:Anthony’s at Gig Harbor\, 8827 N. Harborview Drive\, Gig Harbor\, WA\, 98332
CATEGORIES:Food & Drink,Happy Hour
END:VEVENT
BEGIN:VEVENT
DTSTART;TZID=America/Los_Angeles:20260514T153000
DTEND;TZID=America/Los_Angeles:20260514T183000
DTSTAMP:20260420T082904
CREATED:20250704T155504Z
LAST-MODIFIED:20250704T155504Z
UID:10045872-1778772600-1778783400@gigharborcommunity.com
SUMMARY:Happy Hour at Anthony's
DESCRIPTION:
URL:https://gigharborcommunity.com/event/happy-hour-at-anthonys-2/2026-05-14/
LOCATION:Anthony’s at Gig Harbor\, 8827 N. Harborview Drive\, Gig Harbor\, WA\, 98332
CATEGORIES:Food & Drink,Happy Hour
END:VEVENT
BEGIN:VEVENT
DTSTART;TZID=America/Los_Angeles:20260515T153000
DTEND;TZID=America/Los_Angeles:20260515T183000
DTSTAMP:20260420T082904
CREATED:20250704T155504Z
LAST-MODIFIED:20250704T155504Z
UID:10045873-1778859000-1778869800@gigharborcommunity.com
SUMMARY:Happy Hour at Anthony's
DESCRIPTION:
URL:https://gigharborcommunity.com/event/happy-hour-at-anthonys-2/2026-05-15/
LOCATION:Anthony’s at Gig Harbor\, 8827 N. Harborview Drive\, Gig Harbor\, WA\, 98332
CATEGORIES:Food & Drink,Happy Hour
END:VEVENT
BEGIN:VEVENT
DTSTART;TZID=America/Los_Angeles:20260516T153000
DTEND;TZID=America/Los_Angeles:20260516T183000
DTSTAMP:20260420T082904
CREATED:20250704T155504Z
LAST-MODIFIED:20250704T155504Z
UID:10045874-1778945400-1778956200@gigharborcommunity.com
SUMMARY:Happy Hour at Anthony's
DESCRIPTION:
URL:https://gigharborcommunity.com/event/happy-hour-at-anthonys-2/2026-05-16/
LOCATION:Anthony’s at Gig Harbor\, 8827 N. Harborview Drive\, Gig Harbor\, WA\, 98332
CATEGORIES:Food & Drink,Happy Hour
END:VEVENT
BEGIN:VEVENT
DTSTART;TZID=America/Los_Angeles:20260518T153000
DTEND;TZID=America/Los_Angeles:20260518T183000
DTSTAMP:20260420T082904
CREATED:20250704T155504Z
LAST-MODIFIED:20250704T155504Z
UID:10045875-1779118200-1779129000@gigharborcommunity.com
SUMMARY:Happy Hour at Anthony's
DESCRIPTION:
URL:https://gigharborcommunity.com/event/happy-hour-at-anthonys-2/2026-05-18/
LOCATION:Anthony’s at Gig Harbor\, 8827 N. Harborview Drive\, Gig Harbor\, WA\, 98332
CATEGORIES:Food & Drink,Happy Hour
END:VEVENT
BEGIN:VEVENT
DTSTART;TZID=America/Los_Angeles:20260519T153000
DTEND;TZID=America/Los_Angeles:20260519T183000
DTSTAMP:20260420T082904
CREATED:20250704T155504Z
LAST-MODIFIED:20250704T155504Z
UID:10045876-1779204600-1779215400@gigharborcommunity.com
SUMMARY:Happy Hour at Anthony's
DESCRIPTION:
URL:https://gigharborcommunity.com/event/happy-hour-at-anthonys-2/2026-05-19/
LOCATION:Anthony’s at Gig Harbor\, 8827 N. Harborview Drive\, Gig Harbor\, WA\, 98332
CATEGORIES:Food & Drink,Happy Hour
END:VEVENT
BEGIN:VEVENT
DTSTART;TZID=America/Los_Angeles:20260520T153000
DTEND;TZID=America/Los_Angeles:20260520T183000
DTSTAMP:20260420T082904
CREATED:20250704T155504Z
LAST-MODIFIED:20250704T155504Z
UID:10045877-1779291000-1779301800@gigharborcommunity.com
SUMMARY:Happy Hour at Anthony's
DESCRIPTION:
URL:https://gigharborcommunity.com/event/happy-hour-at-anthonys-2/2026-05-20/
LOCATION:Anthony’s at Gig Harbor\, 8827 N. Harborview Drive\, Gig Harbor\, WA\, 98332
CATEGORIES:Food & Drink,Happy Hour
END:VEVENT
BEGIN:VEVENT
DTSTART;TZID=America/Los_Angeles:20260521T153000
DTEND;TZID=America/Los_Angeles:20260521T183000
DTSTAMP:20260420T082904
CREATED:20250704T155504Z
LAST-MODIFIED:20250704T155504Z
UID:10045878-1779377400-1779388200@gigharborcommunity.com
SUMMARY:Happy Hour at Anthony's
DESCRIPTION:
URL:https://gigharborcommunity.com/event/happy-hour-at-anthonys-2/2026-05-21/
LOCATION:Anthony’s at Gig Harbor\, 8827 N. Harborview Drive\, Gig Harbor\, WA\, 98332
CATEGORIES:Food & Drink,Happy Hour
END:VEVENT
BEGIN:VEVENT
DTSTART;TZID=America/Los_Angeles:20260522T153000
DTEND;TZID=America/Los_Angeles:20260522T183000
DTSTAMP:20260420T082904
CREATED:20250704T155504Z
LAST-MODIFIED:20250704T155504Z
UID:10045879-1779463800-1779474600@gigharborcommunity.com
SUMMARY:Happy Hour at Anthony's
DESCRIPTION:
URL:https://gigharborcommunity.com/event/happy-hour-at-anthonys-2/2026-05-22/
LOCATION:Anthony’s at Gig Harbor\, 8827 N. Harborview Drive\, Gig Harbor\, WA\, 98332
CATEGORIES:Food & Drink,Happy Hour
END:VEVENT
BEGIN:VEVENT
DTSTART;TZID=America/Los_Angeles:20260523T153000
DTEND;TZID=America/Los_Angeles:20260523T183000
DTSTAMP:20260420T082904
CREATED:20250704T155504Z
LAST-MODIFIED:20250704T155504Z
UID:10045880-1779550200-1779561000@gigharborcommunity.com
SUMMARY:Happy Hour at Anthony's
DESCRIPTION:
URL:https://gigharborcommunity.com/event/happy-hour-at-anthonys-2/2026-05-23/
LOCATION:Anthony’s at Gig Harbor\, 8827 N. Harborview Drive\, Gig Harbor\, WA\, 98332
CATEGORIES:Food & Drink,Happy Hour
END:VEVENT
END:VCALENDAR