BEGIN:VCALENDAR
VERSION:2.0
PRODID:-//Gig Harbor Events - ECPv6.15.20//NONSGML v1.0//EN
CALSCALE:GREGORIAN
METHOD:PUBLISH
X-WR-CALNAME:Gig Harbor Events
X-ORIGINAL-URL:https://gigharborcommunity.com
X-WR-CALDESC:Events for Gig Harbor Events
REFRESH-INTERVAL;VALUE=DURATION:PT1H
X-Robots-Tag:noindex
X-PUBLISHED-TTL:PT1H
BEGIN:VTIMEZONE
TZID:America/Los_Angeles
BEGIN:DAYLIGHT
TZOFFSETFROM:-0800
TZOFFSETTO:-0700
TZNAME:PDT
DTSTART:20250309T100000
END:DAYLIGHT
BEGIN:STANDARD
TZOFFSETFROM:-0700
TZOFFSETTO:-0800
TZNAME:PST
DTSTART:20251102T090000
END:STANDARD
BEGIN:DAYLIGHT
TZOFFSETFROM:-0800
TZOFFSETTO:-0700
TZNAME:PDT
DTSTART:20260308T100000
END:DAYLIGHT
BEGIN:STANDARD
TZOFFSETFROM:-0700
TZOFFSETTO:-0800
TZNAME:PST
DTSTART:20261101T090000
END:STANDARD
BEGIN:DAYLIGHT
TZOFFSETFROM:-0800
TZOFFSETTO:-0700
TZNAME:PDT
DTSTART:20270314T100000
END:DAYLIGHT
BEGIN:STANDARD
TZOFFSETFROM:-0700
TZOFFSETTO:-0800
TZNAME:PST
DTSTART:20271107T090000
END:STANDARD
END:VTIMEZONE
BEGIN:VEVENT
DTSTART;TZID=America/Los_Angeles:20260421T150000
DTEND;TZID=America/Los_Angeles:20260421T180000
DTSTAMP:20260421T043916
CREATED:20250704T155120Z
LAST-MODIFIED:20250704T155120Z
UID:10045549-1776783600-1776794400@gigharborcommunity.com
SUMMARY:Happy Hour at PV
DESCRIPTION:
URL:https://gigharborcommunity.com/event/happy-hour-at-pv/2026-04-21/
LOCATION:Puerto Vallarta Family Mexican Restaurant\, 4225 Harborview Drive\, Gig Harbor\, WA\, 98332
CATEGORIES:Food & Drink,Happy Hour
END:VEVENT
BEGIN:VEVENT
DTSTART;TZID=America/Los_Angeles:20260422T150000
DTEND;TZID=America/Los_Angeles:20260422T180000
DTSTAMP:20260421T043916
CREATED:20250704T155120Z
LAST-MODIFIED:20250704T155120Z
UID:10045550-1776870000-1776880800@gigharborcommunity.com
SUMMARY:Happy Hour at PV
DESCRIPTION:
URL:https://gigharborcommunity.com/event/happy-hour-at-pv/2026-04-22/
LOCATION:Puerto Vallarta Family Mexican Restaurant\, 4225 Harborview Drive\, Gig Harbor\, WA\, 98332
CATEGORIES:Food & Drink,Happy Hour
END:VEVENT
BEGIN:VEVENT
DTSTART;TZID=America/Los_Angeles:20260423T150000
DTEND;TZID=America/Los_Angeles:20260423T180000
DTSTAMP:20260421T043916
CREATED:20250704T155120Z
LAST-MODIFIED:20250704T155120Z
UID:10045551-1776956400-1776967200@gigharborcommunity.com
SUMMARY:Happy Hour at PV
DESCRIPTION:
URL:https://gigharborcommunity.com/event/happy-hour-at-pv/2026-04-23/
LOCATION:Puerto Vallarta Family Mexican Restaurant\, 4225 Harborview Drive\, Gig Harbor\, WA\, 98332
CATEGORIES:Food & Drink,Happy Hour
END:VEVENT
BEGIN:VEVENT
DTSTART;TZID=America/Los_Angeles:20260424T150000
DTEND;TZID=America/Los_Angeles:20260424T180000
DTSTAMP:20260421T043916
CREATED:20250704T155120Z
LAST-MODIFIED:20250704T155120Z
UID:10045552-1777042800-1777053600@gigharborcommunity.com
SUMMARY:Happy Hour at PV
DESCRIPTION:
URL:https://gigharborcommunity.com/event/happy-hour-at-pv/2026-04-24/
LOCATION:Puerto Vallarta Family Mexican Restaurant\, 4225 Harborview Drive\, Gig Harbor\, WA\, 98332
CATEGORIES:Food & Drink,Happy Hour
END:VEVENT
BEGIN:VEVENT
DTSTART;TZID=America/Los_Angeles:20260427T150000
DTEND;TZID=America/Los_Angeles:20260427T180000
DTSTAMP:20260421T043916
CREATED:20250704T155120Z
LAST-MODIFIED:20250704T155120Z
UID:10045553-1777302000-1777312800@gigharborcommunity.com
SUMMARY:Happy Hour at PV
DESCRIPTION:
URL:https://gigharborcommunity.com/event/happy-hour-at-pv/2026-04-27/
LOCATION:Puerto Vallarta Family Mexican Restaurant\, 4225 Harborview Drive\, Gig Harbor\, WA\, 98332
CATEGORIES:Food & Drink,Happy Hour
END:VEVENT
BEGIN:VEVENT
DTSTART;TZID=America/Los_Angeles:20260428T150000
DTEND;TZID=America/Los_Angeles:20260428T180000
DTSTAMP:20260421T043916
CREATED:20250704T155120Z
LAST-MODIFIED:20250704T155120Z
UID:10045554-1777388400-1777399200@gigharborcommunity.com
SUMMARY:Happy Hour at PV
DESCRIPTION:
URL:https://gigharborcommunity.com/event/happy-hour-at-pv/2026-04-28/
LOCATION:Puerto Vallarta Family Mexican Restaurant\, 4225 Harborview Drive\, Gig Harbor\, WA\, 98332
CATEGORIES:Food & Drink,Happy Hour
END:VEVENT
BEGIN:VEVENT
DTSTART;TZID=America/Los_Angeles:20260429T150000
DTEND;TZID=America/Los_Angeles:20260429T180000
DTSTAMP:20260421T043916
CREATED:20250704T155120Z
LAST-MODIFIED:20250704T155120Z
UID:10045555-1777474800-1777485600@gigharborcommunity.com
SUMMARY:Happy Hour at PV
DESCRIPTION:
URL:https://gigharborcommunity.com/event/happy-hour-at-pv/2026-04-29/
LOCATION:Puerto Vallarta Family Mexican Restaurant\, 4225 Harborview Drive\, Gig Harbor\, WA\, 98332
CATEGORIES:Food & Drink,Happy Hour
END:VEVENT
BEGIN:VEVENT
DTSTART;TZID=America/Los_Angeles:20260430T150000
DTEND;TZID=America/Los_Angeles:20260430T180000
DTSTAMP:20260421T043916
CREATED:20250704T155120Z
LAST-MODIFIED:20250704T155120Z
UID:10045556-1777561200-1777572000@gigharborcommunity.com
SUMMARY:Happy Hour at PV
DESCRIPTION:
URL:https://gigharborcommunity.com/event/happy-hour-at-pv/2026-04-30/
LOCATION:Puerto Vallarta Family Mexican Restaurant\, 4225 Harborview Drive\, Gig Harbor\, WA\, 98332
CATEGORIES:Food & Drink,Happy Hour
END:VEVENT
BEGIN:VEVENT
DTSTART;TZID=America/Los_Angeles:20260501T150000
DTEND;TZID=America/Los_Angeles:20260501T180000
DTSTAMP:20260421T043916
CREATED:20250704T155120Z
LAST-MODIFIED:20250704T155120Z
UID:10045557-1777647600-1777658400@gigharborcommunity.com
SUMMARY:Happy Hour at PV
DESCRIPTION:
URL:https://gigharborcommunity.com/event/happy-hour-at-pv/2026-05-01/
LOCATION:Puerto Vallarta Family Mexican Restaurant\, 4225 Harborview Drive\, Gig Harbor\, WA\, 98332
CATEGORIES:Food & Drink,Happy Hour
END:VEVENT
BEGIN:VEVENT
DTSTART;TZID=America/Los_Angeles:20260504T150000
DTEND;TZID=America/Los_Angeles:20260504T180000
DTSTAMP:20260421T043916
CREATED:20250704T155120Z
LAST-MODIFIED:20250704T155120Z
UID:10045558-1777906800-1777917600@gigharborcommunity.com
SUMMARY:Happy Hour at PV
DESCRIPTION:
URL:https://gigharborcommunity.com/event/happy-hour-at-pv/2026-05-04/
LOCATION:Puerto Vallarta Family Mexican Restaurant\, 4225 Harborview Drive\, Gig Harbor\, WA\, 98332
CATEGORIES:Food & Drink,Happy Hour
END:VEVENT
BEGIN:VEVENT
DTSTART;TZID=America/Los_Angeles:20260505T150000
DTEND;TZID=America/Los_Angeles:20260505T180000
DTSTAMP:20260421T043916
CREATED:20250704T155120Z
LAST-MODIFIED:20250704T155120Z
UID:10045559-1777993200-1778004000@gigharborcommunity.com
SUMMARY:Happy Hour at PV
DESCRIPTION:
URL:https://gigharborcommunity.com/event/happy-hour-at-pv/2026-05-05/
LOCATION:Puerto Vallarta Family Mexican Restaurant\, 4225 Harborview Drive\, Gig Harbor\, WA\, 98332
CATEGORIES:Food & Drink,Happy Hour
END:VEVENT
BEGIN:VEVENT
DTSTART;TZID=America/Los_Angeles:20260506T150000
DTEND;TZID=America/Los_Angeles:20260506T180000
DTSTAMP:20260421T043916
CREATED:20250704T155120Z
LAST-MODIFIED:20250704T155120Z
UID:10045560-1778079600-1778090400@gigharborcommunity.com
SUMMARY:Happy Hour at PV
DESCRIPTION:
URL:https://gigharborcommunity.com/event/happy-hour-at-pv/2026-05-06/
LOCATION:Puerto Vallarta Family Mexican Restaurant\, 4225 Harborview Drive\, Gig Harbor\, WA\, 98332
CATEGORIES:Food & Drink,Happy Hour
END:VEVENT
BEGIN:VEVENT
DTSTART;TZID=America/Los_Angeles:20260507T150000
DTEND;TZID=America/Los_Angeles:20260507T180000
DTSTAMP:20260421T043916
CREATED:20250704T155120Z
LAST-MODIFIED:20250704T155120Z
UID:10045561-1778166000-1778176800@gigharborcommunity.com
SUMMARY:Happy Hour at PV
DESCRIPTION:
URL:https://gigharborcommunity.com/event/happy-hour-at-pv/2026-05-07/
LOCATION:Puerto Vallarta Family Mexican Restaurant\, 4225 Harborview Drive\, Gig Harbor\, WA\, 98332
CATEGORIES:Food & Drink,Happy Hour
END:VEVENT
BEGIN:VEVENT
DTSTART;TZID=America/Los_Angeles:20260508T150000
DTEND;TZID=America/Los_Angeles:20260508T180000
DTSTAMP:20260421T043916
CREATED:20250704T155120Z
LAST-MODIFIED:20250704T155120Z
UID:10045562-1778252400-1778263200@gigharborcommunity.com
SUMMARY:Happy Hour at PV
DESCRIPTION:
URL:https://gigharborcommunity.com/event/happy-hour-at-pv/2026-05-08/
LOCATION:Puerto Vallarta Family Mexican Restaurant\, 4225 Harborview Drive\, Gig Harbor\, WA\, 98332
CATEGORIES:Food & Drink,Happy Hour
END:VEVENT
BEGIN:VEVENT
DTSTART;TZID=America/Los_Angeles:20260511T150000
DTEND;TZID=America/Los_Angeles:20260511T180000
DTSTAMP:20260421T043916
CREATED:20250704T155120Z
LAST-MODIFIED:20250704T155120Z
UID:10045563-1778511600-1778522400@gigharborcommunity.com
SUMMARY:Happy Hour at PV
DESCRIPTION:
URL:https://gigharborcommunity.com/event/happy-hour-at-pv/2026-05-11/
LOCATION:Puerto Vallarta Family Mexican Restaurant\, 4225 Harborview Drive\, Gig Harbor\, WA\, 98332
CATEGORIES:Food & Drink,Happy Hour
END:VEVENT
BEGIN:VEVENT
DTSTART;TZID=America/Los_Angeles:20260512T150000
DTEND;TZID=America/Los_Angeles:20260512T180000
DTSTAMP:20260421T043916
CREATED:20250704T155120Z
LAST-MODIFIED:20250704T155120Z
UID:10045564-1778598000-1778608800@gigharborcommunity.com
SUMMARY:Happy Hour at PV
DESCRIPTION:
URL:https://gigharborcommunity.com/event/happy-hour-at-pv/2026-05-12/
LOCATION:Puerto Vallarta Family Mexican Restaurant\, 4225 Harborview Drive\, Gig Harbor\, WA\, 98332
CATEGORIES:Food & Drink,Happy Hour
END:VEVENT
BEGIN:VEVENT
DTSTART;TZID=America/Los_Angeles:20260513T150000
DTEND;TZID=America/Los_Angeles:20260513T180000
DTSTAMP:20260421T043916
CREATED:20250704T155120Z
LAST-MODIFIED:20250704T155120Z
UID:10045565-1778684400-1778695200@gigharborcommunity.com
SUMMARY:Happy Hour at PV
DESCRIPTION:
URL:https://gigharborcommunity.com/event/happy-hour-at-pv/2026-05-13/
LOCATION:Puerto Vallarta Family Mexican Restaurant\, 4225 Harborview Drive\, Gig Harbor\, WA\, 98332
CATEGORIES:Food & Drink,Happy Hour
END:VEVENT
BEGIN:VEVENT
DTSTART;TZID=America/Los_Angeles:20260514T150000
DTEND;TZID=America/Los_Angeles:20260514T180000
DTSTAMP:20260421T043916
CREATED:20250704T155120Z
LAST-MODIFIED:20250704T155120Z
UID:10045566-1778770800-1778781600@gigharborcommunity.com
SUMMARY:Happy Hour at PV
DESCRIPTION:
URL:https://gigharborcommunity.com/event/happy-hour-at-pv/2026-05-14/
LOCATION:Puerto Vallarta Family Mexican Restaurant\, 4225 Harborview Drive\, Gig Harbor\, WA\, 98332
CATEGORIES:Food & Drink,Happy Hour
END:VEVENT
BEGIN:VEVENT
DTSTART;TZID=America/Los_Angeles:20260515T150000
DTEND;TZID=America/Los_Angeles:20260515T180000
DTSTAMP:20260421T043916
CREATED:20250704T155120Z
LAST-MODIFIED:20250704T155120Z
UID:10045567-1778857200-1778868000@gigharborcommunity.com
SUMMARY:Happy Hour at PV
DESCRIPTION:
URL:https://gigharborcommunity.com/event/happy-hour-at-pv/2026-05-15/
LOCATION:Puerto Vallarta Family Mexican Restaurant\, 4225 Harborview Drive\, Gig Harbor\, WA\, 98332
CATEGORIES:Food & Drink,Happy Hour
END:VEVENT
BEGIN:VEVENT
DTSTART;TZID=America/Los_Angeles:20260518T150000
DTEND;TZID=America/Los_Angeles:20260518T180000
DTSTAMP:20260421T043916
CREATED:20250704T155120Z
LAST-MODIFIED:20250704T155120Z
UID:10045568-1779116400-1779127200@gigharborcommunity.com
SUMMARY:Happy Hour at PV
DESCRIPTION:
URL:https://gigharborcommunity.com/event/happy-hour-at-pv/2026-05-18/
LOCATION:Puerto Vallarta Family Mexican Restaurant\, 4225 Harborview Drive\, Gig Harbor\, WA\, 98332
CATEGORIES:Food & Drink,Happy Hour
END:VEVENT
BEGIN:VEVENT
DTSTART;TZID=America/Los_Angeles:20260519T150000
DTEND;TZID=America/Los_Angeles:20260519T180000
DTSTAMP:20260421T043916
CREATED:20250704T155120Z
LAST-MODIFIED:20250704T155120Z
UID:10045569-1779202800-1779213600@gigharborcommunity.com
SUMMARY:Happy Hour at PV
DESCRIPTION:
URL:https://gigharborcommunity.com/event/happy-hour-at-pv/2026-05-19/
LOCATION:Puerto Vallarta Family Mexican Restaurant\, 4225 Harborview Drive\, Gig Harbor\, WA\, 98332
CATEGORIES:Food & Drink,Happy Hour
END:VEVENT
BEGIN:VEVENT
DTSTART;TZID=America/Los_Angeles:20260520T150000
DTEND;TZID=America/Los_Angeles:20260520T180000
DTSTAMP:20260421T043916
CREATED:20250704T155120Z
LAST-MODIFIED:20250704T155120Z
UID:10045570-1779289200-1779300000@gigharborcommunity.com
SUMMARY:Happy Hour at PV
DESCRIPTION:
URL:https://gigharborcommunity.com/event/happy-hour-at-pv/2026-05-20/
LOCATION:Puerto Vallarta Family Mexican Restaurant\, 4225 Harborview Drive\, Gig Harbor\, WA\, 98332
CATEGORIES:Food & Drink,Happy Hour
END:VEVENT
BEGIN:VEVENT
DTSTART;TZID=America/Los_Angeles:20260521T150000
DTEND;TZID=America/Los_Angeles:20260521T180000
DTSTAMP:20260421T043916
CREATED:20250704T155120Z
LAST-MODIFIED:20250704T155120Z
UID:10045571-1779375600-1779386400@gigharborcommunity.com
SUMMARY:Happy Hour at PV
DESCRIPTION:
URL:https://gigharborcommunity.com/event/happy-hour-at-pv/2026-05-21/
LOCATION:Puerto Vallarta Family Mexican Restaurant\, 4225 Harborview Drive\, Gig Harbor\, WA\, 98332
CATEGORIES:Food & Drink,Happy Hour
END:VEVENT
BEGIN:VEVENT
DTSTART;TZID=America/Los_Angeles:20260522T150000
DTEND;TZID=America/Los_Angeles:20260522T180000
DTSTAMP:20260421T043916
CREATED:20250704T155120Z
LAST-MODIFIED:20250704T155120Z
UID:10045572-1779462000-1779472800@gigharborcommunity.com
SUMMARY:Happy Hour at PV
DESCRIPTION:
URL:https://gigharborcommunity.com/event/happy-hour-at-pv/2026-05-22/
LOCATION:Puerto Vallarta Family Mexican Restaurant\, 4225 Harborview Drive\, Gig Harbor\, WA\, 98332
CATEGORIES:Food & Drink,Happy Hour
END:VEVENT
BEGIN:VEVENT
DTSTART;TZID=America/Los_Angeles:20260525T150000
DTEND;TZID=America/Los_Angeles:20260525T180000
DTSTAMP:20260421T043916
CREATED:20250704T155120Z
LAST-MODIFIED:20250704T155120Z
UID:10045573-1779721200-1779732000@gigharborcommunity.com
SUMMARY:Happy Hour at PV
DESCRIPTION:
URL:https://gigharborcommunity.com/event/happy-hour-at-pv/2026-05-25/
LOCATION:Puerto Vallarta Family Mexican Restaurant\, 4225 Harborview Drive\, Gig Harbor\, WA\, 98332
CATEGORIES:Food & Drink,Happy Hour
END:VEVENT
BEGIN:VEVENT
DTSTART;TZID=America/Los_Angeles:20260526T150000
DTEND;TZID=America/Los_Angeles:20260526T180000
DTSTAMP:20260421T043916
CREATED:20250704T155120Z
LAST-MODIFIED:20250704T155120Z
UID:10045574-1779807600-1779818400@gigharborcommunity.com
SUMMARY:Happy Hour at PV
DESCRIPTION:
URL:https://gigharborcommunity.com/event/happy-hour-at-pv/2026-05-26/
LOCATION:Puerto Vallarta Family Mexican Restaurant\, 4225 Harborview Drive\, Gig Harbor\, WA\, 98332
CATEGORIES:Food & Drink,Happy Hour
END:VEVENT
BEGIN:VEVENT
DTSTART;TZID=America/Los_Angeles:20260527T150000
DTEND;TZID=America/Los_Angeles:20260527T180000
DTSTAMP:20260421T043916
CREATED:20250704T155120Z
LAST-MODIFIED:20250704T155120Z
UID:10045575-1779894000-1779904800@gigharborcommunity.com
SUMMARY:Happy Hour at PV
DESCRIPTION:
URL:https://gigharborcommunity.com/event/happy-hour-at-pv/2026-05-27/
LOCATION:Puerto Vallarta Family Mexican Restaurant\, 4225 Harborview Drive\, Gig Harbor\, WA\, 98332
CATEGORIES:Food & Drink,Happy Hour
END:VEVENT
BEGIN:VEVENT
DTSTART;TZID=America/Los_Angeles:20260528T150000
DTEND;TZID=America/Los_Angeles:20260528T180000
DTSTAMP:20260421T043916
CREATED:20250704T155120Z
LAST-MODIFIED:20250704T155120Z
UID:10045576-1779980400-1779991200@gigharborcommunity.com
SUMMARY:Happy Hour at PV
DESCRIPTION:
URL:https://gigharborcommunity.com/event/happy-hour-at-pv/2026-05-28/
LOCATION:Puerto Vallarta Family Mexican Restaurant\, 4225 Harborview Drive\, Gig Harbor\, WA\, 98332
CATEGORIES:Food & Drink,Happy Hour
END:VEVENT
BEGIN:VEVENT
DTSTART;TZID=America/Los_Angeles:20260529T150000
DTEND;TZID=America/Los_Angeles:20260529T180000
DTSTAMP:20260421T043916
CREATED:20250704T155120Z
LAST-MODIFIED:20250704T155120Z
UID:10045577-1780066800-1780077600@gigharborcommunity.com
SUMMARY:Happy Hour at PV
DESCRIPTION:
URL:https://gigharborcommunity.com/event/happy-hour-at-pv/2026-05-29/
LOCATION:Puerto Vallarta Family Mexican Restaurant\, 4225 Harborview Drive\, Gig Harbor\, WA\, 98332
CATEGORIES:Food & Drink,Happy Hour
END:VEVENT
BEGIN:VEVENT
DTSTART;TZID=America/Los_Angeles:20260601T150000
DTEND;TZID=America/Los_Angeles:20260601T180000
DTSTAMP:20260421T043916
CREATED:20250704T155120Z
LAST-MODIFIED:20250704T155120Z
UID:10045578-1780326000-1780336800@gigharborcommunity.com
SUMMARY:Happy Hour at PV
DESCRIPTION:
URL:https://gigharborcommunity.com/event/happy-hour-at-pv/2026-06-01/
LOCATION:Puerto Vallarta Family Mexican Restaurant\, 4225 Harborview Drive\, Gig Harbor\, WA\, 98332
CATEGORIES:Food & Drink,Happy Hour
END:VEVENT
END:VCALENDAR