BEGIN:VCALENDAR
VERSION:2.0
PRODID:-//Gig Harbor Events - ECPv6.15.20//NONSGML v1.0//EN
CALSCALE:GREGORIAN
METHOD:PUBLISH
X-WR-CALNAME:Gig Harbor Events
X-ORIGINAL-URL:https://gigharborcommunity.com
X-WR-CALDESC:Events for Gig Harbor Events
REFRESH-INTERVAL;VALUE=DURATION:PT1H
X-Robots-Tag:noindex
X-PUBLISHED-TTL:PT1H
BEGIN:VTIMEZONE
TZID:America/Los_Angeles
BEGIN:DAYLIGHT
TZOFFSETFROM:-0800
TZOFFSETTO:-0700
TZNAME:PDT
DTSTART:20250309T100000
END:DAYLIGHT
BEGIN:STANDARD
TZOFFSETFROM:-0700
TZOFFSETTO:-0800
TZNAME:PST
DTSTART:20251102T090000
END:STANDARD
BEGIN:DAYLIGHT
TZOFFSETFROM:-0800
TZOFFSETTO:-0700
TZNAME:PDT
DTSTART:20260308T100000
END:DAYLIGHT
BEGIN:STANDARD
TZOFFSETFROM:-0700
TZOFFSETTO:-0800
TZNAME:PST
DTSTART:20261101T090000
END:STANDARD
BEGIN:DAYLIGHT
TZOFFSETFROM:-0800
TZOFFSETTO:-0700
TZNAME:PDT
DTSTART:20270314T100000
END:DAYLIGHT
BEGIN:STANDARD
TZOFFSETFROM:-0700
TZOFFSETTO:-0800
TZNAME:PST
DTSTART:20271107T090000
END:STANDARD
END:VTIMEZONE
BEGIN:VEVENT
DTSTART;TZID=America/Los_Angeles:20260422T080000
DTEND;TZID=America/Los_Angeles:20260430T190000
DTSTAMP:20260423T023758
CREATED:20260330T032204Z
LAST-MODIFIED:20260420T005418Z
UID:10055142-1776844800-1777575600@gigharborcommunity.com
SUMMARY:Great Sasquatch Hunt
DESCRIPTION:Join our park-wide Sasquatch-themed scavenger hunt with family and friends and see if you can track down this mysterious creature. The elusive hominid will move to a different park each week in April\, so venture out to the parks and discover him yourself! \n\n\nPassports are available at each park location. When you find all of the Sasquatches\, turn your passport in at the PenMet Parks Recreation Center\, 2524 14th Ave NW\, for a special prize! \nSubject to park hours. \nSasquatch will be at the following parks on the following weeks: \n\nApril 1-7: Sehmel Homestead Park\nApril 8-14: Harbor Family Park\nApril 15-21: Sunrise Beach Park\nApril 22-30: McCormick Forest Park
URL:https://gigharborcommunity.com/event/great-sasquatch-hunt-2/
LOCATION:McCormick Forest Park\, 10301 Bujacich Rd\, Gig Harbor\, WA\, 98332\, United States
CATEGORIES:Kids & Family,Outdoor Events & Festivals
END:VEVENT
BEGIN:VEVENT
DTSTART;TZID=America/Los_Angeles:20260423T140000
DTEND;TZID=America/Los_Angeles:20260423T171500
DTSTAMP:20260423T023758
CREATED:20250313T193423Z
LAST-MODIFIED:20250704T153708Z
UID:10043820-1776952800-1776964500@gigharborcommunity.com
SUMMARY:Happy Hour at Greenhouse
DESCRIPTION:
URL:https://gigharborcommunity.com/event/happy-hour-at-greenhouse-2/2026-04-23/
LOCATION:Greenhouse Restaurant\, 4793 Point Fosdick Dr #400\, Gig Harbor\, WA\, 98335
CATEGORIES:Food & Drink,Happy Hour
END:VEVENT
BEGIN:VEVENT
DTSTART;TZID=America/Los_Angeles:20260423T140000
DTEND;TZID=America/Los_Angeles:20260423T180000
DTSTAMP:20260423T023758
CREATED:20250704T161459Z
LAST-MODIFIED:20250704T161459Z
UID:10048896-1776952800-1776967200@gigharborcommunity.com
SUMMARY:Happy Hour at Hops & Drops
DESCRIPTION:
URL:https://gigharborcommunity.com/event/happy-hour-at-hops-drops/2026-04-23/
LOCATION:Hops & Drops\, 5414 Point Fosdick Dr\, Gig Harbor\, WA\, 98335
CATEGORIES:Food & Drink,Happy Hour
END:VEVENT
BEGIN:VEVENT
DTSTART;TZID=America/Los_Angeles:20260423T150000
DTEND;TZID=America/Los_Angeles:20260423T170000
DTSTAMP:20260423T023758
CREATED:20250704T161023Z
LAST-MODIFIED:20250704T161023Z
UID:10047945-1776956400-1776963600@gigharborcommunity.com
SUMMARY:Harbor Hour at Table 47
DESCRIPTION:
URL:https://gigharborcommunity.com/event/harbor-hour-at-table-47-2/2026-04-23/
LOCATION:Table 47\, 5268 Point Fosdick Dr\, Gig Harbor\, WA\, 98335
CATEGORIES:Food & Drink,Happy Hour
END:VEVENT
BEGIN:VEVENT
DTSTART;TZID=America/Los_Angeles:20260423T150000
DTEND;TZID=America/Los_Angeles:20260423T180000
DTSTAMP:20260423T023758
CREATED:20250313T192408Z
LAST-MODIFIED:20250704T160326Z
UID:10047724-1776956400-1776967200@gigharborcommunity.com
SUMMARY:Happy Hour at Blue Agave
DESCRIPTION:
URL:https://gigharborcommunity.com/event/happy-hour-at-blue-agave-2/2026-04-23/
LOCATION:Blue Agave Mexican Grill & Tequila Bar\, 4729 Point Fosdick Dr\, Gig Harbor\, WA\, 98335
CATEGORIES:Food & Drink,Happy Hour
END:VEVENT
BEGIN:VEVENT
DTSTART;TZID=America/Los_Angeles:20260423T150000
DTEND;TZID=America/Los_Angeles:20260423T180000
DTSTAMP:20260423T023758
CREATED:20250704T155120Z
LAST-MODIFIED:20250704T155120Z
UID:10045551-1776956400-1776967200@gigharborcommunity.com
SUMMARY:Happy Hour at PV
DESCRIPTION:
URL:https://gigharborcommunity.com/event/happy-hour-at-pv/2026-04-23/
LOCATION:Puerto Vallarta Family Mexican Restaurant\, 4225 Harborview Drive\, Gig Harbor\, WA\, 98332
CATEGORIES:Food & Drink,Happy Hour
END:VEVENT
BEGIN:VEVENT
DTSTART;TZID=America/Los_Angeles:20260423T150000
DTEND;TZID=America/Los_Angeles:20260423T180000
DTSTAMP:20260423T023758
CREATED:20250704T155920Z
LAST-MODIFIED:20250704T155920Z
UID:10047377-1776956400-1776967200@gigharborcommunity.com
SUMMARY:Happy Hour at Hackers
DESCRIPTION:
URL:https://gigharborcommunity.com/event/happy-hour-at-hackers-3/2026-04-23/
LOCATION:Hackers Bar & Grill\, 3604 22nd Ave NW\, Gig Harbor\, WA\, 98335
CATEGORIES:Food & Drink,Happy Hour
END:VEVENT
BEGIN:VEVENT
DTSTART;TZID=America/Los_Angeles:20260423T153000
DTEND;TZID=America/Los_Angeles:20260423T173000
DTSTAMP:20260423T023758
CREATED:20250704T153932Z
LAST-MODIFIED:20250704T154232Z
UID:10044006-1776958200-1776965400@gigharborcommunity.com
SUMMARY:Happy Hour at Massimo
DESCRIPTION:
URL:https://gigharborcommunity.com/event/happy-hour-at-massimo-2-3/2026-04-23/
LOCATION:Massimo Italian Bar & Grill\, 13802 Purdy Dr\, Gig Harbor\, WA\, 98332
CATEGORIES:Food & Drink,Happy Hour
END:VEVENT
BEGIN:VEVENT
DTSTART;TZID=America/Los_Angeles:20260423T153000
DTEND;TZID=America/Los_Angeles:20260423T183000
DTSTAMP:20260423T023758
CREATED:20250704T155504Z
LAST-MODIFIED:20250704T155504Z
UID:10045854-1776958200-1776969000@gigharborcommunity.com
SUMMARY:Happy Hour at Anthony's
DESCRIPTION:
URL:https://gigharborcommunity.com/event/happy-hour-at-anthonys-2/2026-04-23/
LOCATION:Anthony’s at Gig Harbor\, 8827 N. Harborview Drive\, Gig Harbor\, WA\, 98332
CATEGORIES:Food & Drink,Happy Hour
END:VEVENT
BEGIN:VEVENT
DTSTART;TZID=America/Los_Angeles:20260423T160000
DTEND;TZID=America/Los_Angeles:20260423T230000
DTSTAMP:20260423T023758
CREATED:20250704T152246Z
LAST-MODIFIED:20250704T153322Z
UID:10043451-1776960000-1776985200@gigharborcommunity.com
SUMMARY:Happy Hour ALL DAY!
DESCRIPTION:
URL:https://gigharborcommunity.com/event/happy-hour-all-day-3/2026-04-23/
LOCATION:O’Looney’s Irish Pub\, 3222 56th St\, Gig Harbor\, WA\, 98335
CATEGORIES:Discount Days,Food & Drink,Happy Hour
END:VEVENT
BEGIN:VEVENT
DTSTART;TZID=America/Los_Angeles:20260423T173000
DTEND;TZID=America/Los_Angeles:20260423T193000
DTSTAMP:20260423T023758
CREATED:20250714T033406Z
LAST-MODIFIED:20250714T033406Z
UID:10051549-1776965400-1776972600@gigharborcommunity.com
SUMMARY:Live Music on the Patio
DESCRIPTION:Settle in for dinner on the patio and let the music set the mood. Every Thursday from 5:30–7:30pm\, acoustic artist John Brake brings familiar favorites to life with smooth rhythms and laid-back soul.\nWhether you’re catching up with friends or enjoying a cozy date night\, John’s sound is the perfect backdrop for a relaxed evening.\n🐾Dogs welcome on the patio at Table 47!🐾\nAsk about our pup menu & treats!\nDon’t miss our Prime Rib Dinner special—available Thursday nights only.\nEvery Thursday (excluding July 3rd)\n5:30pm-7:30pm
URL:https://gigharborcommunity.com/event/live-music-on-the-patio/2026-04-23/
LOCATION:Table 47\, 5268 Point Fosdick Dr\, Gig Harbor\, WA\, 98335
CATEGORIES:Dogs,Food & Drink,Live Music
END:VEVENT
BEGIN:VEVENT
DTSTART;TZID=America/Los_Angeles:20260423T173000
DTEND;TZID=America/Los_Angeles:20260423T200000
DTSTAMP:20260423T023758
CREATED:20250106T024814Z
LAST-MODIFIED:20250106T024814Z
UID:10037809-1776965400-1776974400@gigharborcommunity.com
SUMMARY:Open Mic Night  at Kimball Coffeehouse
DESCRIPTION:
URL:https://gigharborcommunity.com/event/open-mic-night-at-kimball-coffeehouse-3/2026-04-23/
LOCATION:Kimball Coffeehouse\, 6659 Kimball Dr a102\, Gig Harbor\, WA\, 98335
CATEGORIES:Food & Drink,Live Music
END:VEVENT
BEGIN:VEVENT
DTSTART;TZID=America/Los_Angeles:20260423T180000
DTEND;TZID=America/Los_Angeles:20260423T200000
DTSTAMP:20260423T023758
CREATED:20260330T033554Z
LAST-MODIFIED:20260330T033554Z
UID:10055149-1776967200-1776974400@gigharborcommunity.com
SUMMARY:Artvana Sip & Paint art class at Ocean5 in Gig Harbor April 2026
DESCRIPTION:Paint & Sip at Ocean5 on Thursdays with Artvana at this Gig Harbor hot spot\, for a fun\, creative night out!
URL:https://gigharborcommunity.com/event/artvana-sip-paint-art-class-at-ocean5-in-gig-harbor-april-2026-2/
LOCATION:Ocean 5\, 5268 Point Fosdick Dr\, Gig Harbor\, WA\, 98335
CATEGORIES:Arts & Crafts,Food & Drink
END:VEVENT
BEGIN:VEVENT
DTSTART;TZID=America/Los_Angeles:20260423T182000
DTEND;TZID=America/Los_Angeles:20260423T202000
DTSTAMP:20260423T023758
CREATED:20250704T203340Z
LAST-MODIFIED:20250704T203340Z
UID:10050902-1776968400-1776975600@gigharborcommunity.com
SUMMARY:Trek Gig Harbor - Thursday Night Gravel Ride
DESCRIPTION:Join us for a party pace gravel bike ride in the Gig Harbor area. Expect 8-15 miles and moderate elevation. Typical ride is about 1 hour 30 minutes. 35mm or wider tires recommended. Helmet required.
URL:https://gigharborcommunity.com/event/trek-gig-harbor-thursday-night-gravel-ride/2026-04-23/
LOCATION:Trek Gig Harbor\, 6820 Kimball Drive #b1\, WA\, 98335\, United States
CATEGORIES:Fitness & Wellness,Sports
END:VEVENT
BEGIN:VEVENT
DTSTART;TZID=America/Los_Angeles:20260423T183000
DTEND;TZID=America/Los_Angeles:20260423T200000
DTSTAMP:20260423T023758
CREATED:20240630T013054Z
LAST-MODIFIED:20240704T164307Z
UID:10013078-1776969000-1776974400@gigharborcommunity.com
SUMMARY:Trivia Night at The Beer Vault
DESCRIPTION:
URL:https://gigharborcommunity.com/event/trivia-night-at-the-beer-vault/2026-04-23/
LOCATION:The Beer Vault & Wine Bar\, 14004 Purdy Dr\, Gig Harbor\, WA\, 98332
CATEGORIES:Food & Drink,Trivia & Games
END:VEVENT
BEGIN:VEVENT
DTSTART;TZID=America/Los_Angeles:20260423T203000
DTEND;TZID=America/Los_Angeles:20260423T203000
DTSTAMP:20260423T023758
CREATED:20240630T013051Z
LAST-MODIFIED:20240704T175454Z
UID:10029126-1776976200-1776976200@gigharborcommunity.com
SUMMARY:Karaoke at The Float
DESCRIPTION:
URL:https://gigharborcommunity.com/event/karaoke-at-the-float/2026-04-23/
LOCATION:The Floatation Device\, 14511 Sherman Dr NW\, Gig Harbor\, WA\, 98332
CATEGORIES:Food & Drink,Karaoke
END:VEVENT
BEGIN:VEVENT
DTSTART;TZID=America/Los_Angeles:20260423T210000
DTEND;TZID=America/Los_Angeles:20260423T220000
DTSTAMP:20260423T023758
CREATED:20250704T161628Z
LAST-MODIFIED:20250704T161628Z
UID:10050723-1776978000-1776981600@gigharborcommunity.com
SUMMARY:Late Night Happy Hour
DESCRIPTION:
URL:https://gigharborcommunity.com/event/late-night-happy-hour/2026-04-23/
LOCATION:Hops & Drops\, 5414 Point Fosdick Dr\, Gig Harbor\, WA\, 98335
CATEGORIES:Food & Drink,Happy Hour
END:VEVENT
BEGIN:VEVENT
DTSTART;TZID=America/Los_Angeles:20260424T140000
DTEND;TZID=America/Los_Angeles:20260424T171500
DTSTAMP:20260423T023758
CREATED:20250313T193423Z
LAST-MODIFIED:20250704T153708Z
UID:10043821-1777039200-1777050900@gigharborcommunity.com
SUMMARY:Happy Hour at Greenhouse
DESCRIPTION:
URL:https://gigharborcommunity.com/event/happy-hour-at-greenhouse-2/2026-04-24/
LOCATION:Greenhouse Restaurant\, 4793 Point Fosdick Dr #400\, Gig Harbor\, WA\, 98335
CATEGORIES:Food & Drink,Happy Hour
END:VEVENT
BEGIN:VEVENT
DTSTART;TZID=America/Los_Angeles:20260424T140000
DTEND;TZID=America/Los_Angeles:20260424T180000
DTSTAMP:20260423T023758
CREATED:20250704T161459Z
LAST-MODIFIED:20250704T161459Z
UID:10048897-1777039200-1777053600@gigharborcommunity.com
SUMMARY:Happy Hour at Hops & Drops
DESCRIPTION:
URL:https://gigharborcommunity.com/event/happy-hour-at-hops-drops/2026-04-24/
LOCATION:Hops & Drops\, 5414 Point Fosdick Dr\, Gig Harbor\, WA\, 98335
CATEGORIES:Food & Drink,Happy Hour
END:VEVENT
BEGIN:VEVENT
DTSTART;TZID=America/Los_Angeles:20260424T150000
DTEND;TZID=America/Los_Angeles:20260424T170000
DTSTAMP:20260423T023758
CREATED:20250704T161023Z
LAST-MODIFIED:20250704T161023Z
UID:10047946-1777042800-1777050000@gigharborcommunity.com
SUMMARY:Harbor Hour at Table 47
DESCRIPTION:
URL:https://gigharborcommunity.com/event/harbor-hour-at-table-47-2/2026-04-24/
LOCATION:Table 47\, 5268 Point Fosdick Dr\, Gig Harbor\, WA\, 98335
CATEGORIES:Food & Drink,Happy Hour
END:VEVENT
BEGIN:VEVENT
DTSTART;TZID=America/Los_Angeles:20260424T150000
DTEND;TZID=America/Los_Angeles:20260424T180000
DTSTAMP:20260423T023758
CREATED:20250313T192408Z
LAST-MODIFIED:20250704T160326Z
UID:10047725-1777042800-1777053600@gigharborcommunity.com
SUMMARY:Happy Hour at Blue Agave
DESCRIPTION:
URL:https://gigharborcommunity.com/event/happy-hour-at-blue-agave-2/2026-04-24/
LOCATION:Blue Agave Mexican Grill & Tequila Bar\, 4729 Point Fosdick Dr\, Gig Harbor\, WA\, 98335
CATEGORIES:Food & Drink,Happy Hour
END:VEVENT
BEGIN:VEVENT
DTSTART;TZID=America/Los_Angeles:20260424T150000
DTEND;TZID=America/Los_Angeles:20260424T180000
DTSTAMP:20260423T023758
CREATED:20250704T155120Z
LAST-MODIFIED:20250704T155120Z
UID:10045552-1777042800-1777053600@gigharborcommunity.com
SUMMARY:Happy Hour at PV
DESCRIPTION:
URL:https://gigharborcommunity.com/event/happy-hour-at-pv/2026-04-24/
LOCATION:Puerto Vallarta Family Mexican Restaurant\, 4225 Harborview Drive\, Gig Harbor\, WA\, 98332
CATEGORIES:Food & Drink,Happy Hour
END:VEVENT
BEGIN:VEVENT
DTSTART;TZID=America/Los_Angeles:20260424T150000
DTEND;TZID=America/Los_Angeles:20260424T180000
DTSTAMP:20260423T023758
CREATED:20250704T155920Z
LAST-MODIFIED:20250704T155920Z
UID:10047378-1777042800-1777053600@gigharborcommunity.com
SUMMARY:Happy Hour at Hackers
DESCRIPTION:
URL:https://gigharborcommunity.com/event/happy-hour-at-hackers-3/2026-04-24/
LOCATION:Hackers Bar & Grill\, 3604 22nd Ave NW\, Gig Harbor\, WA\, 98335
CATEGORIES:Food & Drink,Happy Hour
END:VEVENT
BEGIN:VEVENT
DTSTART;TZID=America/Los_Angeles:20260424T153000
DTEND;TZID=America/Los_Angeles:20260424T173000
DTSTAMP:20260423T023758
CREATED:20250704T153932Z
LAST-MODIFIED:20250704T154232Z
UID:10044007-1777044600-1777051800@gigharborcommunity.com
SUMMARY:Happy Hour at Massimo
DESCRIPTION:
URL:https://gigharborcommunity.com/event/happy-hour-at-massimo-2-3/2026-04-24/
LOCATION:Massimo Italian Bar & Grill\, 13802 Purdy Dr\, Gig Harbor\, WA\, 98332
CATEGORIES:Food & Drink,Happy Hour
END:VEVENT
BEGIN:VEVENT
DTSTART;TZID=America/Los_Angeles:20260424T153000
DTEND;TZID=America/Los_Angeles:20260424T183000
DTSTAMP:20260423T023758
CREATED:20250704T155504Z
LAST-MODIFIED:20250704T155504Z
UID:10045855-1777044600-1777055400@gigharborcommunity.com
SUMMARY:Happy Hour at Anthony's
DESCRIPTION:
URL:https://gigharborcommunity.com/event/happy-hour-at-anthonys-2/2026-04-24/
LOCATION:Anthony’s at Gig Harbor\, 8827 N. Harborview Drive\, Gig Harbor\, WA\, 98332
CATEGORIES:Food & Drink,Happy Hour
END:VEVENT
BEGIN:VEVENT
DTSTART;TZID=America/Los_Angeles:20260424T180000
DTEND;TZID=America/Los_Angeles:20260424T200000
DTSTAMP:20260423T023758
CREATED:20260420T015913Z
LAST-MODIFIED:20260420T015913Z
UID:10055242-1777053600-1777060800@gigharborcommunity.com
SUMMARY:Drag Bingo
DESCRIPTION:Join us for another great night of Drag Bingo!
URL:https://gigharborcommunity.com/event/drag-bingo-11/
LOCATION:Locust Cider\, 3207 57th St Ct\, Gig Harbor\, WA\, 98335
CATEGORIES:Food & Drink,Trivia & Games
END:VEVENT
BEGIN:VEVENT
DTSTART;TZID=America/Los_Angeles:20260424T180000
DTEND;TZID=America/Los_Angeles:20260424T200000
DTSTAMP:20260423T023758
CREATED:20260420T020412Z
LAST-MODIFIED:20260420T020412Z
UID:10055245-1777053600-1777060800@gigharborcommunity.com
SUMMARY:David Cathers In The Loft
DESCRIPTION:As music has been a part of my life since I was a kid. I will be sharing songs that many will know from John Denver\, Garth Brooks\, Neil Diamond\, James Taylor and others artists that hopefully you’ll join in and sing along. Music is my way to relax and enjoy smiles with those around me. Join us for a fun evening in The Loft! \nTICKETS ARE NOT MAILED. CHECK-IN AT THE DOOR BY LAST NAME.\n$20/PER PERSON PLUS TAX\nTHIS IS A 21+ EVENT.\nPLEASE\, NO OUTSIDE FOOD OR DRINK \nTHIS EVENT IS INDOORS IN THE LOFT. \nALL TICKET SALES ARE FINAL. NO REFUNDS.
URL:https://gigharborcommunity.com/event/david-cathers-in-the-loft/
LOCATION:Olalla Vineyard & Winery\, 13176 Olalla Valley Rd SE\, Olalla\, WA\, 98359
CATEGORIES:Food & Drink,Live Music
END:VEVENT
BEGIN:VEVENT
DTSTART;TZID=America/Los_Angeles:20260424T180000
DTEND;TZID=America/Los_Angeles:20260424T210000
DTSTAMP:20260423T023758
CREATED:20260126T162801Z
LAST-MODIFIED:20260413T033409Z
UID:10054825-1777053600-1777064400@gigharborcommunity.com
SUMMARY:Skate Night
DESCRIPTION:Skate Night at the Key Peninsula Civic Center is a longstanding tradition for youths in our area. Geared for elementary through middle school aged children\, Skate Night is hosted every Friday night from September to June\, following the Peninsula School District schedule of holidays and breaks. When there’s school on Friday – there’s Skate Night! \n​Skate Night is a safe and fun place for your kids to play every week. Families are welcome! Once children are in the building\, they can’t exit without a parent or guardian.
URL:https://gigharborcommunity.com/event/skate-night-2/2026-04-24/
LOCATION:Key Peninsula Civic Center\, 17010 S Vaughn Rd NW\, VAUGHN\, WA\, 98394\, United States
CATEGORIES:Kids & Family,Sports
END:VEVENT
BEGIN:VEVENT
DTSTART;TZID=America/Los_Angeles:20260424T200000
DTEND;TZID=America/Los_Angeles:20260424T220000
DTSTAMP:20260423T023758
CREATED:20250106T034830Z
LAST-MODIFIED:20250113T052816Z
UID:10037997-1777060800-1777068000@gigharborcommunity.com
SUMMARY:Live Music at O'Looney's
DESCRIPTION:
URL:https://gigharborcommunity.com/event/live-music-at-olooneys-2/2026-04-24/
LOCATION:O’Looney’s Irish Pub\, 3222 56th St\, Gig Harbor\, WA\, 98335
CATEGORIES:Food & Drink,Live Music
END:VEVENT
BEGIN:VEVENT
DTSTART;TZID=America/Los_Angeles:20260424T203000
DTEND;TZID=America/Los_Angeles:20260424T203000
DTSTAMP:20260423T023758
CREATED:20240630T013051Z
LAST-MODIFIED:20240704T175454Z
UID:10029127-1777062600-1777062600@gigharborcommunity.com
SUMMARY:Karaoke at The Float
DESCRIPTION:
URL:https://gigharborcommunity.com/event/karaoke-at-the-float/2026-04-24/
LOCATION:The Floatation Device\, 14511 Sherman Dr NW\, Gig Harbor\, WA\, 98332
CATEGORIES:Food & Drink,Karaoke
END:VEVENT
END:VCALENDAR