BEGIN:VCALENDAR
VERSION:2.0
PRODID:-//Gig Harbor Events - ECPv6.15.20//NONSGML v1.0//EN
CALSCALE:GREGORIAN
METHOD:PUBLISH
X-ORIGINAL-URL:https://gigharborcommunity.com
X-WR-CALDESC:Events for Gig Harbor Events
REFRESH-INTERVAL;VALUE=DURATION:PT1H
X-Robots-Tag:noindex
X-PUBLISHED-TTL:PT1H
BEGIN:VTIMEZONE
TZID:America/Los_Angeles
BEGIN:DAYLIGHT
TZOFFSETFROM:-0800
TZOFFSETTO:-0700
TZNAME:PDT
DTSTART:20250309T100000
END:DAYLIGHT
BEGIN:STANDARD
TZOFFSETFROM:-0700
TZOFFSETTO:-0800
TZNAME:PST
DTSTART:20251102T090000
END:STANDARD
BEGIN:DAYLIGHT
TZOFFSETFROM:-0800
TZOFFSETTO:-0700
TZNAME:PDT
DTSTART:20260308T100000
END:DAYLIGHT
BEGIN:STANDARD
TZOFFSETFROM:-0700
TZOFFSETTO:-0800
TZNAME:PST
DTSTART:20261101T090000
END:STANDARD
BEGIN:DAYLIGHT
TZOFFSETFROM:-0800
TZOFFSETTO:-0700
TZNAME:PDT
DTSTART:20270314T100000
END:DAYLIGHT
BEGIN:STANDARD
TZOFFSETFROM:-0700
TZOFFSETTO:-0800
TZNAME:PST
DTSTART:20271107T090000
END:STANDARD
END:VTIMEZONE
BEGIN:VEVENT
DTSTART;TZID=America/Los_Angeles:20261013T190000
DTEND;TZID=America/Los_Angeles:20261013T210000
DTSTAMP:20260425T115258
CREATED:20240630T013210Z
LAST-MODIFIED:20240704T180639Z
UID:10012843-1791918000-1791925200@gigharborcommunity.com
SUMMARY:Trivia Night at O'Looney's
DESCRIPTION:
URL:https://gigharborcommunity.com/event/trivia-night-at-olooneys/2026-10-13/
LOCATION:O’Looney’s Irish Pub\, 3222 56th St\, Gig Harbor\, WA\, 98335
CATEGORIES:Food & Drink,Trivia & Games
END:VEVENT
BEGIN:VEVENT
DTSTART;TZID=America/Los_Angeles:20261014T180000
DTEND;TZID=America/Los_Angeles:20261014T200000
DTSTAMP:20260425T115258
CREATED:20250728T022106Z
LAST-MODIFIED:20250728T022106Z
UID:10051963-1792000800-1792008000@gigharborcommunity.com
SUMMARY:Trivia
DESCRIPTION:Join us for Trivia Night every Wednesday! Grab a team of 2-6 and come test your knowledge while sipping on cider!
URL:https://gigharborcommunity.com/event/trivia-2/2026-10-14/
LOCATION:Locust Cider\, 3207 57th St Ct\, Gig Harbor\, WA\, 98335
CATEGORIES:Food & Drink,Trivia & Games
END:VEVENT
BEGIN:VEVENT
DTSTART;TZID=America/Los_Angeles:20261014T191500
DTEND;TZID=America/Los_Angeles:20261014T210000
DTSTAMP:20260425T115258
CREATED:20240630T013050Z
LAST-MODIFIED:20240704T175725Z
UID:10013364-1792005300-1792011600@gigharborcommunity.com
SUMMARY:Trivia Night at The Float
DESCRIPTION:
URL:https://gigharborcommunity.com/event/trivia-night-at-the-float/2026-10-14/
LOCATION:The Floatation Device\, 14511 Sherman Dr NW\, Gig Harbor\, WA\, 98332
CATEGORIES:Food & Drink,Trivia & Games
END:VEVENT
BEGIN:VEVENT
DTSTART;TZID=America/Los_Angeles:20261015T183000
DTEND;TZID=America/Los_Angeles:20261015T200000
DTSTAMP:20260425T115258
CREATED:20240630T013054Z
LAST-MODIFIED:20240704T164307Z
UID:10013103-1792089000-1792094400@gigharborcommunity.com
SUMMARY:Trivia Night at The Beer Vault
DESCRIPTION:
URL:https://gigharborcommunity.com/event/trivia-night-at-the-beer-vault/2026-10-15/
LOCATION:The Beer Vault & Wine Bar\, 14004 Purdy Dr\, Gig Harbor\, WA\, 98332
CATEGORIES:Food & Drink,Trivia & Games
END:VEVENT
BEGIN:VEVENT
DTSTART;TZID=America/Los_Angeles:20261020T190000
DTEND;TZID=America/Los_Angeles:20261020T210000
DTSTAMP:20260425T115258
CREATED:20240630T013210Z
LAST-MODIFIED:20240704T180639Z
UID:10012844-1792522800-1792530000@gigharborcommunity.com
SUMMARY:Trivia Night at O'Looney's
DESCRIPTION:
URL:https://gigharborcommunity.com/event/trivia-night-at-olooneys/2026-10-20/
LOCATION:O’Looney’s Irish Pub\, 3222 56th St\, Gig Harbor\, WA\, 98335
CATEGORIES:Food & Drink,Trivia & Games
END:VEVENT
BEGIN:VEVENT
DTSTART;TZID=America/Los_Angeles:20261021T180000
DTEND;TZID=America/Los_Angeles:20261021T200000
DTSTAMP:20260425T115258
CREATED:20250728T022106Z
LAST-MODIFIED:20250728T022106Z
UID:10051964-1792605600-1792612800@gigharborcommunity.com
SUMMARY:Trivia
DESCRIPTION:Join us for Trivia Night every Wednesday! Grab a team of 2-6 and come test your knowledge while sipping on cider!
URL:https://gigharborcommunity.com/event/trivia-2/2026-10-21/
LOCATION:Locust Cider\, 3207 57th St Ct\, Gig Harbor\, WA\, 98335
CATEGORIES:Food & Drink,Trivia & Games
END:VEVENT
BEGIN:VEVENT
DTSTART;TZID=America/Los_Angeles:20261021T191500
DTEND;TZID=America/Los_Angeles:20261021T210000
DTSTAMP:20260425T115258
CREATED:20240630T013050Z
LAST-MODIFIED:20240704T175725Z
UID:10013365-1792610100-1792616400@gigharborcommunity.com
SUMMARY:Trivia Night at The Float
DESCRIPTION:
URL:https://gigharborcommunity.com/event/trivia-night-at-the-float/2026-10-21/
LOCATION:The Floatation Device\, 14511 Sherman Dr NW\, Gig Harbor\, WA\, 98332
CATEGORIES:Food & Drink,Trivia & Games
END:VEVENT
BEGIN:VEVENT
DTSTART;TZID=America/Los_Angeles:20261022T183000
DTEND;TZID=America/Los_Angeles:20261022T200000
DTSTAMP:20260425T115258
CREATED:20240630T013054Z
LAST-MODIFIED:20240704T164307Z
UID:10013104-1792693800-1792699200@gigharborcommunity.com
SUMMARY:Trivia Night at The Beer Vault
DESCRIPTION:
URL:https://gigharborcommunity.com/event/trivia-night-at-the-beer-vault/2026-10-22/
LOCATION:The Beer Vault & Wine Bar\, 14004 Purdy Dr\, Gig Harbor\, WA\, 98332
CATEGORIES:Food & Drink,Trivia & Games
END:VEVENT
BEGIN:VEVENT
DTSTART;TZID=America/Los_Angeles:20261027T190000
DTEND;TZID=America/Los_Angeles:20261027T210000
DTSTAMP:20260425T115258
CREATED:20240630T013210Z
LAST-MODIFIED:20240704T180639Z
UID:10012845-1793127600-1793134800@gigharborcommunity.com
SUMMARY:Trivia Night at O'Looney's
DESCRIPTION:
URL:https://gigharborcommunity.com/event/trivia-night-at-olooneys/2026-10-27/
LOCATION:O’Looney’s Irish Pub\, 3222 56th St\, Gig Harbor\, WA\, 98335
CATEGORIES:Food & Drink,Trivia & Games
END:VEVENT
BEGIN:VEVENT
DTSTART;TZID=America/Los_Angeles:20261028T180000
DTEND;TZID=America/Los_Angeles:20261028T200000
DTSTAMP:20260425T115258
CREATED:20250728T022106Z
LAST-MODIFIED:20250728T022106Z
UID:10051965-1793210400-1793217600@gigharborcommunity.com
SUMMARY:Trivia
DESCRIPTION:Join us for Trivia Night every Wednesday! Grab a team of 2-6 and come test your knowledge while sipping on cider!
URL:https://gigharborcommunity.com/event/trivia-2/2026-10-28/
LOCATION:Locust Cider\, 3207 57th St Ct\, Gig Harbor\, WA\, 98335
CATEGORIES:Food & Drink,Trivia & Games
END:VEVENT
BEGIN:VEVENT
DTSTART;TZID=America/Los_Angeles:20261028T191500
DTEND;TZID=America/Los_Angeles:20261028T210000
DTSTAMP:20260425T115258
CREATED:20240630T013050Z
LAST-MODIFIED:20240704T175725Z
UID:10013366-1793214900-1793221200@gigharborcommunity.com
SUMMARY:Trivia Night at The Float
DESCRIPTION:
URL:https://gigharborcommunity.com/event/trivia-night-at-the-float/2026-10-28/
LOCATION:The Floatation Device\, 14511 Sherman Dr NW\, Gig Harbor\, WA\, 98332
CATEGORIES:Food & Drink,Trivia & Games
END:VEVENT
BEGIN:VEVENT
DTSTART;TZID=America/Los_Angeles:20261029T183000
DTEND;TZID=America/Los_Angeles:20261029T200000
DTSTAMP:20260425T115258
CREATED:20240630T013054Z
LAST-MODIFIED:20240704T164307Z
UID:10013105-1793298600-1793304000@gigharborcommunity.com
SUMMARY:Trivia Night at The Beer Vault
DESCRIPTION:
URL:https://gigharborcommunity.com/event/trivia-night-at-the-beer-vault/2026-10-29/
LOCATION:The Beer Vault & Wine Bar\, 14004 Purdy Dr\, Gig Harbor\, WA\, 98332
CATEGORIES:Food & Drink,Trivia & Games
END:VEVENT
BEGIN:VEVENT
DTSTART;TZID=America/Los_Angeles:20261103T190000
DTEND;TZID=America/Los_Angeles:20261103T210000
DTSTAMP:20260425T115258
CREATED:20240630T013210Z
LAST-MODIFIED:20240704T180639Z
UID:10012846-1793732400-1793739600@gigharborcommunity.com
SUMMARY:Trivia Night at O'Looney's
DESCRIPTION:
URL:https://gigharborcommunity.com/event/trivia-night-at-olooneys/2026-11-03/
LOCATION:O’Looney’s Irish Pub\, 3222 56th St\, Gig Harbor\, WA\, 98335
CATEGORIES:Food & Drink,Trivia & Games
END:VEVENT
BEGIN:VEVENT
DTSTART;TZID=America/Los_Angeles:20261104T180000
DTEND;TZID=America/Los_Angeles:20261104T200000
DTSTAMP:20260425T115258
CREATED:20250728T022106Z
LAST-MODIFIED:20250728T022106Z
UID:10051966-1793815200-1793822400@gigharborcommunity.com
SUMMARY:Trivia
DESCRIPTION:Join us for Trivia Night every Wednesday! Grab a team of 2-6 and come test your knowledge while sipping on cider!
URL:https://gigharborcommunity.com/event/trivia-2/2026-11-04/
LOCATION:Locust Cider\, 3207 57th St Ct\, Gig Harbor\, WA\, 98335
CATEGORIES:Food & Drink,Trivia & Games
END:VEVENT
BEGIN:VEVENT
DTSTART;TZID=America/Los_Angeles:20261104T191500
DTEND;TZID=America/Los_Angeles:20261104T210000
DTSTAMP:20260425T115258
CREATED:20240630T013050Z
LAST-MODIFIED:20240704T175725Z
UID:10013367-1793819700-1793826000@gigharborcommunity.com
SUMMARY:Trivia Night at The Float
DESCRIPTION:
URL:https://gigharborcommunity.com/event/trivia-night-at-the-float/2026-11-04/
LOCATION:The Floatation Device\, 14511 Sherman Dr NW\, Gig Harbor\, WA\, 98332
CATEGORIES:Food & Drink,Trivia & Games
END:VEVENT
BEGIN:VEVENT
DTSTART;TZID=America/Los_Angeles:20261105T183000
DTEND;TZID=America/Los_Angeles:20261105T200000
DTSTAMP:20260425T115258
CREATED:20240630T013054Z
LAST-MODIFIED:20240704T164307Z
UID:10013106-1793903400-1793908800@gigharborcommunity.com
SUMMARY:Trivia Night at The Beer Vault
DESCRIPTION:
URL:https://gigharborcommunity.com/event/trivia-night-at-the-beer-vault/2026-11-05/
LOCATION:The Beer Vault & Wine Bar\, 14004 Purdy Dr\, Gig Harbor\, WA\, 98332
CATEGORIES:Food & Drink,Trivia & Games
END:VEVENT
BEGIN:VEVENT
DTSTART;TZID=America/Los_Angeles:20261110T190000
DTEND;TZID=America/Los_Angeles:20261110T210000
DTSTAMP:20260425T115258
CREATED:20240630T013210Z
LAST-MODIFIED:20240704T180639Z
UID:10012847-1794337200-1794344400@gigharborcommunity.com
SUMMARY:Trivia Night at O'Looney's
DESCRIPTION:
URL:https://gigharborcommunity.com/event/trivia-night-at-olooneys/2026-11-10/
LOCATION:O’Looney’s Irish Pub\, 3222 56th St\, Gig Harbor\, WA\, 98335
CATEGORIES:Food & Drink,Trivia & Games
END:VEVENT
BEGIN:VEVENT
DTSTART;TZID=America/Los_Angeles:20261111T180000
DTEND;TZID=America/Los_Angeles:20261111T200000
DTSTAMP:20260425T115258
CREATED:20250728T022106Z
LAST-MODIFIED:20250728T022106Z
UID:10051967-1794420000-1794427200@gigharborcommunity.com
SUMMARY:Trivia
DESCRIPTION:Join us for Trivia Night every Wednesday! Grab a team of 2-6 and come test your knowledge while sipping on cider!
URL:https://gigharborcommunity.com/event/trivia-2/2026-11-11/
LOCATION:Locust Cider\, 3207 57th St Ct\, Gig Harbor\, WA\, 98335
CATEGORIES:Food & Drink,Trivia & Games
END:VEVENT
BEGIN:VEVENT
DTSTART;TZID=America/Los_Angeles:20261111T191500
DTEND;TZID=America/Los_Angeles:20261111T210000
DTSTAMP:20260425T115258
CREATED:20240630T013050Z
LAST-MODIFIED:20240704T175725Z
UID:10013368-1794424500-1794430800@gigharborcommunity.com
SUMMARY:Trivia Night at The Float
DESCRIPTION:
URL:https://gigharborcommunity.com/event/trivia-night-at-the-float/2026-11-11/
LOCATION:The Floatation Device\, 14511 Sherman Dr NW\, Gig Harbor\, WA\, 98332
CATEGORIES:Food & Drink,Trivia & Games
END:VEVENT
BEGIN:VEVENT
DTSTART;TZID=America/Los_Angeles:20261112T183000
DTEND;TZID=America/Los_Angeles:20261112T200000
DTSTAMP:20260425T115258
CREATED:20240630T013054Z
LAST-MODIFIED:20240704T164307Z
UID:10013107-1794508200-1794513600@gigharborcommunity.com
SUMMARY:Trivia Night at The Beer Vault
DESCRIPTION:
URL:https://gigharborcommunity.com/event/trivia-night-at-the-beer-vault/2026-11-12/
LOCATION:The Beer Vault & Wine Bar\, 14004 Purdy Dr\, Gig Harbor\, WA\, 98332
CATEGORIES:Food & Drink,Trivia & Games
END:VEVENT
BEGIN:VEVENT
DTSTART;TZID=America/Los_Angeles:20261117T190000
DTEND;TZID=America/Los_Angeles:20261117T210000
DTSTAMP:20260425T115258
CREATED:20240630T013210Z
LAST-MODIFIED:20240704T180639Z
UID:10012848-1794942000-1794949200@gigharborcommunity.com
SUMMARY:Trivia Night at O'Looney's
DESCRIPTION:
URL:https://gigharborcommunity.com/event/trivia-night-at-olooneys/2026-11-17/
LOCATION:O’Looney’s Irish Pub\, 3222 56th St\, Gig Harbor\, WA\, 98335
CATEGORIES:Food & Drink,Trivia & Games
END:VEVENT
BEGIN:VEVENT
DTSTART;TZID=America/Los_Angeles:20261118T180000
DTEND;TZID=America/Los_Angeles:20261118T200000
DTSTAMP:20260425T115258
CREATED:20250728T022106Z
LAST-MODIFIED:20250728T022106Z
UID:10051968-1795024800-1795032000@gigharborcommunity.com
SUMMARY:Trivia
DESCRIPTION:Join us for Trivia Night every Wednesday! Grab a team of 2-6 and come test your knowledge while sipping on cider!
URL:https://gigharborcommunity.com/event/trivia-2/2026-11-18/
LOCATION:Locust Cider\, 3207 57th St Ct\, Gig Harbor\, WA\, 98335
CATEGORIES:Food & Drink,Trivia & Games
END:VEVENT
BEGIN:VEVENT
DTSTART;TZID=America/Los_Angeles:20261118T191500
DTEND;TZID=America/Los_Angeles:20261118T210000
DTSTAMP:20260425T115258
CREATED:20240630T013050Z
LAST-MODIFIED:20240704T175725Z
UID:10013369-1795029300-1795035600@gigharborcommunity.com
SUMMARY:Trivia Night at The Float
DESCRIPTION:
URL:https://gigharborcommunity.com/event/trivia-night-at-the-float/2026-11-18/
LOCATION:The Floatation Device\, 14511 Sherman Dr NW\, Gig Harbor\, WA\, 98332
CATEGORIES:Food & Drink,Trivia & Games
END:VEVENT
BEGIN:VEVENT
DTSTART;TZID=America/Los_Angeles:20261119T183000
DTEND;TZID=America/Los_Angeles:20261119T200000
DTSTAMP:20260425T115258
CREATED:20240630T013054Z
LAST-MODIFIED:20240704T164307Z
UID:10013108-1795113000-1795118400@gigharborcommunity.com
SUMMARY:Trivia Night at The Beer Vault
DESCRIPTION:
URL:https://gigharborcommunity.com/event/trivia-night-at-the-beer-vault/2026-11-19/
LOCATION:The Beer Vault & Wine Bar\, 14004 Purdy Dr\, Gig Harbor\, WA\, 98332
CATEGORIES:Food & Drink,Trivia & Games
END:VEVENT
BEGIN:VEVENT
DTSTART;TZID=America/Los_Angeles:20261124T190000
DTEND;TZID=America/Los_Angeles:20261124T210000
DTSTAMP:20260425T115258
CREATED:20240630T013210Z
LAST-MODIFIED:20240704T180639Z
UID:10012849-1795546800-1795554000@gigharborcommunity.com
SUMMARY:Trivia Night at O'Looney's
DESCRIPTION:
URL:https://gigharborcommunity.com/event/trivia-night-at-olooneys/2026-11-24/
LOCATION:O’Looney’s Irish Pub\, 3222 56th St\, Gig Harbor\, WA\, 98335
CATEGORIES:Food & Drink,Trivia & Games
END:VEVENT
BEGIN:VEVENT
DTSTART;TZID=America/Los_Angeles:20261125T180000
DTEND;TZID=America/Los_Angeles:20261125T200000
DTSTAMP:20260425T115258
CREATED:20250728T022106Z
LAST-MODIFIED:20250728T022106Z
UID:10051969-1795629600-1795636800@gigharborcommunity.com
SUMMARY:Trivia
DESCRIPTION:Join us for Trivia Night every Wednesday! Grab a team of 2-6 and come test your knowledge while sipping on cider!
URL:https://gigharborcommunity.com/event/trivia-2/2026-11-25/
LOCATION:Locust Cider\, 3207 57th St Ct\, Gig Harbor\, WA\, 98335
CATEGORIES:Food & Drink,Trivia & Games
END:VEVENT
BEGIN:VEVENT
DTSTART;TZID=America/Los_Angeles:20261125T191500
DTEND;TZID=America/Los_Angeles:20261125T210000
DTSTAMP:20260425T115258
CREATED:20240630T013050Z
LAST-MODIFIED:20240704T175725Z
UID:10013370-1795634100-1795640400@gigharborcommunity.com
SUMMARY:Trivia Night at The Float
DESCRIPTION:
URL:https://gigharborcommunity.com/event/trivia-night-at-the-float/2026-11-25/
LOCATION:The Floatation Device\, 14511 Sherman Dr NW\, Gig Harbor\, WA\, 98332
CATEGORIES:Food & Drink,Trivia & Games
END:VEVENT
BEGIN:VEVENT
DTSTART;TZID=America/Los_Angeles:20261126T183000
DTEND;TZID=America/Los_Angeles:20261126T200000
DTSTAMP:20260425T115258
CREATED:20240630T013054Z
LAST-MODIFIED:20240704T164307Z
UID:10013109-1795717800-1795723200@gigharborcommunity.com
SUMMARY:Trivia Night at The Beer Vault
DESCRIPTION:
URL:https://gigharborcommunity.com/event/trivia-night-at-the-beer-vault/2026-11-26/
LOCATION:The Beer Vault & Wine Bar\, 14004 Purdy Dr\, Gig Harbor\, WA\, 98332
CATEGORIES:Food & Drink,Trivia & Games
END:VEVENT
BEGIN:VEVENT
DTSTART;TZID=America/Los_Angeles:20261201T190000
DTEND;TZID=America/Los_Angeles:20261201T210000
DTSTAMP:20260425T115258
CREATED:20240630T013210Z
LAST-MODIFIED:20240704T180639Z
UID:10012850-1796151600-1796158800@gigharborcommunity.com
SUMMARY:Trivia Night at O'Looney's
DESCRIPTION:
URL:https://gigharborcommunity.com/event/trivia-night-at-olooneys/2026-12-01/
LOCATION:O’Looney’s Irish Pub\, 3222 56th St\, Gig Harbor\, WA\, 98335
CATEGORIES:Food & Drink,Trivia & Games
END:VEVENT
BEGIN:VEVENT
DTSTART;TZID=America/Los_Angeles:20261202T180000
DTEND;TZID=America/Los_Angeles:20261202T200000
DTSTAMP:20260425T115258
CREATED:20250728T022106Z
LAST-MODIFIED:20250728T022106Z
UID:10051970-1796234400-1796241600@gigharborcommunity.com
SUMMARY:Trivia
DESCRIPTION:Join us for Trivia Night every Wednesday! Grab a team of 2-6 and come test your knowledge while sipping on cider!
URL:https://gigharborcommunity.com/event/trivia-2/2026-12-02/
LOCATION:Locust Cider\, 3207 57th St Ct\, Gig Harbor\, WA\, 98335
CATEGORIES:Food & Drink,Trivia & Games
END:VEVENT
END:VCALENDAR