BEGIN:VCALENDAR
VERSION:2.0
PRODID:-//Gig Harbor Events - ECPv6.15.20//NONSGML v1.0//EN
CALSCALE:GREGORIAN
METHOD:PUBLISH
X-ORIGINAL-URL:https://gigharborcommunity.com
X-WR-CALDESC:Events for Gig Harbor Events
REFRESH-INTERVAL;VALUE=DURATION:PT1H
X-Robots-Tag:noindex
X-PUBLISHED-TTL:PT1H
BEGIN:VTIMEZONE
TZID:America/Los_Angeles
BEGIN:DAYLIGHT
TZOFFSETFROM:-0800
TZOFFSETTO:-0700
TZNAME:PDT
DTSTART:20240310T100000
END:DAYLIGHT
BEGIN:STANDARD
TZOFFSETFROM:-0700
TZOFFSETTO:-0800
TZNAME:PST
DTSTART:20241103T090000
END:STANDARD
BEGIN:DAYLIGHT
TZOFFSETFROM:-0800
TZOFFSETTO:-0700
TZNAME:PDT
DTSTART:20250309T100000
END:DAYLIGHT
BEGIN:STANDARD
TZOFFSETFROM:-0700
TZOFFSETTO:-0800
TZNAME:PST
DTSTART:20251102T090000
END:STANDARD
BEGIN:DAYLIGHT
TZOFFSETFROM:-0800
TZOFFSETTO:-0700
TZNAME:PDT
DTSTART:20260308T100000
END:DAYLIGHT
BEGIN:STANDARD
TZOFFSETFROM:-0700
TZOFFSETTO:-0800
TZNAME:PST
DTSTART:20261101T090000
END:STANDARD
BEGIN:DAYLIGHT
TZOFFSETFROM:-0800
TZOFFSETTO:-0700
TZNAME:PDT
DTSTART:20270314T100000
END:DAYLIGHT
BEGIN:STANDARD
TZOFFSETFROM:-0700
TZOFFSETTO:-0800
TZNAME:PST
DTSTART:20271107T090000
END:STANDARD
END:VTIMEZONE
BEGIN:VEVENT
DTSTART;TZID=America/Los_Angeles:20260118T140000
DTEND;TZID=America/Los_Angeles:20260118T180000
DTSTAMP:20260425T084420
CREATED:20260105T043836Z
LAST-MODIFIED:20260105T043836Z
UID:10054759-1768744800-1768759200@gigharborcommunity.com
SUMMARY:Speed Jigsaw Puzzle Competition & Puzzle Swap
DESCRIPTION:Join us for a speed jigsaw puzzle competition! Up to 5 teams of 4 will compete to finish a 500 piece jigsaw puzzle in the fastest time. Afterwards\, we’ll have a fun puzzle swap for all! \nCompetition: 2-4pm\nPuzzle Swap (open to all): 4-6pm\nCost for competition: $35 / team
URL:https://gigharborcommunity.com/event/speed-jigsaw-puzzle-competition-puzzle-swap/
LOCATION:Locust Cider\, 3207 57th St Ct\, Gig Harbor\, WA\, 98335
CATEGORIES:Food & Drink,Trivia & Games
END:VEVENT
BEGIN:VEVENT
DTSTART;TZID=America/Los_Angeles:20260115T183000
DTEND;TZID=America/Los_Angeles:20260115T200000
DTSTAMP:20260425T084420
CREATED:20240630T013054Z
LAST-MODIFIED:20240704T164307Z
UID:10013064-1768501800-1768507200@gigharborcommunity.com
SUMMARY:Trivia Night at The Beer Vault
DESCRIPTION:
URL:https://gigharborcommunity.com/event/trivia-night-at-the-beer-vault/2026-01-15/
LOCATION:The Beer Vault & Wine Bar\, 14004 Purdy Dr\, Gig Harbor\, WA\, 98332
CATEGORIES:Food & Drink,Trivia & Games
END:VEVENT
BEGIN:VEVENT
DTSTART;TZID=America/Los_Angeles:20260114T191500
DTEND;TZID=America/Los_Angeles:20260114T210000
DTSTAMP:20260425T084420
CREATED:20240630T013050Z
LAST-MODIFIED:20240704T175725Z
UID:10013325-1768418100-1768424400@gigharborcommunity.com
SUMMARY:Trivia Night at The Float
DESCRIPTION:
URL:https://gigharborcommunity.com/event/trivia-night-at-the-float/2026-01-14/
LOCATION:The Floatation Device\, 14511 Sherman Dr NW\, Gig Harbor\, WA\, 98332
CATEGORIES:Food & Drink,Trivia & Games
END:VEVENT
BEGIN:VEVENT
DTSTART;TZID=America/Los_Angeles:20260114T180000
DTEND;TZID=America/Los_Angeles:20260114T200000
DTSTAMP:20260425T084420
CREATED:20250728T022106Z
LAST-MODIFIED:20250728T022106Z
UID:10051924-1768413600-1768420800@gigharborcommunity.com
SUMMARY:Trivia
DESCRIPTION:Join us for Trivia Night every Wednesday! Grab a team of 2-6 and come test your knowledge while sipping on cider!
URL:https://gigharborcommunity.com/event/trivia-2/2026-01-14/
LOCATION:Locust Cider\, 3207 57th St Ct\, Gig Harbor\, WA\, 98335
CATEGORIES:Food & Drink,Trivia & Games
END:VEVENT
BEGIN:VEVENT
DTSTART;TZID=America/Los_Angeles:20260113T190000
DTEND;TZID=America/Los_Angeles:20260113T210000
DTSTAMP:20260425T084420
CREATED:20240630T013210Z
LAST-MODIFIED:20240704T180639Z
UID:10012804-1768330800-1768338000@gigharborcommunity.com
SUMMARY:Trivia Night at O'Looney's
DESCRIPTION:
URL:https://gigharborcommunity.com/event/trivia-night-at-olooneys/2026-01-13/
LOCATION:O’Looney’s Irish Pub\, 3222 56th St\, Gig Harbor\, WA\, 98335
CATEGORIES:Food & Drink,Trivia & Games
END:VEVENT
BEGIN:VEVENT
DTSTART;TZID=America/Los_Angeles:20260108T183000
DTEND;TZID=America/Los_Angeles:20260108T200000
DTSTAMP:20260425T084420
CREATED:20240630T013054Z
LAST-MODIFIED:20240704T164307Z
UID:10013063-1767897000-1767902400@gigharborcommunity.com
SUMMARY:Trivia Night at The Beer Vault
DESCRIPTION:
URL:https://gigharborcommunity.com/event/trivia-night-at-the-beer-vault/2026-01-08/
LOCATION:The Beer Vault & Wine Bar\, 14004 Purdy Dr\, Gig Harbor\, WA\, 98332
CATEGORIES:Food & Drink,Trivia & Games
END:VEVENT
BEGIN:VEVENT
DTSTART;TZID=America/Los_Angeles:20260107T191500
DTEND;TZID=America/Los_Angeles:20260107T210000
DTSTAMP:20260425T084420
CREATED:20240630T013050Z
LAST-MODIFIED:20240704T175725Z
UID:10013324-1767813300-1767819600@gigharborcommunity.com
SUMMARY:Trivia Night at The Float
DESCRIPTION:
URL:https://gigharborcommunity.com/event/trivia-night-at-the-float/2026-01-07/
LOCATION:The Floatation Device\, 14511 Sherman Dr NW\, Gig Harbor\, WA\, 98332
CATEGORIES:Food & Drink,Trivia & Games
END:VEVENT
BEGIN:VEVENT
DTSTART;TZID=America/Los_Angeles:20260107T180000
DTEND;TZID=America/Los_Angeles:20260107T200000
DTSTAMP:20260425T084420
CREATED:20250728T022106Z
LAST-MODIFIED:20250728T022106Z
UID:10051923-1767808800-1767816000@gigharborcommunity.com
SUMMARY:Trivia
DESCRIPTION:Join us for Trivia Night every Wednesday! Grab a team of 2-6 and come test your knowledge while sipping on cider!
URL:https://gigharborcommunity.com/event/trivia-2/2026-01-07/
LOCATION:Locust Cider\, 3207 57th St Ct\, Gig Harbor\, WA\, 98335
CATEGORIES:Food & Drink,Trivia & Games
END:VEVENT
BEGIN:VEVENT
DTSTART;TZID=America/Los_Angeles:20260106T190000
DTEND;TZID=America/Los_Angeles:20260106T210000
DTSTAMP:20260425T084420
CREATED:20240630T013210Z
LAST-MODIFIED:20240704T180639Z
UID:10012803-1767726000-1767733200@gigharborcommunity.com
SUMMARY:Trivia Night at O'Looney's
DESCRIPTION:
URL:https://gigharborcommunity.com/event/trivia-night-at-olooneys/2026-01-06/
LOCATION:O’Looney’s Irish Pub\, 3222 56th St\, Gig Harbor\, WA\, 98335
CATEGORIES:Food & Drink,Trivia & Games
END:VEVENT
BEGIN:VEVENT
DTSTART;TZID=America/Los_Angeles:20260102T180000
DTEND;TZID=America/Los_Angeles:20260102T200000
DTSTAMP:20260425T084420
CREATED:20251222T034140Z
LAST-MODIFIED:20251222T034140Z
UID:10054745-1767376800-1767384000@gigharborcommunity.com
SUMMARY:Drag Bingo
DESCRIPTION:Join us for another great night of Drag Bingo!
URL:https://gigharborcommunity.com/event/drag-bingo-7/
LOCATION:Locust Cider\, 3207 57th St Ct\, Gig Harbor\, WA\, 98335
CATEGORIES:Food & Drink,Trivia & Games
END:VEVENT
BEGIN:VEVENT
DTSTART;TZID=America/Los_Angeles:20260101T183000
DTEND;TZID=America/Los_Angeles:20260101T200000
DTSTAMP:20260425T084420
CREATED:20240630T013054Z
LAST-MODIFIED:20240704T164307Z
UID:10013062-1767292200-1767297600@gigharborcommunity.com
SUMMARY:Trivia Night at The Beer Vault
DESCRIPTION:
URL:https://gigharborcommunity.com/event/trivia-night-at-the-beer-vault/2026-01-01/
LOCATION:The Beer Vault & Wine Bar\, 14004 Purdy Dr\, Gig Harbor\, WA\, 98332
CATEGORIES:Food & Drink,Trivia & Games
END:VEVENT
BEGIN:VEVENT
DTSTART;TZID=America/Los_Angeles:20251231T191500
DTEND;TZID=America/Los_Angeles:20251231T210000
DTSTAMP:20260425T084420
CREATED:20240630T013050Z
LAST-MODIFIED:20240704T175725Z
UID:10013323-1767208500-1767214800@gigharborcommunity.com
SUMMARY:Trivia Night at The Float
DESCRIPTION:
URL:https://gigharborcommunity.com/event/trivia-night-at-the-float/2025-12-31/
LOCATION:The Floatation Device\, 14511 Sherman Dr NW\, Gig Harbor\, WA\, 98332
CATEGORIES:Food & Drink,Trivia & Games
END:VEVENT
BEGIN:VEVENT
DTSTART;TZID=America/Los_Angeles:20251231T180000
DTEND;TZID=America/Los_Angeles:20251231T200000
DTSTAMP:20260425T084420
CREATED:20250728T022106Z
LAST-MODIFIED:20250728T022106Z
UID:10051922-1767204000-1767211200@gigharborcommunity.com
SUMMARY:Trivia
DESCRIPTION:Join us for Trivia Night every Wednesday! Grab a team of 2-6 and come test your knowledge while sipping on cider!
URL:https://gigharborcommunity.com/event/trivia-2/2025-12-31/
LOCATION:Locust Cider\, 3207 57th St Ct\, Gig Harbor\, WA\, 98335
CATEGORIES:Food & Drink,Trivia & Games
END:VEVENT
BEGIN:VEVENT
DTSTART;TZID=America/Los_Angeles:20251230T190000
DTEND;TZID=America/Los_Angeles:20251230T210000
DTSTAMP:20260425T084420
CREATED:20240630T013210Z
LAST-MODIFIED:20240704T180639Z
UID:10012802-1767121200-1767128400@gigharborcommunity.com
SUMMARY:Trivia Night at O'Looney's
DESCRIPTION:
URL:https://gigharborcommunity.com/event/trivia-night-at-olooneys/2025-12-30/
LOCATION:O’Looney’s Irish Pub\, 3222 56th St\, Gig Harbor\, WA\, 98335
CATEGORIES:Food & Drink,Trivia & Games
END:VEVENT
BEGIN:VEVENT
DTSTART;TZID=America/Los_Angeles:20251225T183000
DTEND;TZID=America/Los_Angeles:20251225T200000
DTSTAMP:20260425T084420
CREATED:20240630T013054Z
LAST-MODIFIED:20240704T164307Z
UID:10013061-1766687400-1766692800@gigharborcommunity.com
SUMMARY:Trivia Night at The Beer Vault
DESCRIPTION:
URL:https://gigharborcommunity.com/event/trivia-night-at-the-beer-vault/2025-12-25/
LOCATION:The Beer Vault & Wine Bar\, 14004 Purdy Dr\, Gig Harbor\, WA\, 98332
CATEGORIES:Food & Drink,Trivia & Games
END:VEVENT
BEGIN:VEVENT
DTSTART;TZID=America/Los_Angeles:20251224T191500
DTEND;TZID=America/Los_Angeles:20251224T210000
DTSTAMP:20260425T084420
CREATED:20240630T013050Z
LAST-MODIFIED:20240704T175725Z
UID:10013322-1766603700-1766610000@gigharborcommunity.com
SUMMARY:Trivia Night at The Float
DESCRIPTION:
URL:https://gigharborcommunity.com/event/trivia-night-at-the-float/2025-12-24/
LOCATION:The Floatation Device\, 14511 Sherman Dr NW\, Gig Harbor\, WA\, 98332
CATEGORIES:Food & Drink,Trivia & Games
END:VEVENT
BEGIN:VEVENT
DTSTART;TZID=America/Los_Angeles:20251224T180000
DTEND;TZID=America/Los_Angeles:20251224T200000
DTSTAMP:20260425T084420
CREATED:20250728T022106Z
LAST-MODIFIED:20250728T022106Z
UID:10051921-1766599200-1766606400@gigharborcommunity.com
SUMMARY:Trivia
DESCRIPTION:Join us for Trivia Night every Wednesday! Grab a team of 2-6 and come test your knowledge while sipping on cider!
URL:https://gigharborcommunity.com/event/trivia-2/2025-12-24/
LOCATION:Locust Cider\, 3207 57th St Ct\, Gig Harbor\, WA\, 98335
CATEGORIES:Food & Drink,Trivia & Games
END:VEVENT
BEGIN:VEVENT
DTSTART;TZID=America/Los_Angeles:20251223T190000
DTEND;TZID=America/Los_Angeles:20251223T210000
DTSTAMP:20260425T084420
CREATED:20240630T013210Z
LAST-MODIFIED:20240704T180639Z
UID:10012801-1766516400-1766523600@gigharborcommunity.com
SUMMARY:Trivia Night at O'Looney's
DESCRIPTION:
URL:https://gigharborcommunity.com/event/trivia-night-at-olooneys/2025-12-23/
LOCATION:O’Looney’s Irish Pub\, 3222 56th St\, Gig Harbor\, WA\, 98335
CATEGORIES:Food & Drink,Trivia & Games
END:VEVENT
BEGIN:VEVENT
DTSTART;TZID=America/Los_Angeles:20251218T183000
DTEND;TZID=America/Los_Angeles:20251218T203000
DTSTAMP:20260425T084420
CREATED:20251215T161515Z
LAST-MODIFIED:20251215T161515Z
UID:10054730-1766082600-1766089800@gigharborcommunity.com
SUMMARY:Harborcade Monthly Pinball Tournament
DESCRIPTION:Come show off your pinball skills in our monthly tournaments!
URL:https://gigharborcommunity.com/event/harborcade-monthly-pinball-tournament-4/
LOCATION:Locust Cider\, 3207 57th St Ct\, Gig Harbor\, WA\, 98335
CATEGORIES:Food & Drink,Trivia & Games
END:VEVENT
BEGIN:VEVENT
DTSTART;TZID=America/Los_Angeles:20251218T183000
DTEND;TZID=America/Los_Angeles:20251218T200000
DTSTAMP:20260425T084420
CREATED:20240630T013054Z
LAST-MODIFIED:20240704T164307Z
UID:10013060-1766082600-1766088000@gigharborcommunity.com
SUMMARY:Trivia Night at The Beer Vault
DESCRIPTION:
URL:https://gigharborcommunity.com/event/trivia-night-at-the-beer-vault/2025-12-18/
LOCATION:The Beer Vault & Wine Bar\, 14004 Purdy Dr\, Gig Harbor\, WA\, 98332
CATEGORIES:Food & Drink,Trivia & Games
END:VEVENT
BEGIN:VEVENT
DTSTART;TZID=America/Los_Angeles:20251217T191500
DTEND;TZID=America/Los_Angeles:20251217T210000
DTSTAMP:20260425T084420
CREATED:20240630T013050Z
LAST-MODIFIED:20240704T175725Z
UID:10013321-1765998900-1766005200@gigharborcommunity.com
SUMMARY:Trivia Night at The Float
DESCRIPTION:
URL:https://gigharborcommunity.com/event/trivia-night-at-the-float/2025-12-17/
LOCATION:The Floatation Device\, 14511 Sherman Dr NW\, Gig Harbor\, WA\, 98332
CATEGORIES:Food & Drink,Trivia & Games
END:VEVENT
BEGIN:VEVENT
DTSTART;TZID=America/Los_Angeles:20251217T180000
DTEND;TZID=America/Los_Angeles:20251217T200000
DTSTAMP:20260425T084420
CREATED:20250728T022106Z
LAST-MODIFIED:20250728T022106Z
UID:10051920-1765994400-1766001600@gigharborcommunity.com
SUMMARY:Trivia
DESCRIPTION:Join us for Trivia Night every Wednesday! Grab a team of 2-6 and come test your knowledge while sipping on cider!
URL:https://gigharborcommunity.com/event/trivia-2/2025-12-17/
LOCATION:Locust Cider\, 3207 57th St Ct\, Gig Harbor\, WA\, 98335
CATEGORIES:Food & Drink,Trivia & Games
END:VEVENT
BEGIN:VEVENT
DTSTART;TZID=America/Los_Angeles:20251216T190000
DTEND;TZID=America/Los_Angeles:20251216T210000
DTSTAMP:20260425T084420
CREATED:20240630T013210Z
LAST-MODIFIED:20240704T180639Z
UID:10012800-1765911600-1765918800@gigharborcommunity.com
SUMMARY:Trivia Night at O'Looney's
DESCRIPTION:
URL:https://gigharborcommunity.com/event/trivia-night-at-olooneys/2025-12-16/
LOCATION:O’Looney’s Irish Pub\, 3222 56th St\, Gig Harbor\, WA\, 98335
CATEGORIES:Food & Drink,Trivia & Games
END:VEVENT
BEGIN:VEVENT
DTSTART;TZID=America/Los_Angeles:20251211T183000
DTEND;TZID=America/Los_Angeles:20251211T200000
DTSTAMP:20260425T084420
CREATED:20240630T013054Z
LAST-MODIFIED:20240704T164307Z
UID:10013059-1765477800-1765483200@gigharborcommunity.com
SUMMARY:Trivia Night at The Beer Vault
DESCRIPTION:
URL:https://gigharborcommunity.com/event/trivia-night-at-the-beer-vault/2025-12-11/
LOCATION:The Beer Vault & Wine Bar\, 14004 Purdy Dr\, Gig Harbor\, WA\, 98332
CATEGORIES:Food & Drink,Trivia & Games
END:VEVENT
BEGIN:VEVENT
DTSTART;TZID=America/Los_Angeles:20251210T191500
DTEND;TZID=America/Los_Angeles:20251210T210000
DTSTAMP:20260425T084420
CREATED:20240630T013050Z
LAST-MODIFIED:20240704T175725Z
UID:10013320-1765394100-1765400400@gigharborcommunity.com
SUMMARY:Trivia Night at The Float
DESCRIPTION:
URL:https://gigharborcommunity.com/event/trivia-night-at-the-float/2025-12-10/
LOCATION:The Floatation Device\, 14511 Sherman Dr NW\, Gig Harbor\, WA\, 98332
CATEGORIES:Food & Drink,Trivia & Games
END:VEVENT
BEGIN:VEVENT
DTSTART;TZID=America/Los_Angeles:20251210T180000
DTEND;TZID=America/Los_Angeles:20251210T200000
DTSTAMP:20260425T084420
CREATED:20250728T022106Z
LAST-MODIFIED:20250728T022106Z
UID:10051919-1765389600-1765396800@gigharborcommunity.com
SUMMARY:Trivia
DESCRIPTION:Join us for Trivia Night every Wednesday! Grab a team of 2-6 and come test your knowledge while sipping on cider!
URL:https://gigharborcommunity.com/event/trivia-2/2025-12-10/
LOCATION:Locust Cider\, 3207 57th St Ct\, Gig Harbor\, WA\, 98335
CATEGORIES:Food & Drink,Trivia & Games
END:VEVENT
BEGIN:VEVENT
DTSTART;TZID=America/Los_Angeles:20251209T190000
DTEND;TZID=America/Los_Angeles:20251209T210000
DTSTAMP:20260425T084420
CREATED:20240630T013210Z
LAST-MODIFIED:20240704T180639Z
UID:10012799-1765306800-1765314000@gigharborcommunity.com
SUMMARY:Trivia Night at O'Looney's
DESCRIPTION:
URL:https://gigharborcommunity.com/event/trivia-night-at-olooneys/2025-12-09/
LOCATION:O’Looney’s Irish Pub\, 3222 56th St\, Gig Harbor\, WA\, 98335
CATEGORIES:Food & Drink,Trivia & Games
END:VEVENT
BEGIN:VEVENT
DTSTART;TZID=America/Los_Angeles:20251205T180000
DTEND;TZID=America/Los_Angeles:20251205T200000
DTSTAMP:20260425T084420
CREATED:20251201T044222Z
LAST-MODIFIED:20251201T044222Z
UID:10053041-1764957600-1764964800@gigharborcommunity.com
SUMMARY:Drag Bingo
DESCRIPTION:Join us for another great night of Drag Bingo!
URL:https://gigharborcommunity.com/event/drag-bingo-6/
LOCATION:Locust Cider\, 3207 57th St Ct\, Gig Harbor\, WA\, 98335
CATEGORIES:Food & Drink,Trivia & Games
END:VEVENT
BEGIN:VEVENT
DTSTART;TZID=America/Los_Angeles:20251204T183000
DTEND;TZID=America/Los_Angeles:20251204T200000
DTSTAMP:20260425T084420
CREATED:20240630T013054Z
LAST-MODIFIED:20240704T164307Z
UID:10013058-1764873000-1764878400@gigharborcommunity.com
SUMMARY:Trivia Night at The Beer Vault
DESCRIPTION:
URL:https://gigharborcommunity.com/event/trivia-night-at-the-beer-vault/2025-12-04/
LOCATION:The Beer Vault & Wine Bar\, 14004 Purdy Dr\, Gig Harbor\, WA\, 98332
CATEGORIES:Food & Drink,Trivia & Games
END:VEVENT
BEGIN:VEVENT
DTSTART;TZID=America/Los_Angeles:20251203T191500
DTEND;TZID=America/Los_Angeles:20251203T210000
DTSTAMP:20260425T084420
CREATED:20240630T013050Z
LAST-MODIFIED:20240704T175725Z
UID:10013319-1764789300-1764795600@gigharborcommunity.com
SUMMARY:Trivia Night at The Float
DESCRIPTION:
URL:https://gigharborcommunity.com/event/trivia-night-at-the-float/2025-12-03/
LOCATION:The Floatation Device\, 14511 Sherman Dr NW\, Gig Harbor\, WA\, 98332
CATEGORIES:Food & Drink,Trivia & Games
END:VEVENT
END:VCALENDAR