BEGIN:VCALENDAR
VERSION:2.0
PRODID:-//Gig Harbor Events - ECPv6.15.20//NONSGML v1.0//EN
CALSCALE:GREGORIAN
METHOD:PUBLISH
X-WR-CALNAME:Gig Harbor Events
X-ORIGINAL-URL:https://gigharborcommunity.com
X-WR-CALDESC:Events for Gig Harbor Events
REFRESH-INTERVAL;VALUE=DURATION:PT1H
X-Robots-Tag:noindex
X-PUBLISHED-TTL:PT1H
BEGIN:VTIMEZONE
TZID:America/Los_Angeles
BEGIN:DAYLIGHT
TZOFFSETFROM:-0800
TZOFFSETTO:-0700
TZNAME:PDT
DTSTART:20250309T100000
END:DAYLIGHT
BEGIN:STANDARD
TZOFFSETFROM:-0700
TZOFFSETTO:-0800
TZNAME:PST
DTSTART:20251102T090000
END:STANDARD
BEGIN:DAYLIGHT
TZOFFSETFROM:-0800
TZOFFSETTO:-0700
TZNAME:PDT
DTSTART:20260308T100000
END:DAYLIGHT
BEGIN:STANDARD
TZOFFSETFROM:-0700
TZOFFSETTO:-0800
TZNAME:PST
DTSTART:20261101T090000
END:STANDARD
BEGIN:DAYLIGHT
TZOFFSETFROM:-0800
TZOFFSETTO:-0700
TZNAME:PDT
DTSTART:20270314T100000
END:DAYLIGHT
BEGIN:STANDARD
TZOFFSETFROM:-0700
TZOFFSETTO:-0800
TZNAME:PST
DTSTART:20271107T090000
END:STANDARD
END:VTIMEZONE
BEGIN:VEVENT
DTSTART;TZID=America/Los_Angeles:20260715T191500
DTEND;TZID=America/Los_Angeles:20260715T210000
DTSTAMP:20260423T053306
CREATED:20240630T013050Z
LAST-MODIFIED:20240704T175725Z
UID:10013351-1784142900-1784149200@gigharborcommunity.com
SUMMARY:Trivia Night at The Float
DESCRIPTION:
URL:https://gigharborcommunity.com/event/trivia-night-at-the-float/2026-07-15/
LOCATION:The Floatation Device\, 14511 Sherman Dr NW\, Gig Harbor\, WA\, 98332
CATEGORIES:Food & Drink,Trivia & Games
END:VEVENT
BEGIN:VEVENT
DTSTART;TZID=America/Los_Angeles:20260716T183000
DTEND;TZID=America/Los_Angeles:20260716T200000
DTSTAMP:20260423T053306
CREATED:20240630T013054Z
LAST-MODIFIED:20240704T164307Z
UID:10013090-1784226600-1784232000@gigharborcommunity.com
SUMMARY:Trivia Night at The Beer Vault
DESCRIPTION:
URL:https://gigharborcommunity.com/event/trivia-night-at-the-beer-vault/2026-07-16/
LOCATION:The Beer Vault & Wine Bar\, 14004 Purdy Dr\, Gig Harbor\, WA\, 98332
CATEGORIES:Food & Drink,Trivia & Games
END:VEVENT
BEGIN:VEVENT
DTSTART;TZID=America/Los_Angeles:20260721T190000
DTEND;TZID=America/Los_Angeles:20260721T210000
DTSTAMP:20260423T053306
CREATED:20240630T013210Z
LAST-MODIFIED:20240704T180639Z
UID:10012831-1784660400-1784667600@gigharborcommunity.com
SUMMARY:Trivia Night at O'Looney's
DESCRIPTION:
URL:https://gigharborcommunity.com/event/trivia-night-at-olooneys/2026-07-21/
LOCATION:O’Looney’s Irish Pub\, 3222 56th St\, Gig Harbor\, WA\, 98335
CATEGORIES:Food & Drink,Trivia & Games
END:VEVENT
BEGIN:VEVENT
DTSTART;TZID=America/Los_Angeles:20260722T180000
DTEND;TZID=America/Los_Angeles:20260722T200000
DTSTAMP:20260423T053306
CREATED:20250728T022106Z
LAST-MODIFIED:20250728T022106Z
UID:10051951-1784743200-1784750400@gigharborcommunity.com
SUMMARY:Trivia
DESCRIPTION:Join us for Trivia Night every Wednesday! Grab a team of 2-6 and come test your knowledge while sipping on cider!
URL:https://gigharborcommunity.com/event/trivia-2/2026-07-22/
LOCATION:Locust Cider\, 3207 57th St Ct\, Gig Harbor\, WA\, 98335
CATEGORIES:Food & Drink,Trivia & Games
END:VEVENT
BEGIN:VEVENT
DTSTART;TZID=America/Los_Angeles:20260722T191500
DTEND;TZID=America/Los_Angeles:20260722T210000
DTSTAMP:20260423T053306
CREATED:20240630T013050Z
LAST-MODIFIED:20240704T175725Z
UID:10013352-1784747700-1784754000@gigharborcommunity.com
SUMMARY:Trivia Night at The Float
DESCRIPTION:
URL:https://gigharborcommunity.com/event/trivia-night-at-the-float/2026-07-22/
LOCATION:The Floatation Device\, 14511 Sherman Dr NW\, Gig Harbor\, WA\, 98332
CATEGORIES:Food & Drink,Trivia & Games
END:VEVENT
BEGIN:VEVENT
DTSTART;TZID=America/Los_Angeles:20260723T183000
DTEND;TZID=America/Los_Angeles:20260723T200000
DTSTAMP:20260423T053306
CREATED:20240630T013054Z
LAST-MODIFIED:20240704T164307Z
UID:10013091-1784831400-1784836800@gigharborcommunity.com
SUMMARY:Trivia Night at The Beer Vault
DESCRIPTION:
URL:https://gigharborcommunity.com/event/trivia-night-at-the-beer-vault/2026-07-23/
LOCATION:The Beer Vault & Wine Bar\, 14004 Purdy Dr\, Gig Harbor\, WA\, 98332
CATEGORIES:Food & Drink,Trivia & Games
END:VEVENT
BEGIN:VEVENT
DTSTART;TZID=America/Los_Angeles:20260728T190000
DTEND;TZID=America/Los_Angeles:20260728T210000
DTSTAMP:20260423T053306
CREATED:20240630T013210Z
LAST-MODIFIED:20240704T180639Z
UID:10012832-1785265200-1785272400@gigharborcommunity.com
SUMMARY:Trivia Night at O'Looney's
DESCRIPTION:
URL:https://gigharborcommunity.com/event/trivia-night-at-olooneys/2026-07-28/
LOCATION:O’Looney’s Irish Pub\, 3222 56th St\, Gig Harbor\, WA\, 98335
CATEGORIES:Food & Drink,Trivia & Games
END:VEVENT
BEGIN:VEVENT
DTSTART;TZID=America/Los_Angeles:20260729T180000
DTEND;TZID=America/Los_Angeles:20260729T200000
DTSTAMP:20260423T053306
CREATED:20250728T022106Z
LAST-MODIFIED:20250728T022106Z
UID:10051952-1785348000-1785355200@gigharborcommunity.com
SUMMARY:Trivia
DESCRIPTION:Join us for Trivia Night every Wednesday! Grab a team of 2-6 and come test your knowledge while sipping on cider!
URL:https://gigharborcommunity.com/event/trivia-2/2026-07-29/
LOCATION:Locust Cider\, 3207 57th St Ct\, Gig Harbor\, WA\, 98335
CATEGORIES:Food & Drink,Trivia & Games
END:VEVENT
BEGIN:VEVENT
DTSTART;TZID=America/Los_Angeles:20260729T191500
DTEND;TZID=America/Los_Angeles:20260729T210000
DTSTAMP:20260423T053306
CREATED:20240630T013050Z
LAST-MODIFIED:20240704T175725Z
UID:10013353-1785352500-1785358800@gigharborcommunity.com
SUMMARY:Trivia Night at The Float
DESCRIPTION:
URL:https://gigharborcommunity.com/event/trivia-night-at-the-float/2026-07-29/
LOCATION:The Floatation Device\, 14511 Sherman Dr NW\, Gig Harbor\, WA\, 98332
CATEGORIES:Food & Drink,Trivia & Games
END:VEVENT
BEGIN:VEVENT
DTSTART;TZID=America/Los_Angeles:20260730T183000
DTEND;TZID=America/Los_Angeles:20260730T200000
DTSTAMP:20260423T053306
CREATED:20240630T013054Z
LAST-MODIFIED:20240704T164307Z
UID:10013092-1785436200-1785441600@gigharborcommunity.com
SUMMARY:Trivia Night at The Beer Vault
DESCRIPTION:
URL:https://gigharborcommunity.com/event/trivia-night-at-the-beer-vault/2026-07-30/
LOCATION:The Beer Vault & Wine Bar\, 14004 Purdy Dr\, Gig Harbor\, WA\, 98332
CATEGORIES:Food & Drink,Trivia & Games
END:VEVENT
BEGIN:VEVENT
DTSTART;TZID=America/Los_Angeles:20260804T190000
DTEND;TZID=America/Los_Angeles:20260804T210000
DTSTAMP:20260423T053306
CREATED:20240630T013210Z
LAST-MODIFIED:20240704T180639Z
UID:10012833-1785870000-1785877200@gigharborcommunity.com
SUMMARY:Trivia Night at O'Looney's
DESCRIPTION:
URL:https://gigharborcommunity.com/event/trivia-night-at-olooneys/2026-08-04/
LOCATION:O’Looney’s Irish Pub\, 3222 56th St\, Gig Harbor\, WA\, 98335
CATEGORIES:Food & Drink,Trivia & Games
END:VEVENT
BEGIN:VEVENT
DTSTART;TZID=America/Los_Angeles:20260805T180000
DTEND;TZID=America/Los_Angeles:20260805T200000
DTSTAMP:20260423T053306
CREATED:20250728T022106Z
LAST-MODIFIED:20250728T022106Z
UID:10051953-1785952800-1785960000@gigharborcommunity.com
SUMMARY:Trivia
DESCRIPTION:Join us for Trivia Night every Wednesday! Grab a team of 2-6 and come test your knowledge while sipping on cider!
URL:https://gigharborcommunity.com/event/trivia-2/2026-08-05/
LOCATION:Locust Cider\, 3207 57th St Ct\, Gig Harbor\, WA\, 98335
CATEGORIES:Food & Drink,Trivia & Games
END:VEVENT
BEGIN:VEVENT
DTSTART;TZID=America/Los_Angeles:20260805T191500
DTEND;TZID=America/Los_Angeles:20260805T210000
DTSTAMP:20260423T053306
CREATED:20240630T013050Z
LAST-MODIFIED:20240704T175725Z
UID:10013354-1785957300-1785963600@gigharborcommunity.com
SUMMARY:Trivia Night at The Float
DESCRIPTION:
URL:https://gigharborcommunity.com/event/trivia-night-at-the-float/2026-08-05/
LOCATION:The Floatation Device\, 14511 Sherman Dr NW\, Gig Harbor\, WA\, 98332
CATEGORIES:Food & Drink,Trivia & Games
END:VEVENT
BEGIN:VEVENT
DTSTART;TZID=America/Los_Angeles:20260806T183000
DTEND;TZID=America/Los_Angeles:20260806T200000
DTSTAMP:20260423T053306
CREATED:20240630T013054Z
LAST-MODIFIED:20240704T164307Z
UID:10013093-1786041000-1786046400@gigharborcommunity.com
SUMMARY:Trivia Night at The Beer Vault
DESCRIPTION:
URL:https://gigharborcommunity.com/event/trivia-night-at-the-beer-vault/2026-08-06/
LOCATION:The Beer Vault & Wine Bar\, 14004 Purdy Dr\, Gig Harbor\, WA\, 98332
CATEGORIES:Food & Drink,Trivia & Games
END:VEVENT
BEGIN:VEVENT
DTSTART;TZID=America/Los_Angeles:20260811T190000
DTEND;TZID=America/Los_Angeles:20260811T210000
DTSTAMP:20260423T053306
CREATED:20240630T013210Z
LAST-MODIFIED:20240704T180639Z
UID:10012834-1786474800-1786482000@gigharborcommunity.com
SUMMARY:Trivia Night at O'Looney's
DESCRIPTION:
URL:https://gigharborcommunity.com/event/trivia-night-at-olooneys/2026-08-11/
LOCATION:O’Looney’s Irish Pub\, 3222 56th St\, Gig Harbor\, WA\, 98335
CATEGORIES:Food & Drink,Trivia & Games
END:VEVENT
BEGIN:VEVENT
DTSTART;TZID=America/Los_Angeles:20260812T180000
DTEND;TZID=America/Los_Angeles:20260812T200000
DTSTAMP:20260423T053306
CREATED:20250728T022106Z
LAST-MODIFIED:20250728T022106Z
UID:10051954-1786557600-1786564800@gigharborcommunity.com
SUMMARY:Trivia
DESCRIPTION:Join us for Trivia Night every Wednesday! Grab a team of 2-6 and come test your knowledge while sipping on cider!
URL:https://gigharborcommunity.com/event/trivia-2/2026-08-12/
LOCATION:Locust Cider\, 3207 57th St Ct\, Gig Harbor\, WA\, 98335
CATEGORIES:Food & Drink,Trivia & Games
END:VEVENT
BEGIN:VEVENT
DTSTART;TZID=America/Los_Angeles:20260812T191500
DTEND;TZID=America/Los_Angeles:20260812T210000
DTSTAMP:20260423T053306
CREATED:20240630T013050Z
LAST-MODIFIED:20240704T175725Z
UID:10013355-1786562100-1786568400@gigharborcommunity.com
SUMMARY:Trivia Night at The Float
DESCRIPTION:
URL:https://gigharborcommunity.com/event/trivia-night-at-the-float/2026-08-12/
LOCATION:The Floatation Device\, 14511 Sherman Dr NW\, Gig Harbor\, WA\, 98332
CATEGORIES:Food & Drink,Trivia & Games
END:VEVENT
BEGIN:VEVENT
DTSTART;TZID=America/Los_Angeles:20260813T183000
DTEND;TZID=America/Los_Angeles:20260813T200000
DTSTAMP:20260423T053306
CREATED:20240630T013054Z
LAST-MODIFIED:20240704T164307Z
UID:10013094-1786645800-1786651200@gigharborcommunity.com
SUMMARY:Trivia Night at The Beer Vault
DESCRIPTION:
URL:https://gigharborcommunity.com/event/trivia-night-at-the-beer-vault/2026-08-13/
LOCATION:The Beer Vault & Wine Bar\, 14004 Purdy Dr\, Gig Harbor\, WA\, 98332
CATEGORIES:Food & Drink,Trivia & Games
END:VEVENT
BEGIN:VEVENT
DTSTART;TZID=America/Los_Angeles:20260818T190000
DTEND;TZID=America/Los_Angeles:20260818T210000
DTSTAMP:20260423T053306
CREATED:20240630T013210Z
LAST-MODIFIED:20240704T180639Z
UID:10012835-1787079600-1787086800@gigharborcommunity.com
SUMMARY:Trivia Night at O'Looney's
DESCRIPTION:
URL:https://gigharborcommunity.com/event/trivia-night-at-olooneys/2026-08-18/
LOCATION:O’Looney’s Irish Pub\, 3222 56th St\, Gig Harbor\, WA\, 98335
CATEGORIES:Food & Drink,Trivia & Games
END:VEVENT
BEGIN:VEVENT
DTSTART;TZID=America/Los_Angeles:20260819T180000
DTEND;TZID=America/Los_Angeles:20260819T200000
DTSTAMP:20260423T053306
CREATED:20250728T022106Z
LAST-MODIFIED:20250728T022106Z
UID:10051955-1787162400-1787169600@gigharborcommunity.com
SUMMARY:Trivia
DESCRIPTION:Join us for Trivia Night every Wednesday! Grab a team of 2-6 and come test your knowledge while sipping on cider!
URL:https://gigharborcommunity.com/event/trivia-2/2026-08-19/
LOCATION:Locust Cider\, 3207 57th St Ct\, Gig Harbor\, WA\, 98335
CATEGORIES:Food & Drink,Trivia & Games
END:VEVENT
BEGIN:VEVENT
DTSTART;TZID=America/Los_Angeles:20260819T191500
DTEND;TZID=America/Los_Angeles:20260819T210000
DTSTAMP:20260423T053306
CREATED:20240630T013050Z
LAST-MODIFIED:20240704T175725Z
UID:10013356-1787166900-1787173200@gigharborcommunity.com
SUMMARY:Trivia Night at The Float
DESCRIPTION:
URL:https://gigharborcommunity.com/event/trivia-night-at-the-float/2026-08-19/
LOCATION:The Floatation Device\, 14511 Sherman Dr NW\, Gig Harbor\, WA\, 98332
CATEGORIES:Food & Drink,Trivia & Games
END:VEVENT
BEGIN:VEVENT
DTSTART;TZID=America/Los_Angeles:20260820T183000
DTEND;TZID=America/Los_Angeles:20260820T200000
DTSTAMP:20260423T053306
CREATED:20240630T013054Z
LAST-MODIFIED:20240704T164307Z
UID:10013095-1787250600-1787256000@gigharborcommunity.com
SUMMARY:Trivia Night at The Beer Vault
DESCRIPTION:
URL:https://gigharborcommunity.com/event/trivia-night-at-the-beer-vault/2026-08-20/
LOCATION:The Beer Vault & Wine Bar\, 14004 Purdy Dr\, Gig Harbor\, WA\, 98332
CATEGORIES:Food & Drink,Trivia & Games
END:VEVENT
BEGIN:VEVENT
DTSTART;TZID=America/Los_Angeles:20260825T190000
DTEND;TZID=America/Los_Angeles:20260825T210000
DTSTAMP:20260423T053306
CREATED:20240630T013210Z
LAST-MODIFIED:20240704T180639Z
UID:10012836-1787684400-1787691600@gigharborcommunity.com
SUMMARY:Trivia Night at O'Looney's
DESCRIPTION:
URL:https://gigharborcommunity.com/event/trivia-night-at-olooneys/2026-08-25/
LOCATION:O’Looney’s Irish Pub\, 3222 56th St\, Gig Harbor\, WA\, 98335
CATEGORIES:Food & Drink,Trivia & Games
END:VEVENT
BEGIN:VEVENT
DTSTART;TZID=America/Los_Angeles:20260826T180000
DTEND;TZID=America/Los_Angeles:20260826T200000
DTSTAMP:20260423T053306
CREATED:20250728T022106Z
LAST-MODIFIED:20250728T022106Z
UID:10051956-1787767200-1787774400@gigharborcommunity.com
SUMMARY:Trivia
DESCRIPTION:Join us for Trivia Night every Wednesday! Grab a team of 2-6 and come test your knowledge while sipping on cider!
URL:https://gigharborcommunity.com/event/trivia-2/2026-08-26/
LOCATION:Locust Cider\, 3207 57th St Ct\, Gig Harbor\, WA\, 98335
CATEGORIES:Food & Drink,Trivia & Games
END:VEVENT
BEGIN:VEVENT
DTSTART;TZID=America/Los_Angeles:20260826T191500
DTEND;TZID=America/Los_Angeles:20260826T210000
DTSTAMP:20260423T053306
CREATED:20240630T013050Z
LAST-MODIFIED:20240704T175725Z
UID:10013357-1787771700-1787778000@gigharborcommunity.com
SUMMARY:Trivia Night at The Float
DESCRIPTION:
URL:https://gigharborcommunity.com/event/trivia-night-at-the-float/2026-08-26/
LOCATION:The Floatation Device\, 14511 Sherman Dr NW\, Gig Harbor\, WA\, 98332
CATEGORIES:Food & Drink,Trivia & Games
END:VEVENT
BEGIN:VEVENT
DTSTART;TZID=America/Los_Angeles:20260827T183000
DTEND;TZID=America/Los_Angeles:20260827T200000
DTSTAMP:20260423T053306
CREATED:20240630T013054Z
LAST-MODIFIED:20240704T164307Z
UID:10013096-1787855400-1787860800@gigharborcommunity.com
SUMMARY:Trivia Night at The Beer Vault
DESCRIPTION:
URL:https://gigharborcommunity.com/event/trivia-night-at-the-beer-vault/2026-08-27/
LOCATION:The Beer Vault & Wine Bar\, 14004 Purdy Dr\, Gig Harbor\, WA\, 98332
CATEGORIES:Food & Drink,Trivia & Games
END:VEVENT
BEGIN:VEVENT
DTSTART;TZID=America/Los_Angeles:20260901T190000
DTEND;TZID=America/Los_Angeles:20260901T210000
DTSTAMP:20260423T053306
CREATED:20240630T013210Z
LAST-MODIFIED:20240704T180639Z
UID:10012837-1788289200-1788296400@gigharborcommunity.com
SUMMARY:Trivia Night at O'Looney's
DESCRIPTION:
URL:https://gigharborcommunity.com/event/trivia-night-at-olooneys/2026-09-01/
LOCATION:O’Looney’s Irish Pub\, 3222 56th St\, Gig Harbor\, WA\, 98335
CATEGORIES:Food & Drink,Trivia & Games
END:VEVENT
BEGIN:VEVENT
DTSTART;TZID=America/Los_Angeles:20260902T180000
DTEND;TZID=America/Los_Angeles:20260902T200000
DTSTAMP:20260423T053306
CREATED:20250728T022106Z
LAST-MODIFIED:20250728T022106Z
UID:10051957-1788372000-1788379200@gigharborcommunity.com
SUMMARY:Trivia
DESCRIPTION:Join us for Trivia Night every Wednesday! Grab a team of 2-6 and come test your knowledge while sipping on cider!
URL:https://gigharborcommunity.com/event/trivia-2/2026-09-02/
LOCATION:Locust Cider\, 3207 57th St Ct\, Gig Harbor\, WA\, 98335
CATEGORIES:Food & Drink,Trivia & Games
END:VEVENT
BEGIN:VEVENT
DTSTART;TZID=America/Los_Angeles:20260902T191500
DTEND;TZID=America/Los_Angeles:20260902T210000
DTSTAMP:20260423T053306
CREATED:20240630T013050Z
LAST-MODIFIED:20240704T175725Z
UID:10013358-1788376500-1788382800@gigharborcommunity.com
SUMMARY:Trivia Night at The Float
DESCRIPTION:
URL:https://gigharborcommunity.com/event/trivia-night-at-the-float/2026-09-02/
LOCATION:The Floatation Device\, 14511 Sherman Dr NW\, Gig Harbor\, WA\, 98332
CATEGORIES:Food & Drink,Trivia & Games
END:VEVENT
BEGIN:VEVENT
DTSTART;TZID=America/Los_Angeles:20260903T183000
DTEND;TZID=America/Los_Angeles:20260903T200000
DTSTAMP:20260423T053306
CREATED:20240630T013054Z
LAST-MODIFIED:20240704T164307Z
UID:10013097-1788460200-1788465600@gigharborcommunity.com
SUMMARY:Trivia Night at The Beer Vault
DESCRIPTION:
URL:https://gigharborcommunity.com/event/trivia-night-at-the-beer-vault/2026-09-03/
LOCATION:The Beer Vault & Wine Bar\, 14004 Purdy Dr\, Gig Harbor\, WA\, 98332
CATEGORIES:Food & Drink,Trivia & Games
END:VEVENT
END:VCALENDAR