BEGIN:VCALENDAR
VERSION:2.0
PRODID:-//Gig Harbor Events - ECPv6.15.20//NONSGML v1.0//EN
CALSCALE:GREGORIAN
METHOD:PUBLISH
X-WR-CALNAME:Gig Harbor Events
X-ORIGINAL-URL:https://gigharborcommunity.com
X-WR-CALDESC:Events for Gig Harbor Events
REFRESH-INTERVAL;VALUE=DURATION:PT1H
X-Robots-Tag:noindex
X-PUBLISHED-TTL:PT1H
BEGIN:VTIMEZONE
TZID:America/Los_Angeles
BEGIN:DAYLIGHT
TZOFFSETFROM:-0800
TZOFFSETTO:-0700
TZNAME:PDT
DTSTART:20250309T100000
END:DAYLIGHT
BEGIN:STANDARD
TZOFFSETFROM:-0700
TZOFFSETTO:-0800
TZNAME:PST
DTSTART:20251102T090000
END:STANDARD
BEGIN:DAYLIGHT
TZOFFSETFROM:-0800
TZOFFSETTO:-0700
TZNAME:PDT
DTSTART:20260308T100000
END:DAYLIGHT
BEGIN:STANDARD
TZOFFSETFROM:-0700
TZOFFSETTO:-0800
TZNAME:PST
DTSTART:20261101T090000
END:STANDARD
BEGIN:DAYLIGHT
TZOFFSETFROM:-0800
TZOFFSETTO:-0700
TZNAME:PDT
DTSTART:20270314T100000
END:DAYLIGHT
BEGIN:STANDARD
TZOFFSETFROM:-0700
TZOFFSETTO:-0800
TZNAME:PST
DTSTART:20271107T090000
END:STANDARD
END:VTIMEZONE
BEGIN:VEVENT
DTSTART;TZID=America/Los_Angeles:20260421T190000
DTEND;TZID=America/Los_Angeles:20260421T210000
DTSTAMP:20260421T061919
CREATED:20240630T013210Z
LAST-MODIFIED:20240704T180639Z
UID:10012818-1776798000-1776805200@gigharborcommunity.com
SUMMARY:Trivia Night at O'Looney's
DESCRIPTION:
URL:https://gigharborcommunity.com/event/trivia-night-at-olooneys/2026-04-21/
LOCATION:O’Looney’s Irish Pub\, 3222 56th St\, Gig Harbor\, WA\, 98335
CATEGORIES:Food & Drink,Trivia & Games
END:VEVENT
BEGIN:VEVENT
DTSTART;TZID=America/Los_Angeles:20260422T180000
DTEND;TZID=America/Los_Angeles:20260422T200000
DTSTAMP:20260421T061919
CREATED:20250728T022106Z
LAST-MODIFIED:20250728T022106Z
UID:10051938-1776880800-1776888000@gigharborcommunity.com
SUMMARY:Trivia
DESCRIPTION:Join us for Trivia Night every Wednesday! Grab a team of 2-6 and come test your knowledge while sipping on cider!
URL:https://gigharborcommunity.com/event/trivia-2/2026-04-22/
LOCATION:Locust Cider\, 3207 57th St Ct\, Gig Harbor\, WA\, 98335
CATEGORIES:Food & Drink,Trivia & Games
END:VEVENT
BEGIN:VEVENT
DTSTART;TZID=America/Los_Angeles:20260422T191500
DTEND;TZID=America/Los_Angeles:20260422T210000
DTSTAMP:20260421T061919
CREATED:20240630T013050Z
LAST-MODIFIED:20240704T175725Z
UID:10013339-1776885300-1776891600@gigharborcommunity.com
SUMMARY:Trivia Night at The Float
DESCRIPTION:
URL:https://gigharborcommunity.com/event/trivia-night-at-the-float/2026-04-22/
LOCATION:The Floatation Device\, 14511 Sherman Dr NW\, Gig Harbor\, WA\, 98332
CATEGORIES:Food & Drink,Trivia & Games
END:VEVENT
BEGIN:VEVENT
DTSTART;TZID=America/Los_Angeles:20260423T183000
DTEND;TZID=America/Los_Angeles:20260423T200000
DTSTAMP:20260421T061919
CREATED:20240630T013054Z
LAST-MODIFIED:20240704T164307Z
UID:10013078-1776969000-1776974400@gigharborcommunity.com
SUMMARY:Trivia Night at The Beer Vault
DESCRIPTION:
URL:https://gigharborcommunity.com/event/trivia-night-at-the-beer-vault/2026-04-23/
LOCATION:The Beer Vault & Wine Bar\, 14004 Purdy Dr\, Gig Harbor\, WA\, 98332
CATEGORIES:Food & Drink,Trivia & Games
END:VEVENT
BEGIN:VEVENT
DTSTART;TZID=America/Los_Angeles:20260424T180000
DTEND;TZID=America/Los_Angeles:20260424T200000
DTSTAMP:20260421T061919
CREATED:20260420T015913Z
LAST-MODIFIED:20260420T015913Z
UID:10055242-1777053600-1777060800@gigharborcommunity.com
SUMMARY:Drag Bingo
DESCRIPTION:Join us for another great night of Drag Bingo!
URL:https://gigharborcommunity.com/event/drag-bingo-11/
LOCATION:Locust Cider\, 3207 57th St Ct\, Gig Harbor\, WA\, 98335
CATEGORIES:Food & Drink,Trivia & Games
END:VEVENT
BEGIN:VEVENT
DTSTART;TZID=America/Los_Angeles:20260428T190000
DTEND;TZID=America/Los_Angeles:20260428T210000
DTSTAMP:20260421T061919
CREATED:20240630T013210Z
LAST-MODIFIED:20240704T180639Z
UID:10012819-1777402800-1777410000@gigharborcommunity.com
SUMMARY:Trivia Night at O'Looney's
DESCRIPTION:
URL:https://gigharborcommunity.com/event/trivia-night-at-olooneys/2026-04-28/
LOCATION:O’Looney’s Irish Pub\, 3222 56th St\, Gig Harbor\, WA\, 98335
CATEGORIES:Food & Drink,Trivia & Games
END:VEVENT
BEGIN:VEVENT
DTSTART;TZID=America/Los_Angeles:20260429T180000
DTEND;TZID=America/Los_Angeles:20260429T200000
DTSTAMP:20260421T061919
CREATED:20250728T022106Z
LAST-MODIFIED:20250728T022106Z
UID:10051939-1777485600-1777492800@gigharborcommunity.com
SUMMARY:Trivia
DESCRIPTION:Join us for Trivia Night every Wednesday! Grab a team of 2-6 and come test your knowledge while sipping on cider!
URL:https://gigharborcommunity.com/event/trivia-2/2026-04-29/
LOCATION:Locust Cider\, 3207 57th St Ct\, Gig Harbor\, WA\, 98335
CATEGORIES:Food & Drink,Trivia & Games
END:VEVENT
BEGIN:VEVENT
DTSTART;TZID=America/Los_Angeles:20260429T191500
DTEND;TZID=America/Los_Angeles:20260429T210000
DTSTAMP:20260421T061919
CREATED:20240630T013050Z
LAST-MODIFIED:20240704T175725Z
UID:10013340-1777490100-1777496400@gigharborcommunity.com
SUMMARY:Trivia Night at The Float
DESCRIPTION:
URL:https://gigharborcommunity.com/event/trivia-night-at-the-float/2026-04-29/
LOCATION:The Floatation Device\, 14511 Sherman Dr NW\, Gig Harbor\, WA\, 98332
CATEGORIES:Food & Drink,Trivia & Games
END:VEVENT
BEGIN:VEVENT
DTSTART;TZID=America/Los_Angeles:20260430T183000
DTEND;TZID=America/Los_Angeles:20260430T200000
DTSTAMP:20260421T061919
CREATED:20240630T013054Z
LAST-MODIFIED:20240704T164307Z
UID:10013079-1777573800-1777579200@gigharborcommunity.com
SUMMARY:Trivia Night at The Beer Vault
DESCRIPTION:
URL:https://gigharborcommunity.com/event/trivia-night-at-the-beer-vault/2026-04-30/
LOCATION:The Beer Vault & Wine Bar\, 14004 Purdy Dr\, Gig Harbor\, WA\, 98332
CATEGORIES:Food & Drink,Trivia & Games
END:VEVENT
BEGIN:VEVENT
DTSTART;TZID=America/Los_Angeles:20260505T190000
DTEND;TZID=America/Los_Angeles:20260505T210000
DTSTAMP:20260421T061919
CREATED:20240630T013210Z
LAST-MODIFIED:20240704T180639Z
UID:10012820-1778007600-1778014800@gigharborcommunity.com
SUMMARY:Trivia Night at O'Looney's
DESCRIPTION:
URL:https://gigharborcommunity.com/event/trivia-night-at-olooneys/2026-05-05/
LOCATION:O’Looney’s Irish Pub\, 3222 56th St\, Gig Harbor\, WA\, 98335
CATEGORIES:Food & Drink,Trivia & Games
END:VEVENT
BEGIN:VEVENT
DTSTART;TZID=America/Los_Angeles:20260506T180000
DTEND;TZID=America/Los_Angeles:20260506T200000
DTSTAMP:20260421T061919
CREATED:20250728T022106Z
LAST-MODIFIED:20250728T022106Z
UID:10051940-1778090400-1778097600@gigharborcommunity.com
SUMMARY:Trivia
DESCRIPTION:Join us for Trivia Night every Wednesday! Grab a team of 2-6 and come test your knowledge while sipping on cider!
URL:https://gigharborcommunity.com/event/trivia-2/2026-05-06/
LOCATION:Locust Cider\, 3207 57th St Ct\, Gig Harbor\, WA\, 98335
CATEGORIES:Food & Drink,Trivia & Games
END:VEVENT
BEGIN:VEVENT
DTSTART;TZID=America/Los_Angeles:20260506T191500
DTEND;TZID=America/Los_Angeles:20260506T210000
DTSTAMP:20260421T061919
CREATED:20240630T013050Z
LAST-MODIFIED:20240704T175725Z
UID:10013341-1778094900-1778101200@gigharborcommunity.com
SUMMARY:Trivia Night at The Float
DESCRIPTION:
URL:https://gigharborcommunity.com/event/trivia-night-at-the-float/2026-05-06/
LOCATION:The Floatation Device\, 14511 Sherman Dr NW\, Gig Harbor\, WA\, 98332
CATEGORIES:Food & Drink,Trivia & Games
END:VEVENT
BEGIN:VEVENT
DTSTART;TZID=America/Los_Angeles:20260507T183000
DTEND;TZID=America/Los_Angeles:20260507T200000
DTSTAMP:20260421T061919
CREATED:20240630T013054Z
LAST-MODIFIED:20240704T164307Z
UID:10013080-1778178600-1778184000@gigharborcommunity.com
SUMMARY:Trivia Night at The Beer Vault
DESCRIPTION:
URL:https://gigharborcommunity.com/event/trivia-night-at-the-beer-vault/2026-05-07/
LOCATION:The Beer Vault & Wine Bar\, 14004 Purdy Dr\, Gig Harbor\, WA\, 98332
CATEGORIES:Food & Drink,Trivia & Games
END:VEVENT
BEGIN:VEVENT
DTSTART;TZID=America/Los_Angeles:20260512T190000
DTEND;TZID=America/Los_Angeles:20260512T210000
DTSTAMP:20260421T061919
CREATED:20240630T013210Z
LAST-MODIFIED:20240704T180639Z
UID:10012821-1778612400-1778619600@gigharborcommunity.com
SUMMARY:Trivia Night at O'Looney's
DESCRIPTION:
URL:https://gigharborcommunity.com/event/trivia-night-at-olooneys/2026-05-12/
LOCATION:O’Looney’s Irish Pub\, 3222 56th St\, Gig Harbor\, WA\, 98335
CATEGORIES:Food & Drink,Trivia & Games
END:VEVENT
BEGIN:VEVENT
DTSTART;TZID=America/Los_Angeles:20260513T180000
DTEND;TZID=America/Los_Angeles:20260513T200000
DTSTAMP:20260421T061919
CREATED:20250728T022106Z
LAST-MODIFIED:20250728T022106Z
UID:10051941-1778695200-1778702400@gigharborcommunity.com
SUMMARY:Trivia
DESCRIPTION:Join us for Trivia Night every Wednesday! Grab a team of 2-6 and come test your knowledge while sipping on cider!
URL:https://gigharborcommunity.com/event/trivia-2/2026-05-13/
LOCATION:Locust Cider\, 3207 57th St Ct\, Gig Harbor\, WA\, 98335
CATEGORIES:Food & Drink,Trivia & Games
END:VEVENT
BEGIN:VEVENT
DTSTART;TZID=America/Los_Angeles:20260513T191500
DTEND;TZID=America/Los_Angeles:20260513T210000
DTSTAMP:20260421T061919
CREATED:20240630T013050Z
LAST-MODIFIED:20240704T175725Z
UID:10013342-1778699700-1778706000@gigharborcommunity.com
SUMMARY:Trivia Night at The Float
DESCRIPTION:
URL:https://gigharborcommunity.com/event/trivia-night-at-the-float/2026-05-13/
LOCATION:The Floatation Device\, 14511 Sherman Dr NW\, Gig Harbor\, WA\, 98332
CATEGORIES:Food & Drink,Trivia & Games
END:VEVENT
BEGIN:VEVENT
DTSTART;TZID=America/Los_Angeles:20260514T183000
DTEND;TZID=America/Los_Angeles:20260514T200000
DTSTAMP:20260421T061919
CREATED:20240630T013054Z
LAST-MODIFIED:20240704T164307Z
UID:10013081-1778783400-1778788800@gigharborcommunity.com
SUMMARY:Trivia Night at The Beer Vault
DESCRIPTION:
URL:https://gigharborcommunity.com/event/trivia-night-at-the-beer-vault/2026-05-14/
LOCATION:The Beer Vault & Wine Bar\, 14004 Purdy Dr\, Gig Harbor\, WA\, 98332
CATEGORIES:Food & Drink,Trivia & Games
END:VEVENT
BEGIN:VEVENT
DTSTART;TZID=America/Los_Angeles:20260519T190000
DTEND;TZID=America/Los_Angeles:20260519T210000
DTSTAMP:20260421T061919
CREATED:20240630T013210Z
LAST-MODIFIED:20240704T180639Z
UID:10012822-1779217200-1779224400@gigharborcommunity.com
SUMMARY:Trivia Night at O'Looney's
DESCRIPTION:
URL:https://gigharborcommunity.com/event/trivia-night-at-olooneys/2026-05-19/
LOCATION:O’Looney’s Irish Pub\, 3222 56th St\, Gig Harbor\, WA\, 98335
CATEGORIES:Food & Drink,Trivia & Games
END:VEVENT
BEGIN:VEVENT
DTSTART;TZID=America/Los_Angeles:20260520T180000
DTEND;TZID=America/Los_Angeles:20260520T200000
DTSTAMP:20260421T061919
CREATED:20250728T022106Z
LAST-MODIFIED:20250728T022106Z
UID:10051942-1779300000-1779307200@gigharborcommunity.com
SUMMARY:Trivia
DESCRIPTION:Join us for Trivia Night every Wednesday! Grab a team of 2-6 and come test your knowledge while sipping on cider!
URL:https://gigharborcommunity.com/event/trivia-2/2026-05-20/
LOCATION:Locust Cider\, 3207 57th St Ct\, Gig Harbor\, WA\, 98335
CATEGORIES:Food & Drink,Trivia & Games
END:VEVENT
BEGIN:VEVENT
DTSTART;TZID=America/Los_Angeles:20260520T191500
DTEND;TZID=America/Los_Angeles:20260520T210000
DTSTAMP:20260421T061919
CREATED:20240630T013050Z
LAST-MODIFIED:20240704T175725Z
UID:10013343-1779304500-1779310800@gigharborcommunity.com
SUMMARY:Trivia Night at The Float
DESCRIPTION:
URL:https://gigharborcommunity.com/event/trivia-night-at-the-float/2026-05-20/
LOCATION:The Floatation Device\, 14511 Sherman Dr NW\, Gig Harbor\, WA\, 98332
CATEGORIES:Food & Drink,Trivia & Games
END:VEVENT
BEGIN:VEVENT
DTSTART;TZID=America/Los_Angeles:20260521T183000
DTEND;TZID=America/Los_Angeles:20260521T200000
DTSTAMP:20260421T061919
CREATED:20240630T013054Z
LAST-MODIFIED:20240704T164307Z
UID:10013082-1779388200-1779393600@gigharborcommunity.com
SUMMARY:Trivia Night at The Beer Vault
DESCRIPTION:
URL:https://gigharborcommunity.com/event/trivia-night-at-the-beer-vault/2026-05-21/
LOCATION:The Beer Vault & Wine Bar\, 14004 Purdy Dr\, Gig Harbor\, WA\, 98332
CATEGORIES:Food & Drink,Trivia & Games
END:VEVENT
BEGIN:VEVENT
DTSTART;TZID=America/Los_Angeles:20260526T190000
DTEND;TZID=America/Los_Angeles:20260526T210000
DTSTAMP:20260421T061919
CREATED:20240630T013210Z
LAST-MODIFIED:20240704T180639Z
UID:10012823-1779822000-1779829200@gigharborcommunity.com
SUMMARY:Trivia Night at O'Looney's
DESCRIPTION:
URL:https://gigharborcommunity.com/event/trivia-night-at-olooneys/2026-05-26/
LOCATION:O’Looney’s Irish Pub\, 3222 56th St\, Gig Harbor\, WA\, 98335
CATEGORIES:Food & Drink,Trivia & Games
END:VEVENT
BEGIN:VEVENT
DTSTART;TZID=America/Los_Angeles:20260527T180000
DTEND;TZID=America/Los_Angeles:20260527T200000
DTSTAMP:20260421T061919
CREATED:20250728T022106Z
LAST-MODIFIED:20250728T022106Z
UID:10051943-1779904800-1779912000@gigharborcommunity.com
SUMMARY:Trivia
DESCRIPTION:Join us for Trivia Night every Wednesday! Grab a team of 2-6 and come test your knowledge while sipping on cider!
URL:https://gigharborcommunity.com/event/trivia-2/2026-05-27/
LOCATION:Locust Cider\, 3207 57th St Ct\, Gig Harbor\, WA\, 98335
CATEGORIES:Food & Drink,Trivia & Games
END:VEVENT
BEGIN:VEVENT
DTSTART;TZID=America/Los_Angeles:20260527T191500
DTEND;TZID=America/Los_Angeles:20260527T210000
DTSTAMP:20260421T061919
CREATED:20240630T013050Z
LAST-MODIFIED:20240704T175725Z
UID:10013344-1779909300-1779915600@gigharborcommunity.com
SUMMARY:Trivia Night at The Float
DESCRIPTION:
URL:https://gigharborcommunity.com/event/trivia-night-at-the-float/2026-05-27/
LOCATION:The Floatation Device\, 14511 Sherman Dr NW\, Gig Harbor\, WA\, 98332
CATEGORIES:Food & Drink,Trivia & Games
END:VEVENT
BEGIN:VEVENT
DTSTART;TZID=America/Los_Angeles:20260528T183000
DTEND;TZID=America/Los_Angeles:20260528T200000
DTSTAMP:20260421T061919
CREATED:20240630T013054Z
LAST-MODIFIED:20240704T164307Z
UID:10013083-1779993000-1779998400@gigharborcommunity.com
SUMMARY:Trivia Night at The Beer Vault
DESCRIPTION:
URL:https://gigharborcommunity.com/event/trivia-night-at-the-beer-vault/2026-05-28/
LOCATION:The Beer Vault & Wine Bar\, 14004 Purdy Dr\, Gig Harbor\, WA\, 98332
CATEGORIES:Food & Drink,Trivia & Games
END:VEVENT
BEGIN:VEVENT
DTSTART;TZID=America/Los_Angeles:20260602T190000
DTEND;TZID=America/Los_Angeles:20260602T210000
DTSTAMP:20260421T061919
CREATED:20240630T013210Z
LAST-MODIFIED:20240704T180639Z
UID:10012824-1780426800-1780434000@gigharborcommunity.com
SUMMARY:Trivia Night at O'Looney's
DESCRIPTION:
URL:https://gigharborcommunity.com/event/trivia-night-at-olooneys/2026-06-02/
LOCATION:O’Looney’s Irish Pub\, 3222 56th St\, Gig Harbor\, WA\, 98335
CATEGORIES:Food & Drink,Trivia & Games
END:VEVENT
BEGIN:VEVENT
DTSTART;TZID=America/Los_Angeles:20260603T180000
DTEND;TZID=America/Los_Angeles:20260603T200000
DTSTAMP:20260421T061919
CREATED:20250728T022106Z
LAST-MODIFIED:20250728T022106Z
UID:10051944-1780509600-1780516800@gigharborcommunity.com
SUMMARY:Trivia
DESCRIPTION:Join us for Trivia Night every Wednesday! Grab a team of 2-6 and come test your knowledge while sipping on cider!
URL:https://gigharborcommunity.com/event/trivia-2/2026-06-03/
LOCATION:Locust Cider\, 3207 57th St Ct\, Gig Harbor\, WA\, 98335
CATEGORIES:Food & Drink,Trivia & Games
END:VEVENT
BEGIN:VEVENT
DTSTART;TZID=America/Los_Angeles:20260603T191500
DTEND;TZID=America/Los_Angeles:20260603T210000
DTSTAMP:20260421T061920
CREATED:20240630T013050Z
LAST-MODIFIED:20240704T175725Z
UID:10013345-1780514100-1780520400@gigharborcommunity.com
SUMMARY:Trivia Night at The Float
DESCRIPTION:
URL:https://gigharborcommunity.com/event/trivia-night-at-the-float/2026-06-03/
LOCATION:The Floatation Device\, 14511 Sherman Dr NW\, Gig Harbor\, WA\, 98332
CATEGORIES:Food & Drink,Trivia & Games
END:VEVENT
BEGIN:VEVENT
DTSTART;TZID=America/Los_Angeles:20260604T183000
DTEND;TZID=America/Los_Angeles:20260604T200000
DTSTAMP:20260421T061920
CREATED:20240630T013054Z
LAST-MODIFIED:20240704T164307Z
UID:10013084-1780597800-1780603200@gigharborcommunity.com
SUMMARY:Trivia Night at The Beer Vault
DESCRIPTION:
URL:https://gigharborcommunity.com/event/trivia-night-at-the-beer-vault/2026-06-04/
LOCATION:The Beer Vault & Wine Bar\, 14004 Purdy Dr\, Gig Harbor\, WA\, 98332
CATEGORIES:Food & Drink,Trivia & Games
END:VEVENT
BEGIN:VEVENT
DTSTART;TZID=America/Los_Angeles:20260609T190000
DTEND;TZID=America/Los_Angeles:20260609T210000
DTSTAMP:20260421T061920
CREATED:20240630T013210Z
LAST-MODIFIED:20240704T180639Z
UID:10012825-1781031600-1781038800@gigharborcommunity.com
SUMMARY:Trivia Night at O'Looney's
DESCRIPTION:
URL:https://gigharborcommunity.com/event/trivia-night-at-olooneys/2026-06-09/
LOCATION:O’Looney’s Irish Pub\, 3222 56th St\, Gig Harbor\, WA\, 98335
CATEGORIES:Food & Drink,Trivia & Games
END:VEVENT
END:VCALENDAR