BEGIN:VCALENDAR
VERSION:2.0
PRODID:-//Gig Harbor Events - ECPv6.15.20//NONSGML v1.0//EN
CALSCALE:GREGORIAN
METHOD:PUBLISH
X-WR-CALNAME:Gig Harbor Events
X-ORIGINAL-URL:https://gigharborcommunity.com
X-WR-CALDESC:Events for Gig Harbor Events
REFRESH-INTERVAL;VALUE=DURATION:PT1H
X-Robots-Tag:noindex
X-PUBLISHED-TTL:PT1H
BEGIN:VTIMEZONE
TZID:America/Los_Angeles
BEGIN:DAYLIGHT
TZOFFSETFROM:-0800
TZOFFSETTO:-0700
TZNAME:PDT
DTSTART:20250309T100000
END:DAYLIGHT
BEGIN:STANDARD
TZOFFSETFROM:-0700
TZOFFSETTO:-0800
TZNAME:PST
DTSTART:20251102T090000
END:STANDARD
BEGIN:DAYLIGHT
TZOFFSETFROM:-0800
TZOFFSETTO:-0700
TZNAME:PDT
DTSTART:20260308T100000
END:DAYLIGHT
BEGIN:STANDARD
TZOFFSETFROM:-0700
TZOFFSETTO:-0800
TZNAME:PST
DTSTART:20261101T090000
END:STANDARD
BEGIN:DAYLIGHT
TZOFFSETFROM:-0800
TZOFFSETTO:-0700
TZNAME:PDT
DTSTART:20270314T100000
END:DAYLIGHT
BEGIN:STANDARD
TZOFFSETFROM:-0700
TZOFFSETTO:-0800
TZNAME:PST
DTSTART:20271107T090000
END:STANDARD
END:VTIMEZONE
BEGIN:VEVENT
DTSTART;TZID=America/Los_Angeles:20260422T191500
DTEND;TZID=America/Los_Angeles:20260422T210000
DTSTAMP:20260423T073955
CREATED:20240630T013050Z
LAST-MODIFIED:20240704T175725Z
UID:10013339-1776885300-1776891600@gigharborcommunity.com
SUMMARY:Trivia Night at The Float
DESCRIPTION:
URL:https://gigharborcommunity.com/event/trivia-night-at-the-float/2026-04-22/
LOCATION:The Floatation Device\, 14511 Sherman Dr NW\, Gig Harbor\, WA\, 98332
CATEGORIES:Food & Drink,Trivia & Games
END:VEVENT
BEGIN:VEVENT
DTSTART;TZID=America/Los_Angeles:20260422T180000
DTEND;TZID=America/Los_Angeles:20260422T200000
DTSTAMP:20260423T073955
CREATED:20250728T022106Z
LAST-MODIFIED:20250728T022106Z
UID:10051938-1776880800-1776888000@gigharborcommunity.com
SUMMARY:Trivia
DESCRIPTION:Join us for Trivia Night every Wednesday! Grab a team of 2-6 and come test your knowledge while sipping on cider!
URL:https://gigharborcommunity.com/event/trivia-2/2026-04-22/
LOCATION:Locust Cider\, 3207 57th St Ct\, Gig Harbor\, WA\, 98335
CATEGORIES:Food & Drink,Trivia & Games
END:VEVENT
BEGIN:VEVENT
DTSTART;TZID=America/Los_Angeles:20260421T190000
DTEND;TZID=America/Los_Angeles:20260421T210000
DTSTAMP:20260423T073955
CREATED:20240630T013210Z
LAST-MODIFIED:20240704T180639Z
UID:10012818-1776798000-1776805200@gigharborcommunity.com
SUMMARY:Trivia Night at O'Looney's
DESCRIPTION:
URL:https://gigharborcommunity.com/event/trivia-night-at-olooneys/2026-04-21/
LOCATION:O’Looney’s Irish Pub\, 3222 56th St\, Gig Harbor\, WA\, 98335
CATEGORIES:Food & Drink,Trivia & Games
END:VEVENT
BEGIN:VEVENT
DTSTART;TZID=America/Los_Angeles:20260416T183000
DTEND;TZID=America/Los_Angeles:20260416T200000
DTSTAMP:20260423T073955
CREATED:20240630T013054Z
LAST-MODIFIED:20240704T164307Z
UID:10013077-1776364200-1776369600@gigharborcommunity.com
SUMMARY:Trivia Night at The Beer Vault
DESCRIPTION:
URL:https://gigharborcommunity.com/event/trivia-night-at-the-beer-vault/2026-04-16/
LOCATION:The Beer Vault & Wine Bar\, 14004 Purdy Dr\, Gig Harbor\, WA\, 98332
CATEGORIES:Food & Drink,Trivia & Games
END:VEVENT
BEGIN:VEVENT
DTSTART;TZID=America/Los_Angeles:20260415T191500
DTEND;TZID=America/Los_Angeles:20260415T210000
DTSTAMP:20260423T073955
CREATED:20240630T013050Z
LAST-MODIFIED:20240704T175725Z
UID:10013338-1776280500-1776286800@gigharborcommunity.com
SUMMARY:Trivia Night at The Float
DESCRIPTION:
URL:https://gigharborcommunity.com/event/trivia-night-at-the-float/2026-04-15/
LOCATION:The Floatation Device\, 14511 Sherman Dr NW\, Gig Harbor\, WA\, 98332
CATEGORIES:Food & Drink,Trivia & Games
END:VEVENT
BEGIN:VEVENT
DTSTART;TZID=America/Los_Angeles:20260415T180000
DTEND;TZID=America/Los_Angeles:20260415T200000
DTSTAMP:20260423T073955
CREATED:20250728T022106Z
LAST-MODIFIED:20250728T022106Z
UID:10051937-1776276000-1776283200@gigharborcommunity.com
SUMMARY:Trivia
DESCRIPTION:Join us for Trivia Night every Wednesday! Grab a team of 2-6 and come test your knowledge while sipping on cider!
URL:https://gigharborcommunity.com/event/trivia-2/2026-04-15/
LOCATION:Locust Cider\, 3207 57th St Ct\, Gig Harbor\, WA\, 98335
CATEGORIES:Food & Drink,Trivia & Games
END:VEVENT
BEGIN:VEVENT
DTSTART;TZID=America/Los_Angeles:20260414T190000
DTEND;TZID=America/Los_Angeles:20260414T210000
DTSTAMP:20260423T073955
CREATED:20240630T013210Z
LAST-MODIFIED:20240704T180639Z
UID:10012817-1776193200-1776200400@gigharborcommunity.com
SUMMARY:Trivia Night at O'Looney's
DESCRIPTION:
URL:https://gigharborcommunity.com/event/trivia-night-at-olooneys/2026-04-14/
LOCATION:O’Looney’s Irish Pub\, 3222 56th St\, Gig Harbor\, WA\, 98335
CATEGORIES:Food & Drink,Trivia & Games
END:VEVENT
BEGIN:VEVENT
DTSTART;TZID=America/Los_Angeles:20260409T183000
DTEND;TZID=America/Los_Angeles:20260409T203000
DTSTAMP:20260423T073955
CREATED:20260330T033153Z
LAST-MODIFIED:20260330T033153Z
UID:10055147-1775759400-1775766600@gigharborcommunity.com
SUMMARY:Harborcade Monthly Women’s Pinball Tournament
DESCRIPTION:Join us for a monthly women’s pinball tournament in our arcade! \n\n\n$5 entry \n\n\nIFPA event \n\n\nPrizes and giveaways \n\n\nSign ups start at 6pm\, 6:30pm flippers up! \nFuture dates:\nMay 14th\nJune 11th\nJuly 9th\nAugust 13th\nSeptember 10th\nOctober 8th\nNovember 12th\nDecember 10th \n 
URL:https://gigharborcommunity.com/event/harborcade-monthly-womens-pinball-tournament/
LOCATION:Locust Cider\, 3207 57th St Ct\, Gig Harbor\, WA\, 98335
CATEGORIES:Food & Drink,Trivia & Games
END:VEVENT
BEGIN:VEVENT
DTSTART;TZID=America/Los_Angeles:20260409T183000
DTEND;TZID=America/Los_Angeles:20260409T200000
DTSTAMP:20260423T073955
CREATED:20240630T013054Z
LAST-MODIFIED:20240704T164307Z
UID:10013076-1775759400-1775764800@gigharborcommunity.com
SUMMARY:Trivia Night at The Beer Vault
DESCRIPTION:
URL:https://gigharborcommunity.com/event/trivia-night-at-the-beer-vault/2026-04-09/
LOCATION:The Beer Vault & Wine Bar\, 14004 Purdy Dr\, Gig Harbor\, WA\, 98332
CATEGORIES:Food & Drink,Trivia & Games
END:VEVENT
BEGIN:VEVENT
DTSTART;TZID=America/Los_Angeles:20260408T191500
DTEND;TZID=America/Los_Angeles:20260408T210000
DTSTAMP:20260423T073955
CREATED:20240630T013050Z
LAST-MODIFIED:20240704T175725Z
UID:10013337-1775675700-1775682000@gigharborcommunity.com
SUMMARY:Trivia Night at The Float
DESCRIPTION:
URL:https://gigharborcommunity.com/event/trivia-night-at-the-float/2026-04-08/
LOCATION:The Floatation Device\, 14511 Sherman Dr NW\, Gig Harbor\, WA\, 98332
CATEGORIES:Food & Drink,Trivia & Games
END:VEVENT
BEGIN:VEVENT
DTSTART;TZID=America/Los_Angeles:20260408T180000
DTEND;TZID=America/Los_Angeles:20260408T200000
DTSTAMP:20260423T073955
CREATED:20250728T022106Z
LAST-MODIFIED:20250728T022106Z
UID:10051936-1775671200-1775678400@gigharborcommunity.com
SUMMARY:Trivia
DESCRIPTION:Join us for Trivia Night every Wednesday! Grab a team of 2-6 and come test your knowledge while sipping on cider!
URL:https://gigharborcommunity.com/event/trivia-2/2026-04-08/
LOCATION:Locust Cider\, 3207 57th St Ct\, Gig Harbor\, WA\, 98335
CATEGORIES:Food & Drink,Trivia & Games
END:VEVENT
BEGIN:VEVENT
DTSTART;TZID=America/Los_Angeles:20260408T170000
DTEND;TZID=America/Los_Angeles:20260408T190000
DTSTAMP:20260423T073955
CREATED:20260330T032949Z
LAST-MODIFIED:20260330T032949Z
UID:10055146-1775667600-1775674800@gigharborcommunity.com
SUMMARY:Chamber Night Out
DESCRIPTION:Join us for Chamber Night Out with the Gig Harbor Chamber of Commerce! \nThis event will feature cider flights with a guided tasting\, a tour of the facility\, and pinball 101 lessons! \nTickets for this event are $10 for Chamber members and $20 for non-members. *Registration will close when this event is sold out. \nInterested in being a Spotlight Sponsor for this event? Reach out to jsteiner@gigharborchamber.com for more information.
URL:https://gigharborcommunity.com/event/chamber-night-out/
LOCATION:Locust Cider\, 3207 57th St Ct\, Gig Harbor\, WA\, 98335
CATEGORIES:Food & Drink,Networking,Trivia & Games
END:VEVENT
BEGIN:VEVENT
DTSTART;TZID=America/Los_Angeles:20260407T190000
DTEND;TZID=America/Los_Angeles:20260407T210000
DTSTAMP:20260423T073955
CREATED:20240630T013210Z
LAST-MODIFIED:20240704T180639Z
UID:10012816-1775588400-1775595600@gigharborcommunity.com
SUMMARY:Trivia Night at O'Looney's
DESCRIPTION:
URL:https://gigharborcommunity.com/event/trivia-night-at-olooneys/2026-04-07/
LOCATION:O’Looney’s Irish Pub\, 3222 56th St\, Gig Harbor\, WA\, 98335
CATEGORIES:Food & Drink,Trivia & Games
END:VEVENT
BEGIN:VEVENT
DTSTART;TZID=America/Los_Angeles:20260403T180000
DTEND;TZID=America/Los_Angeles:20260403T200000
DTSTAMP:20260423T073955
CREATED:20260330T032624Z
LAST-MODIFIED:20260330T032624Z
UID:10055144-1775239200-1775246400@gigharborcommunity.com
SUMMARY:Drag Bingo
DESCRIPTION:Join us for our Monthly Drag Bingo hosted by Hannah MiaJoint! You’ll laugh\, make new friends\, eat some amazing food\, drink amazing beverages and even win some fun prizes along the way! 💖💋💖 \n*More adult-friendly than kid-friendly*
URL:https://gigharborcommunity.com/event/drag-bingo-10/
LOCATION:Locust Cider\, 3207 57th St Ct\, Gig Harbor\, WA\, 98335
CATEGORIES:Food & Drink,Trivia & Games
END:VEVENT
BEGIN:VEVENT
DTSTART;TZID=America/Los_Angeles:20260402T183000
DTEND;TZID=America/Los_Angeles:20260402T200000
DTSTAMP:20260423T073955
CREATED:20240630T013054Z
LAST-MODIFIED:20240704T164307Z
UID:10013075-1775154600-1775160000@gigharborcommunity.com
SUMMARY:Trivia Night at The Beer Vault
DESCRIPTION:
URL:https://gigharborcommunity.com/event/trivia-night-at-the-beer-vault/2026-04-02/
LOCATION:The Beer Vault & Wine Bar\, 14004 Purdy Dr\, Gig Harbor\, WA\, 98332
CATEGORIES:Food & Drink,Trivia & Games
END:VEVENT
BEGIN:VEVENT
DTSTART;TZID=America/Los_Angeles:20260402T180000
DTEND;TZID=America/Los_Angeles:20260402T210000
DTSTAMP:20260423T073955
CREATED:20260330T032508Z
LAST-MODIFIED:20260330T032508Z
UID:10055143-1775152800-1775163600@gigharborcommunity.com
SUMMARY:Pokémon Pinball Launch Party and Tournament
DESCRIPTION:Join us for a pinball release party and tournament to celebrate and kick off our new Pokémon pinball machine! We will have giveaways\, pokeballs\, and more along with special edition trophies. \nSign ups start at 6pm\, 6:30pm flippers up! \n 
URL:https://gigharborcommunity.com/event/pokemon-pinball-launch-party-and-tournament/
LOCATION:Locust Cider\, 3207 57th St Ct\, Gig Harbor\, WA\, 98335
CATEGORIES:Food & Drink,Trivia & Games
END:VEVENT
BEGIN:VEVENT
DTSTART;TZID=America/Los_Angeles:20260401T191500
DTEND;TZID=America/Los_Angeles:20260401T210000
DTSTAMP:20260423T073955
CREATED:20240630T013050Z
LAST-MODIFIED:20240704T175725Z
UID:10013336-1775070900-1775077200@gigharborcommunity.com
SUMMARY:Trivia Night at The Float
DESCRIPTION:
URL:https://gigharborcommunity.com/event/trivia-night-at-the-float/2026-04-01/
LOCATION:The Floatation Device\, 14511 Sherman Dr NW\, Gig Harbor\, WA\, 98332
CATEGORIES:Food & Drink,Trivia & Games
END:VEVENT
BEGIN:VEVENT
DTSTART;TZID=America/Los_Angeles:20260401T180000
DTEND;TZID=America/Los_Angeles:20260401T200000
DTSTAMP:20260423T073955
CREATED:20250728T022106Z
LAST-MODIFIED:20250728T022106Z
UID:10051935-1775066400-1775073600@gigharborcommunity.com
SUMMARY:Trivia
DESCRIPTION:Join us for Trivia Night every Wednesday! Grab a team of 2-6 and come test your knowledge while sipping on cider!
URL:https://gigharborcommunity.com/event/trivia-2/2026-04-01/
LOCATION:Locust Cider\, 3207 57th St Ct\, Gig Harbor\, WA\, 98335
CATEGORIES:Food & Drink,Trivia & Games
END:VEVENT
BEGIN:VEVENT
DTSTART;TZID=America/Los_Angeles:20260331T190000
DTEND;TZID=America/Los_Angeles:20260331T210000
DTSTAMP:20260423T073955
CREATED:20240630T013210Z
LAST-MODIFIED:20240704T180639Z
UID:10012815-1774983600-1774990800@gigharborcommunity.com
SUMMARY:Trivia Night at O'Looney's
DESCRIPTION:
URL:https://gigharborcommunity.com/event/trivia-night-at-olooneys/2026-03-31/
LOCATION:O’Looney’s Irish Pub\, 3222 56th St\, Gig Harbor\, WA\, 98335
CATEGORIES:Food & Drink,Trivia & Games
END:VEVENT
BEGIN:VEVENT
DTSTART;TZID=America/Los_Angeles:20260326T183000
DTEND;TZID=America/Los_Angeles:20260326T200000
DTSTAMP:20260423T073955
CREATED:20240630T013054Z
LAST-MODIFIED:20240704T164307Z
UID:10013074-1774549800-1774555200@gigharborcommunity.com
SUMMARY:Trivia Night at The Beer Vault
DESCRIPTION:
URL:https://gigharborcommunity.com/event/trivia-night-at-the-beer-vault/2026-03-26/
LOCATION:The Beer Vault & Wine Bar\, 14004 Purdy Dr\, Gig Harbor\, WA\, 98332
CATEGORIES:Food & Drink,Trivia & Games
END:VEVENT
BEGIN:VEVENT
DTSTART;TZID=America/Los_Angeles:20260325T191500
DTEND;TZID=America/Los_Angeles:20260325T210000
DTSTAMP:20260423T073955
CREATED:20240630T013050Z
LAST-MODIFIED:20240704T175725Z
UID:10013335-1774466100-1774472400@gigharborcommunity.com
SUMMARY:Trivia Night at The Float
DESCRIPTION:
URL:https://gigharborcommunity.com/event/trivia-night-at-the-float/2026-03-25/
LOCATION:The Floatation Device\, 14511 Sherman Dr NW\, Gig Harbor\, WA\, 98332
CATEGORIES:Food & Drink,Trivia & Games
END:VEVENT
BEGIN:VEVENT
DTSTART;TZID=America/Los_Angeles:20260325T180000
DTEND;TZID=America/Los_Angeles:20260325T200000
DTSTAMP:20260423T073955
CREATED:20250728T022106Z
LAST-MODIFIED:20250728T022106Z
UID:10051934-1774461600-1774468800@gigharborcommunity.com
SUMMARY:Trivia
DESCRIPTION:Join us for Trivia Night every Wednesday! Grab a team of 2-6 and come test your knowledge while sipping on cider!
URL:https://gigharborcommunity.com/event/trivia-2/2026-03-25/
LOCATION:Locust Cider\, 3207 57th St Ct\, Gig Harbor\, WA\, 98335
CATEGORIES:Food & Drink,Trivia & Games
END:VEVENT
BEGIN:VEVENT
DTSTART;TZID=America/Los_Angeles:20260324T190000
DTEND;TZID=America/Los_Angeles:20260324T210000
DTSTAMP:20260423T073955
CREATED:20240630T013210Z
LAST-MODIFIED:20240704T180639Z
UID:10012814-1774378800-1774386000@gigharborcommunity.com
SUMMARY:Trivia Night at O'Looney's
DESCRIPTION:
URL:https://gigharborcommunity.com/event/trivia-night-at-olooneys/2026-03-24/
LOCATION:O’Looney’s Irish Pub\, 3222 56th St\, Gig Harbor\, WA\, 98335
CATEGORIES:Food & Drink,Trivia & Games
END:VEVENT
BEGIN:VEVENT
DTSTART;TZID=America/Los_Angeles:20260320T180000
DTEND;TZID=America/Los_Angeles:20260320T200000
DTSTAMP:20260423T073955
CREATED:20260301T214035Z
LAST-MODIFIED:20260301T214035Z
UID:10055107-1774029600-1774036800@gigharborcommunity.com
SUMMARY:Music Bingo
DESCRIPTION:Join us for a monthly music bingo night hosted by Joni & Jocelyn!
URL:https://gigharborcommunity.com/event/music-bingo/
LOCATION:Locust Cider\, 3207 57th St Ct\, Gig Harbor\, WA\, 98335
CATEGORIES:Food & Drink,Trivia & Games
END:VEVENT
BEGIN:VEVENT
DTSTART;TZID=America/Los_Angeles:20260319T183000
DTEND;TZID=America/Los_Angeles:20260319T203000
DTSTAMP:20260423T073955
CREATED:20260301T213800Z
LAST-MODIFIED:20260301T213800Z
UID:10055106-1773945000-1773952200@gigharborcommunity.com
SUMMARY:Harborcade Monthly Pinball Tournament
DESCRIPTION:Join us for a monthly pinball tournament in our arcade! \n\n\n$5 entry \n\n\nIFPA event \n\n\n3 strike format \n\n\nPrizes and giveaways \n\n\nSign ups start at 6pm\, 6:30pm flippers up! \nFuture dates:\nApril 16th\nMay 21st\nJune 18th\nJuly 16th\nAugust 20th\nSeptember 17th\nOctober 15th\nNovember 19th\nDecember 17th
URL:https://gigharborcommunity.com/event/harborcade-monthly-pinball-tournament-7/
LOCATION:Locust Cider\, 3207 57th St Ct\, Gig Harbor\, WA\, 98335
CATEGORIES:Food & Drink,Trivia & Games
END:VEVENT
BEGIN:VEVENT
DTSTART;TZID=America/Los_Angeles:20260319T183000
DTEND;TZID=America/Los_Angeles:20260319T200000
DTSTAMP:20260423T073955
CREATED:20240630T013054Z
LAST-MODIFIED:20240704T164307Z
UID:10013073-1773945000-1773950400@gigharborcommunity.com
SUMMARY:Trivia Night at The Beer Vault
DESCRIPTION:
URL:https://gigharborcommunity.com/event/trivia-night-at-the-beer-vault/2026-03-19/
LOCATION:The Beer Vault & Wine Bar\, 14004 Purdy Dr\, Gig Harbor\, WA\, 98332
CATEGORIES:Food & Drink,Trivia & Games
END:VEVENT
BEGIN:VEVENT
DTSTART;TZID=America/Los_Angeles:20260318T191500
DTEND;TZID=America/Los_Angeles:20260318T210000
DTSTAMP:20260423T073955
CREATED:20240630T013050Z
LAST-MODIFIED:20240704T175725Z
UID:10013334-1773861300-1773867600@gigharborcommunity.com
SUMMARY:Trivia Night at The Float
DESCRIPTION:
URL:https://gigharborcommunity.com/event/trivia-night-at-the-float/2026-03-18/
LOCATION:The Floatation Device\, 14511 Sherman Dr NW\, Gig Harbor\, WA\, 98332
CATEGORIES:Food & Drink,Trivia & Games
END:VEVENT
BEGIN:VEVENT
DTSTART;TZID=America/Los_Angeles:20260318T180000
DTEND;TZID=America/Los_Angeles:20260318T200000
DTSTAMP:20260423T073955
CREATED:20250728T022106Z
LAST-MODIFIED:20250728T022106Z
UID:10051933-1773856800-1773864000@gigharborcommunity.com
SUMMARY:Trivia
DESCRIPTION:Join us for Trivia Night every Wednesday! Grab a team of 2-6 and come test your knowledge while sipping on cider!
URL:https://gigharborcommunity.com/event/trivia-2/2026-03-18/
LOCATION:Locust Cider\, 3207 57th St Ct\, Gig Harbor\, WA\, 98335
CATEGORIES:Food & Drink,Trivia & Games
END:VEVENT
BEGIN:VEVENT
DTSTART;TZID=America/Los_Angeles:20260317T190000
DTEND;TZID=America/Los_Angeles:20260317T210000
DTSTAMP:20260423T073955
CREATED:20240630T013210Z
LAST-MODIFIED:20240704T180639Z
UID:10012813-1773774000-1773781200@gigharborcommunity.com
SUMMARY:Trivia Night at O'Looney's
DESCRIPTION:
URL:https://gigharborcommunity.com/event/trivia-night-at-olooneys/2026-03-17/
LOCATION:O’Looney’s Irish Pub\, 3222 56th St\, Gig Harbor\, WA\, 98335
CATEGORIES:Food & Drink,Trivia & Games
END:VEVENT
BEGIN:VEVENT
DTSTART;TZID=America/Los_Angeles:20260315T140000
DTEND;TZID=America/Los_Angeles:20260315T160000
DTSTAMP:20260423T073955
CREATED:20260301T213553Z
LAST-MODIFIED:20260301T213553Z
UID:10055105-1773583200-1773590400@gigharborcommunity.com
SUMMARY:Speed Jigsaw Puzzle Competition & Swap
DESCRIPTION:Join us for a speed jigsaw puzzle competition! Teams of 4 will compete to finish a 500 piece jigsaw puzzle in the fastest time. Prizes awarded to top 2 teams. Bring a puzzle to swap after the competition. \nCost for competition: $35 / team
URL:https://gigharborcommunity.com/event/speed-jigsaw-puzzle-competition-swap-2/
LOCATION:Locust Cider\, 3207 57th St Ct\, Gig Harbor\, WA\, 98335
CATEGORIES:Food & Drink,Trivia & Games
END:VEVENT
END:VCALENDAR