BEGIN:VCALENDAR
VERSION:2.0
PRODID:-//Gig Harbor Events - ECPv6.15.20//NONSGML v1.0//EN
CALSCALE:GREGORIAN
METHOD:PUBLISH
X-WR-CALNAME:Gig Harbor Events
X-ORIGINAL-URL:https://gigharborcommunity.com
X-WR-CALDESC:Events for Gig Harbor Events
REFRESH-INTERVAL;VALUE=DURATION:PT1H
X-Robots-Tag:noindex
X-PUBLISHED-TTL:PT1H
BEGIN:VTIMEZONE
TZID:America/Los_Angeles
BEGIN:DAYLIGHT
TZOFFSETFROM:-0800
TZOFFSETTO:-0700
TZNAME:PDT
DTSTART:20250309T100000
END:DAYLIGHT
BEGIN:STANDARD
TZOFFSETFROM:-0700
TZOFFSETTO:-0800
TZNAME:PST
DTSTART:20251102T090000
END:STANDARD
BEGIN:DAYLIGHT
TZOFFSETFROM:-0800
TZOFFSETTO:-0700
TZNAME:PDT
DTSTART:20260308T100000
END:DAYLIGHT
BEGIN:STANDARD
TZOFFSETFROM:-0700
TZOFFSETTO:-0800
TZNAME:PST
DTSTART:20261101T090000
END:STANDARD
BEGIN:DAYLIGHT
TZOFFSETFROM:-0800
TZOFFSETTO:-0700
TZNAME:PDT
DTSTART:20270314T100000
END:DAYLIGHT
BEGIN:STANDARD
TZOFFSETFROM:-0700
TZOFFSETTO:-0800
TZNAME:PST
DTSTART:20271107T090000
END:STANDARD
END:VTIMEZONE
BEGIN:VEVENT
DTSTART;TZID=America/Los_Angeles:20260419T110000
DTEND;TZID=America/Los_Angeles:20260419T210000
DTSTAMP:20260419T173633
CREATED:20250704T151924Z
LAST-MODIFIED:20250704T153037Z
UID:10043398-1776596400-1776632400@gigharborcommunity.com
SUMMARY:Happy Hour All Day! at Puerto Vallarta
DESCRIPTION:
URL:https://gigharborcommunity.com/event/happy-hour-all-day-at-puerto-vallarta-2/2026-04-19/
LOCATION:Puerto Vallarta Family Mexican Restaurant\, 4225 Harborview Drive\, Gig Harbor\, WA\, 98332
CATEGORIES:Discount Days,Food & Drink,Happy Hour
END:VEVENT
BEGIN:VEVENT
DTSTART;TZID=America/Los_Angeles:20260419T140000
DTEND;TZID=America/Los_Angeles:20260419T180000
DTSTAMP:20260419T173633
CREATED:20250704T161459Z
LAST-MODIFIED:20250704T161459Z
UID:10048892-1776607200-1776621600@gigharborcommunity.com
SUMMARY:Happy Hour at Hops & Drops
DESCRIPTION:
URL:https://gigharborcommunity.com/event/happy-hour-at-hops-drops/2026-04-19/
LOCATION:Hops & Drops\, 5414 Point Fosdick Dr\, Gig Harbor\, WA\, 98335
CATEGORIES:Food & Drink,Happy Hour
END:VEVENT
BEGIN:VEVENT
DTSTART;TZID=America/Los_Angeles:20260419T150000
DTEND;TZID=America/Los_Angeles:20260419T180000
DTSTAMP:20260419T173633
CREATED:20250313T192408Z
LAST-MODIFIED:20250704T160326Z
UID:10047720-1776610800-1776621600@gigharborcommunity.com
SUMMARY:Happy Hour at Blue Agave
DESCRIPTION:
URL:https://gigharborcommunity.com/event/happy-hour-at-blue-agave-2/2026-04-19/
LOCATION:Blue Agave Mexican Grill & Tequila Bar\, 4729 Point Fosdick Dr\, Gig Harbor\, WA\, 98335
CATEGORIES:Food & Drink,Happy Hour
END:VEVENT
BEGIN:VEVENT
DTSTART;TZID=America/Los_Angeles:20260419T190000
DTEND;TZID=America/Los_Angeles:20260419T210000
DTSTAMP:20260419T173633
CREATED:20240630T221016Z
LAST-MODIFIED:20250704T153526Z
UID:10043546-1776625200-1776632400@gigharborcommunity.com
SUMMARY:Weekend Happy Hour at Hackers
DESCRIPTION:
URL:https://gigharborcommunity.com/event/weekend-happy-hour-at-hackers/2026-04-19/
LOCATION:Hackers Bar & Grill\, 3604 22nd Ave NW\, Gig Harbor\, WA\, 98335
CATEGORIES:Food & Drink,Happy Hour
END:VEVENT
BEGIN:VEVENT
DTSTART;TZID=America/Los_Angeles:20260419T210000
DTEND;TZID=America/Los_Angeles:20260419T220000
DTSTAMP:20260419T173633
CREATED:20250704T161628Z
LAST-MODIFIED:20250704T161628Z
UID:10050719-1776632400-1776636000@gigharborcommunity.com
SUMMARY:Late Night Happy Hour
DESCRIPTION:
URL:https://gigharborcommunity.com/event/late-night-happy-hour/2026-04-19/
LOCATION:Hops & Drops\, 5414 Point Fosdick Dr\, Gig Harbor\, WA\, 98335
CATEGORIES:Food & Drink,Happy Hour
END:VEVENT
BEGIN:VEVENT
DTSTART;TZID=America/Los_Angeles:20260420T090000
DTEND;TZID=America/Los_Angeles:20260420T103000
DTSTAMP:20260419T173633
CREATED:20250331T151101Z
LAST-MODIFIED:20250331T151121Z
UID:10042772-1776675600-1776681000@gigharborcommunity.com
SUMMARY:Parenting with Pause
DESCRIPTION:Hey mamas — I have been thinking of ways to give back to the community and I realized I have been supporting parents up in Seattle and beyond for decades. Why haven’t I been doing it down here?!? So I’d love to start that. Comment yes! below if you are interested in something like this (birth to 5 and middle school to college age are my favorite\, but all ages can be covered).\nI’m hosting something super low-key and casual every Mondays Cutters Coffee back table in Olympic Village. I’ll be there from 9-10:30 am every Monday\, just hanging out and chatting about all things mom life — the real stuff\, not the social media version.\nIf you’ve ever wished you could ask someone\, “How can I do this better? Am I ruining my child? Why does this feel so hard?” — this is for you. I’ve spent the past couple decades supporting parents\, and figuring out my own parenting (my kids are now teens)\, so I’ve seen a lot. Need my credentials? Let me know and I am happy to share.\nThis is a gift to our community of moms who are in the thick of it. No agenda\, no pressure\, just real conversations over coffee/tea. (And yes — coffee or tea is on me. ☕️).\nBring your questions\, your wins\, your worries — all of it’s welcome. No need to RSVP\, just show up. I’ll save you a seat. Email me at hello@reneemetty.com if you have questions.
URL:https://gigharborcommunity.com/event/parenting-with-pause/2026-04-20/
LOCATION:Cutter’s Point Flagship\, 5500 Olympic Dr a101\, Gig Harbor\, WA\, 98335\, United States
CATEGORIES:Kids & Family
END:VEVENT
BEGIN:VEVENT
DTSTART;TZID=America/Los_Angeles:20260420T140000
DTEND;TZID=America/Los_Angeles:20260420T171500
DTSTAMP:20260419T173633
CREATED:20250313T193423Z
LAST-MODIFIED:20250704T153708Z
UID:10043817-1776693600-1776705300@gigharborcommunity.com
SUMMARY:Happy Hour at Greenhouse
DESCRIPTION:
URL:https://gigharborcommunity.com/event/happy-hour-at-greenhouse-2/2026-04-20/
LOCATION:Greenhouse Restaurant\, 4793 Point Fosdick Dr #400\, Gig Harbor\, WA\, 98335
CATEGORIES:Food & Drink,Happy Hour
END:VEVENT
BEGIN:VEVENT
DTSTART;TZID=America/Los_Angeles:20260420T140000
DTEND;TZID=America/Los_Angeles:20260420T180000
DTSTAMP:20260419T173633
CREATED:20250704T161459Z
LAST-MODIFIED:20250704T161459Z
UID:10048893-1776693600-1776708000@gigharborcommunity.com
SUMMARY:Happy Hour at Hops & Drops
DESCRIPTION:
URL:https://gigharborcommunity.com/event/happy-hour-at-hops-drops/2026-04-20/
LOCATION:Hops & Drops\, 5414 Point Fosdick Dr\, Gig Harbor\, WA\, 98335
CATEGORIES:Food & Drink,Happy Hour
END:VEVENT
BEGIN:VEVENT
DTSTART;TZID=America/Los_Angeles:20260420T150000
DTEND;TZID=America/Los_Angeles:20260420T180000
DTSTAMP:20260419T173633
CREATED:20250313T192408Z
LAST-MODIFIED:20250704T160326Z
UID:10047721-1776697200-1776708000@gigharborcommunity.com
SUMMARY:Happy Hour at Blue Agave
DESCRIPTION:
URL:https://gigharborcommunity.com/event/happy-hour-at-blue-agave-2/2026-04-20/
LOCATION:Blue Agave Mexican Grill & Tequila Bar\, 4729 Point Fosdick Dr\, Gig Harbor\, WA\, 98335
CATEGORIES:Food & Drink,Happy Hour
END:VEVENT
BEGIN:VEVENT
DTSTART;TZID=America/Los_Angeles:20260420T150000
DTEND;TZID=America/Los_Angeles:20260420T180000
DTSTAMP:20260419T173633
CREATED:20250704T155120Z
LAST-MODIFIED:20250704T155120Z
UID:10045548-1776697200-1776708000@gigharborcommunity.com
SUMMARY:Happy Hour at PV
DESCRIPTION:
URL:https://gigharborcommunity.com/event/happy-hour-at-pv/2026-04-20/
LOCATION:Puerto Vallarta Family Mexican Restaurant\, 4225 Harborview Drive\, Gig Harbor\, WA\, 98332
CATEGORIES:Food & Drink,Happy Hour
END:VEVENT
BEGIN:VEVENT
DTSTART;TZID=America/Los_Angeles:20260420T150000
DTEND;TZID=America/Los_Angeles:20260420T180000
DTSTAMP:20260419T173633
CREATED:20250704T155920Z
LAST-MODIFIED:20250704T155920Z
UID:10047374-1776697200-1776708000@gigharborcommunity.com
SUMMARY:Happy Hour at Hackers
DESCRIPTION:
URL:https://gigharborcommunity.com/event/happy-hour-at-hackers-3/2026-04-20/
LOCATION:Hackers Bar & Grill\, 3604 22nd Ave NW\, Gig Harbor\, WA\, 98335
CATEGORIES:Food & Drink,Happy Hour
END:VEVENT
BEGIN:VEVENT
DTSTART;TZID=America/Los_Angeles:20260420T153000
DTEND;TZID=America/Los_Angeles:20260420T183000
DTSTAMP:20260419T173633
CREATED:20250704T155504Z
LAST-MODIFIED:20250704T155504Z
UID:10045851-1776699000-1776709800@gigharborcommunity.com
SUMMARY:Happy Hour at Anthony's
DESCRIPTION:
URL:https://gigharborcommunity.com/event/happy-hour-at-anthonys-2/2026-04-20/
LOCATION:Anthony’s at Gig Harbor\, 8827 N. Harborview Drive\, Gig Harbor\, WA\, 98332
CATEGORIES:Food & Drink,Happy Hour
END:VEVENT
BEGIN:VEVENT
DTSTART;TZID=America/Los_Angeles:20260420T210000
DTEND;TZID=America/Los_Angeles:20260420T220000
DTSTAMP:20260419T173633
CREATED:20250704T161628Z
LAST-MODIFIED:20250704T161628Z
UID:10050720-1776718800-1776722400@gigharborcommunity.com
SUMMARY:Late Night Happy Hour
DESCRIPTION:
URL:https://gigharborcommunity.com/event/late-night-happy-hour/2026-04-20/
LOCATION:Hops & Drops\, 5414 Point Fosdick Dr\, Gig Harbor\, WA\, 98335
CATEGORIES:Food & Drink,Happy Hour
END:VEVENT
BEGIN:VEVENT
DTSTART;TZID=America/Los_Angeles:20260421T140000
DTEND;TZID=America/Los_Angeles:20260421T171500
DTSTAMP:20260419T173633
CREATED:20250313T193423Z
LAST-MODIFIED:20250704T153708Z
UID:10043818-1776780000-1776791700@gigharborcommunity.com
SUMMARY:Happy Hour at Greenhouse
DESCRIPTION:
URL:https://gigharborcommunity.com/event/happy-hour-at-greenhouse-2/2026-04-21/
LOCATION:Greenhouse Restaurant\, 4793 Point Fosdick Dr #400\, Gig Harbor\, WA\, 98335
CATEGORIES:Food & Drink,Happy Hour
END:VEVENT
BEGIN:VEVENT
DTSTART;TZID=America/Los_Angeles:20260421T140000
DTEND;TZID=America/Los_Angeles:20260421T180000
DTSTAMP:20260419T173633
CREATED:20250704T161459Z
LAST-MODIFIED:20250704T161459Z
UID:10048894-1776780000-1776794400@gigharborcommunity.com
SUMMARY:Happy Hour at Hops & Drops
DESCRIPTION:
URL:https://gigharborcommunity.com/event/happy-hour-at-hops-drops/2026-04-21/
LOCATION:Hops & Drops\, 5414 Point Fosdick Dr\, Gig Harbor\, WA\, 98335
CATEGORIES:Food & Drink,Happy Hour
END:VEVENT
BEGIN:VEVENT
DTSTART;TZID=America/Los_Angeles:20260421T150000
DTEND;TZID=America/Los_Angeles:20260421T180000
DTSTAMP:20260419T173633
CREATED:20250313T192408Z
LAST-MODIFIED:20250704T160326Z
UID:10047722-1776783600-1776794400@gigharborcommunity.com
SUMMARY:Happy Hour at Blue Agave
DESCRIPTION:
URL:https://gigharborcommunity.com/event/happy-hour-at-blue-agave-2/2026-04-21/
LOCATION:Blue Agave Mexican Grill & Tequila Bar\, 4729 Point Fosdick Dr\, Gig Harbor\, WA\, 98335
CATEGORIES:Food & Drink,Happy Hour
END:VEVENT
BEGIN:VEVENT
DTSTART;TZID=America/Los_Angeles:20260421T150000
DTEND;TZID=America/Los_Angeles:20260421T180000
DTSTAMP:20260419T173633
CREATED:20250704T155120Z
LAST-MODIFIED:20250704T155120Z
UID:10045549-1776783600-1776794400@gigharborcommunity.com
SUMMARY:Happy Hour at PV
DESCRIPTION:
URL:https://gigharborcommunity.com/event/happy-hour-at-pv/2026-04-21/
LOCATION:Puerto Vallarta Family Mexican Restaurant\, 4225 Harborview Drive\, Gig Harbor\, WA\, 98332
CATEGORIES:Food & Drink,Happy Hour
END:VEVENT
BEGIN:VEVENT
DTSTART;TZID=America/Los_Angeles:20260421T150000
DTEND;TZID=America/Los_Angeles:20260421T180000
DTSTAMP:20260419T173633
CREATED:20250704T155920Z
LAST-MODIFIED:20250704T155920Z
UID:10047375-1776783600-1776794400@gigharborcommunity.com
SUMMARY:Happy Hour at Hackers
DESCRIPTION:
URL:https://gigharborcommunity.com/event/happy-hour-at-hackers-3/2026-04-21/
LOCATION:Hackers Bar & Grill\, 3604 22nd Ave NW\, Gig Harbor\, WA\, 98335
CATEGORIES:Food & Drink,Happy Hour
END:VEVENT
BEGIN:VEVENT
DTSTART;TZID=America/Los_Angeles:20260421T153000
DTEND;TZID=America/Los_Angeles:20260421T183000
DTSTAMP:20260419T173633
CREATED:20250704T155504Z
LAST-MODIFIED:20250704T155504Z
UID:10045852-1776785400-1776796200@gigharborcommunity.com
SUMMARY:Happy Hour at Anthony's
DESCRIPTION:
URL:https://gigharborcommunity.com/event/happy-hour-at-anthonys-2/2026-04-21/
LOCATION:Anthony’s at Gig Harbor\, 8827 N. Harborview Drive\, Gig Harbor\, WA\, 98332
CATEGORIES:Food & Drink,Happy Hour
END:VEVENT
BEGIN:VEVENT
DTSTART;TZID=America/Los_Angeles:20260421T190000
DTEND;TZID=America/Los_Angeles:20260421T210000
DTSTAMP:20260419T173633
CREATED:20240630T013210Z
LAST-MODIFIED:20240704T180639Z
UID:10012818-1776798000-1776805200@gigharborcommunity.com
SUMMARY:Trivia Night at O'Looney's
DESCRIPTION:
URL:https://gigharborcommunity.com/event/trivia-night-at-olooneys/2026-04-21/
LOCATION:O’Looney’s Irish Pub\, 3222 56th St\, Gig Harbor\, WA\, 98335
CATEGORIES:Food & Drink,Trivia & Games
END:VEVENT
BEGIN:VEVENT
DTSTART;TZID=America/Los_Angeles:20260421T210000
DTEND;TZID=America/Los_Angeles:20260421T220000
DTSTAMP:20260419T173633
CREATED:20250704T161628Z
LAST-MODIFIED:20250704T161628Z
UID:10050721-1776805200-1776808800@gigharborcommunity.com
SUMMARY:Late Night Happy Hour
DESCRIPTION:
URL:https://gigharborcommunity.com/event/late-night-happy-hour/2026-04-21/
LOCATION:Hops & Drops\, 5414 Point Fosdick Dr\, Gig Harbor\, WA\, 98335
CATEGORIES:Food & Drink,Happy Hour
END:VEVENT
BEGIN:VEVENT
DTSTART;TZID=America/Los_Angeles:20260422T080000
DTEND;TZID=America/Los_Angeles:20260430T190000
DTSTAMP:20260419T173633
CREATED:20260330T032204Z
LAST-MODIFIED:20260330T032247Z
UID:10055142-1776844800-1777575600@gigharborcommunity.com
SUMMARY:Great Sasquatch Hunt
DESCRIPTION:Join our park-wide Sasquatch-themed scavenger hunt with family and friends and see if you can track down this mysterious creature. The elusive hominid will move to a different park each week in April\, so venture out to the parks and discover him yourself! \n\n\nPassports are available at each park location. When you find all of the Sasquatches\, turn your passport in at the PenMet Parks Recreation Center\, 2524 14th Ave NW\, for a special prize! \nSubject to park hours. \nSasquatch will be at the following parks on the following weeks: \n\nApril 1-7: Sehmel Homestead Park\nApril 8-14: Harbor Family Park\nApril 15-21: Sunrise Beach Park\nApril 22-30: McCormick Forest Park
URL:https://gigharborcommunity.com/event/great-sasquatch-hunt-2/
LOCATION:McCormick Woods\, 5155 McCormick Woods Dr SW\, Port Orchard\, WA\, 98367
CATEGORIES:Kids & Family,Outdoor Events & Festivals
END:VEVENT
BEGIN:VEVENT
DTSTART;TZID=America/Los_Angeles:20260422T140000
DTEND;TZID=America/Los_Angeles:20260422T171500
DTSTAMP:20260419T173633
CREATED:20250313T193423Z
LAST-MODIFIED:20250704T153708Z
UID:10043819-1776866400-1776878100@gigharborcommunity.com
SUMMARY:Happy Hour at Greenhouse
DESCRIPTION:
URL:https://gigharborcommunity.com/event/happy-hour-at-greenhouse-2/2026-04-22/
LOCATION:Greenhouse Restaurant\, 4793 Point Fosdick Dr #400\, Gig Harbor\, WA\, 98335
CATEGORIES:Food & Drink,Happy Hour
END:VEVENT
BEGIN:VEVENT
DTSTART;TZID=America/Los_Angeles:20260422T140000
DTEND;TZID=America/Los_Angeles:20260422T180000
DTSTAMP:20260419T173633
CREATED:20250704T161459Z
LAST-MODIFIED:20250704T161459Z
UID:10048895-1776866400-1776880800@gigharborcommunity.com
SUMMARY:Happy Hour at Hops & Drops
DESCRIPTION:
URL:https://gigharborcommunity.com/event/happy-hour-at-hops-drops/2026-04-22/
LOCATION:Hops & Drops\, 5414 Point Fosdick Dr\, Gig Harbor\, WA\, 98335
CATEGORIES:Food & Drink,Happy Hour
END:VEVENT
BEGIN:VEVENT
DTSTART;TZID=America/Los_Angeles:20260422T150000
DTEND;TZID=America/Los_Angeles:20260422T170000
DTSTAMP:20260419T173633
CREATED:20250704T161023Z
LAST-MODIFIED:20250704T161023Z
UID:10047944-1776870000-1776877200@gigharborcommunity.com
SUMMARY:Harbor Hour at Table 47
DESCRIPTION:
URL:https://gigharborcommunity.com/event/harbor-hour-at-table-47-2/2026-04-22/
LOCATION:Table 47\, 5268 Point Fosdick Dr\, Gig Harbor\, WA\, 98335
CATEGORIES:Food & Drink,Happy Hour
END:VEVENT
BEGIN:VEVENT
DTSTART;TZID=America/Los_Angeles:20260422T150000
DTEND;TZID=America/Los_Angeles:20260422T180000
DTSTAMP:20260419T173633
CREATED:20250313T192408Z
LAST-MODIFIED:20250704T160326Z
UID:10047723-1776870000-1776880800@gigharborcommunity.com
SUMMARY:Happy Hour at Blue Agave
DESCRIPTION:
URL:https://gigharborcommunity.com/event/happy-hour-at-blue-agave-2/2026-04-22/
LOCATION:Blue Agave Mexican Grill & Tequila Bar\, 4729 Point Fosdick Dr\, Gig Harbor\, WA\, 98335
CATEGORIES:Food & Drink,Happy Hour
END:VEVENT
BEGIN:VEVENT
DTSTART;TZID=America/Los_Angeles:20260422T150000
DTEND;TZID=America/Los_Angeles:20260422T180000
DTSTAMP:20260419T173633
CREATED:20250704T155120Z
LAST-MODIFIED:20250704T155120Z
UID:10045550-1776870000-1776880800@gigharborcommunity.com
SUMMARY:Happy Hour at PV
DESCRIPTION:
URL:https://gigharborcommunity.com/event/happy-hour-at-pv/2026-04-22/
LOCATION:Puerto Vallarta Family Mexican Restaurant\, 4225 Harborview Drive\, Gig Harbor\, WA\, 98332
CATEGORIES:Food & Drink,Happy Hour
END:VEVENT
BEGIN:VEVENT
DTSTART;TZID=America/Los_Angeles:20260422T150000
DTEND;TZID=America/Los_Angeles:20260422T180000
DTSTAMP:20260419T173633
CREATED:20250704T155920Z
LAST-MODIFIED:20250704T155920Z
UID:10047376-1776870000-1776880800@gigharborcommunity.com
SUMMARY:Happy Hour at Hackers
DESCRIPTION:
URL:https://gigharborcommunity.com/event/happy-hour-at-hackers-3/2026-04-22/
LOCATION:Hackers Bar & Grill\, 3604 22nd Ave NW\, Gig Harbor\, WA\, 98335
CATEGORIES:Food & Drink,Happy Hour
END:VEVENT
BEGIN:VEVENT
DTSTART;TZID=America/Los_Angeles:20260422T150000
DTEND;TZID=America/Los_Angeles:20260422T200000
DTSTAMP:20260419T173633
CREATED:20250704T204842Z
LAST-MODIFIED:20250704T204903Z
UID:10050959-1776870000-1776888000@gigharborcommunity.com
SUMMARY:Winesday
DESCRIPTION:Day of the week\, typically on Wednesday when friends get together\, share a few glasses of wine and unwind. \n“I had a rough day today… Thank goodness it’s Winesday!” \n\n$3 off wine by the glass\n$5 off wine bottles\n\nSee you every Winesday!
URL:https://gigharborcommunity.com/event/winesday-2/2026-04-22/
LOCATION:The Beer Vault & Wine Bar\, 14004 Purdy Dr\, Gig Harbor\, WA\, 98332
CATEGORIES:Discount Days,Food & Drink
END:VEVENT
BEGIN:VEVENT
DTSTART;TZID=America/Los_Angeles:20260422T153000
DTEND;TZID=America/Los_Angeles:20260422T173000
DTSTAMP:20260419T173633
CREATED:20250704T153932Z
LAST-MODIFIED:20250704T154232Z
UID:10044005-1776871800-1776879000@gigharborcommunity.com
SUMMARY:Happy Hour at Massimo
DESCRIPTION:
URL:https://gigharborcommunity.com/event/happy-hour-at-massimo-2-3/2026-04-22/
LOCATION:Massimo Italian Bar & Grill\, 13802 Purdy Dr\, Gig Harbor\, WA\, 98332
CATEGORIES:Food & Drink,Happy Hour
END:VEVENT
END:VCALENDAR